Index of /checkResults/devel/bioc-LATEST/CluMSID/raw-results/merida1
Name
Last modified
Size
Description
Parent Directory
-
install-summary.dcf
12-Jun-2024 04:41
269
buildsrc-summary.dcf
12-Jun-2024 04:41
344
install-out.txt
12-Jun-2024 04:41
1.3K
buildsrc-out.txt
12-Jun-2024 04:41
2.7K