Index of /checkResults/devel/bioc-LATEST/CluMSID/raw-results/kjohnson1
Name
Last modified
Size
Description
Parent Directory
-
buildsrc-summary.dcf
12-Jun-2024 04:42
344
buildsrc-out.txt
12-Jun-2024 04:42
2.6K
install-summary.dcf
12-Jun-2024 04:42
269
install-out.txt
12-Jun-2024 04:42
1.3K