Name | Last modified | Size | Description | |
---|---|---|---|---|
Parent Directory | - | |||
install-summary.dcf | 29-Jun-2024 00:37 | 265 | ||
install-out.txt | 29-Jun-2024 00:37 | 1.8K | ||
checksrc-summary.dcf | 29-Jun-2024 00:37 | 432 | ||
checksrc-out.txt | 29-Jun-2024 00:37 | 11K | ||
buildsrc-summary.dcf | 29-Jun-2024 00:37 | 432 | ||
buildsrc-out.txt | 29-Jun-2024 00:37 | 935 | ||