Name | Last modified | Size | Description | |
---|---|---|---|---|
Parent Directory | - | |||
buildbin-out.txt | 12-Jun-2024 04:40 | 1.1K | ||
buildbin-summary.dcf | 12-Jun-2024 04:40 | 534 | ||
buildsrc-out.txt | 12-Jun-2024 04:40 | 914 | ||
buildsrc-summary.dcf | 12-Jun-2024 04:40 | 465 | ||
checksrc-out.txt | 12-Jun-2024 04:40 | 3.7K | ||
checksrc-summary.dcf | 12-Jun-2024 04:40 | 459 | ||
install-out.txt | 12-Jun-2024 04:40 | 1.0K | ||
install-summary.dcf | 12-Jun-2024 04:40 | 274 | ||