Index of /checkResults/devel/bioc-LATEST/CellaRepertorium/raw-results/palomino4
Name
Last modified
Size
Description
Parent Directory
-
install-out.txt
12-Jun-2024 04:40
7.5K
install-summary.dcf
12-Jun-2024 04:40
286
buildsrc-out.txt
12-Jun-2024 04:40
1.6K
buildsrc-summary.dcf
12-Jun-2024 04:40
396