Index of /checkResults/devel/bioc-LATEST/CellaRepertorium/raw-results/nebbiolo2
Name
Last modified
Size
Description
Parent Directory
-
install-summary.dcf
06-Jul-2024 00:38
277
install-out.txt
06-Jul-2024 00:38
8.4K
buildsrc-summary.dcf
06-Jul-2024 00:38
357
buildsrc-out.txt
06-Jul-2024 00:38
1.5K