Index of /checkResults/devel/bioc-LATEST/CellaRepertorium/raw-results/merida1
Name
Last modified
Size
Description
Parent Directory
-
install-summary.dcf
12-Jun-2024 04:41
287
buildsrc-summary.dcf
12-Jun-2024 04:41
362
buildsrc-out.txt
12-Jun-2024 04:41
1.7K
install-out.txt
12-Jun-2024 04:41
4.0K