Index of /checkResults/devel/bioc-LATEST/CellaRepertorium/raw-results/lconway
Name
Last modified
Size
Description
Parent Directory
-
buildsrc-out.txt
06-Jul-2024 00:41
1.7K
buildsrc-summary.dcf
06-Jul-2024 00:41
361
install-out.txt
06-Jul-2024 00:41
4.0K
install-summary.dcf
06-Jul-2024 00:41
287