Index of /checkResults/devel/bioc-LATEST/CellaRepertorium/raw-results/kunpeng2
Name
Last modified
Size
Description
Parent Directory
-
buildsrc-out.txt
06-Jul-2024 00:44
1.5K
buildsrc-summary.dcf
06-Jul-2024 00:44
340
install-out.txt
06-Jul-2024 00:44
7.8K
install-summary.dcf
06-Jul-2024 00:44
265