Index of /checkResults/devel/bioc-LATEST/CellaRepertorium/raw-results/kjohnson3
Name
Last modified
Size
Description
Parent Directory
-
buildsrc-out.txt
06-Jul-2024 00:42
1.6K
buildsrc-summary.dcf
06-Jul-2024 00:42
361
install-out.txt
06-Jul-2024 00:42
4.1K
install-summary.dcf
06-Jul-2024 00:42
287