Index of /checkResults/devel/bioc-LATEST/CellaRepertorium/raw-results/kjohnson1
Name
Last modified
Size
Description
Parent Directory
-
buildsrc-summary.dcf
12-Jun-2024 04:42
362
buildsrc-out.txt
12-Jun-2024 04:42
1.6K
install-out.txt
12-Jun-2024 04:42
4.1K
install-summary.dcf
12-Jun-2024 04:42
287