Name | Last modified | Size | Description | |
---|---|---|---|---|
Parent Directory | - | |||
checksrc-out.txt | 12-Jul-2024 01:00 | 3.1K | ||
buildbin-out.txt | 12-Jul-2024 01:00 | 1.1K | ||
install-out.txt | 12-Jul-2024 01:00 | 1.0K | ||
buildsrc-out.txt | 12-Jul-2024 01:00 | 910 | ||
buildbin-summary.dcf | 12-Jul-2024 01:00 | 527 | ||
checksrc-summary.dcf | 12-Jul-2024 01:00 | 463 | ||
buildsrc-summary.dcf | 12-Jul-2024 01:00 | 463 | ||
install-summary.dcf | 12-Jul-2024 01:00 | 276 | ||