Name | Last modified | Size | Description | |
---|---|---|---|---|
Parent Directory | - | |||
install-out.txt | 12-Jun-2024 04:40 | 965 | ||
install-summary.dcf | 12-Jun-2024 04:40 | 270 | ||
buildsrc-out.txt | 12-Jun-2024 04:40 | 904 | ||
buildsrc-summary.dcf | 12-Jun-2024 04:40 | 457 | ||
checksrc-out.txt | 12-Jun-2024 04:40 | 3.1K | ||
checksrc-summary.dcf | 12-Jun-2024 04:40 | 451 | ||
buildbin-summary.dcf | 12-Jun-2024 04:40 | 521 | ||
buildbin-out.txt | 12-Jun-2024 04:40 | 1.1K | ||