Name | Last modified | Size | Description | |
---|---|---|---|---|
Parent Directory | - | |||
info.dcf | 12-Jul-2024 00:58 | 265 | ||
palomino6/ | 12-Jul-2024 01:00 | - | ||
palomino4/ | 12-Jun-2024 04:40 | - | ||
nebbiolo2/ | 12-Jul-2024 00:59 | - | ||
merida1/ | 12-Jun-2024 04:41 | - | ||
lconway/ | 12-Jul-2024 01:00 | - | ||
kunpeng2/ | 09-Jul-2024 00:44 | - | ||
kjohnson3/ | 09-Jul-2024 00:43 | - | ||
kjohnson1/ | 12-Jun-2024 04:42 | - | ||