Name | Last modified | Size | Description | |
---|---|---|---|---|
Parent Directory | - | |||
install-summary.dcf | 17-Jul-2024 00:40 | 279 | ||
install-out.txt | 17-Jul-2024 00:40 | 4.1K | ||
checksrc-summary.dcf | 17-Jul-2024 00:40 | 468 | ||
checksrc-out.txt | 17-Jul-2024 00:40 | 4.0K | ||
buildsrc-summary.dcf | 17-Jul-2024 00:40 | 468 | ||
buildsrc-out.txt | 17-Jul-2024 00:40 | 891 | ||
buildbin-summary.dcf | 17-Jul-2024 00:40 | 536 | ||
buildbin-out.txt | 17-Jul-2024 00:40 | 4.3K | ||