Name | Last modified | Size | Description | |
---|---|---|---|---|
Parent Directory | - | |||
install-out.txt | 12-Jun-2024 04:41 | 2.1K | ||
install-summary.dcf | 12-Jun-2024 04:41 | 274 | ||
buildsrc-summary.dcf | 12-Jun-2024 04:41 | 434 | ||
buildsrc-out.txt | 12-Jun-2024 04:41 | 857 | ||
checksrc-out.txt | 12-Jun-2024 04:41 | 4.3K | ||
checksrc-summary.dcf | 12-Jun-2024 04:41 | 458 | ||
buildbin-summary.dcf | 12-Jun-2024 04:41 | 545 | ||
buildbin-out.txt | 12-Jun-2024 04:41 | 4.3K | ||