Name | Last modified | Size | Description | |
---|---|---|---|---|
Parent Directory | - | |||
buildbin-out.txt | 20-Jun-2024 01:11 | 24K | ||
buildbin-summary.dcf | 20-Jun-2024 01:11 | 512 | ||
buildsrc-out.txt | 20-Jun-2024 01:11 | 1.4K | ||
buildsrc-summary.dcf | 20-Jun-2024 01:11 | 417 | ||
checksrc-out.txt | 20-Jun-2024 01:11 | 8.1K | ||
checksrc-summary.dcf | 20-Jun-2024 01:11 | 436 | ||
install-out.txt | 20-Jun-2024 01:11 | 22K | ||
install-summary.dcf | 20-Jun-2024 01:11 | 263 | ||