Index of /checkResults/devel/bioc-LATEST/CHRONOS/raw-results/kjohnson3
Name
Last modified
Size
Description
Parent Directory
-
install-out.txt
06-Jul-2024 00:42
1.0K
install-summary.dcf
06-Jul-2024 00:42
269
buildsrc-out.txt
06-Jul-2024 00:42
653
buildsrc-summary.dcf
06-Jul-2024 00:42
350