Index of /checkResults/devel/bioc-LATEST/CHRONOS/raw-results/kjohnson1
Name
Last modified
Size
Description
Parent Directory
-
buildsrc-summary.dcf
12-Jun-2024 04:42
350
buildsrc-out.txt
12-Jun-2024 04:42
653
install-summary.dcf
12-Jun-2024 04:42
269
install-out.txt
12-Jun-2024 04:42
1.0K