Name | Last modified | Size | Description | |
---|---|---|---|---|
Parent Directory | - | |||
install-summary.dcf | 12-Jul-2024 01:00 | 290 | ||
install-out.txt | 12-Jul-2024 01:00 | 2.4K | ||
checksrc-summary.dcf | 12-Jul-2024 01:00 | 497 | ||
checksrc-out.txt | 12-Jul-2024 01:00 | 4.3K | ||
buildsrc-summary.dcf | 12-Jul-2024 01:00 | 488 | ||
buildsrc-out.txt | 12-Jul-2024 01:00 | 945 | ||
buildbin-summary.dcf | 12-Jul-2024 01:00 | 569 | ||
buildbin-out.txt | 12-Jul-2024 01:00 | 2.6K | ||