Name | Last modified | Size | Description | |
---|---|---|---|---|
Parent Directory | - | |||
install-summary.dcf | 06-Jul-2024 00:44 | 266 | ||
install-out.txt | 06-Jul-2024 00:44 | 964 | ||
checksrc-summary.dcf | 06-Jul-2024 00:44 | 447 | ||
checksrc-out.txt | 06-Jul-2024 00:44 | 4.9K | ||
buildsrc-summary.dcf | 06-Jul-2024 00:44 | 434 | ||
buildsrc-out.txt | 06-Jul-2024 00:44 | 833 | ||