Name | Last modified | Size | Description | |
---|---|---|---|---|
Parent Directory | - | |||
install-out.txt | 06-Jul-2024 00:39 | 13K | ||
install-summary.dcf | 06-Jul-2024 00:39 | 276 | ||
buildsrc-summary.dcf | 06-Jul-2024 00:39 | 462 | ||
buildsrc-out.txt | 06-Jul-2024 00:39 | 942 | ||
checksrc-out.txt | 06-Jul-2024 00:39 | 11K | ||
checksrc-summary.dcf | 06-Jul-2024 00:39 | 469 | ||
buildbin-out.txt | 06-Jul-2024 00:39 | 13K | ||
buildbin-summary.dcf | 06-Jul-2024 00:39 | 526 | ||