Name | Last modified | Size | Description | |
---|---|---|---|---|
Parent Directory | - | |||
install-summary.dcf | 06-Jul-2024 00:39 | 272 | ||
install-out.txt | 06-Jul-2024 00:39 | 3.0K | ||
checksrc-summary.dcf | 06-Jul-2024 00:39 | 455 | ||
checksrc-out.txt | 06-Jul-2024 00:39 | 4.6K | ||
buildsrc-summary.dcf | 06-Jul-2024 00:39 | 455 | ||
buildsrc-out.txt | 06-Jul-2024 00:39 | 905 | ||
buildbin-summary.dcf | 06-Jul-2024 00:39 | 515 | ||
buildbin-out.txt | 06-Jul-2024 00:39 | 3.1K | ||