Name | Last modified | Size | Description | |
---|---|---|---|---|
Parent Directory | - | |||
checksrc-out.txt | 06-Jul-2024 00:38 | 5.5K | ||
install-out.txt | 06-Jul-2024 00:38 | 1.5K | ||
buildsrc-out.txt | 06-Jul-2024 00:38 | 967 | ||
buildsrc-summary.dcf | 06-Jul-2024 00:38 | 433 | ||
checksrc-summary.dcf | 06-Jul-2024 00:38 | 426 | ||
install-summary.dcf | 06-Jul-2024 00:38 | 265 | ||