Name | Last modified | Size | Description | |
---|---|---|---|---|
Parent Directory | - | |||
buildbin-out.txt | 05-Jun-2024 03:35 | 3.7K | ||
buildbin-summary.dcf | 05-Jun-2024 03:35 | 548 | ||
buildsrc-out.txt | 12-Jun-2024 04:41 | 1.6K | ||
buildsrc-summary.dcf | 12-Jun-2024 04:41 | 350 | ||
checksrc-out.txt | 05-Jun-2024 03:35 | 5.7K | ||
checksrc-summary.dcf | 05-Jun-2024 03:35 | 456 | ||
install-out.txt | 12-Jun-2024 04:41 | 1.7K | ||
install-summary.dcf | 12-Jun-2024 04:41 | 275 | ||