Index of /checkResults/devel/bioc-LATEST/BUScorrect/raw-results/kjohnson1
Name
Last modified
Size
Description
Parent Directory
-
install-summary.dcf
12-Jun-2024 04:42
275
buildsrc-summary.dcf
12-Jun-2024 04:42
350
buildsrc-out.txt
12-Jun-2024 04:42
1.6K
install-out.txt
12-Jun-2024 04:42
1.7K