Name | Last modified | Size | Description | |
---|---|---|---|---|
Parent Directory | - | |||
buildbin-out.txt | 12-Jun-2024 04:40 | 2.3K | ||
buildbin-summary.dcf | 12-Jun-2024 04:40 | 491 | ||
buildsrc-out.txt | 12-Jun-2024 04:40 | 911 | ||
buildsrc-summary.dcf | 12-Jun-2024 04:40 | 435 | ||
checksrc-out.txt | 12-Jun-2024 04:40 | 6.5K | ||
checksrc-summary.dcf | 12-Jun-2024 04:40 | 430 | ||
install-out.txt | 12-Jun-2024 04:40 | 2.2K | ||
install-summary.dcf | 12-Jun-2024 04:40 | 260 | ||