Name | Last modified | Size | Description | |
---|---|---|---|---|
Parent Directory | - | |||
buildsrc-out.txt | 16-May-2024 02:46 | 839 | ||
buildsrc-summary.dcf | 16-May-2024 02:46 | 422 | ||
checksrc-out.txt | 16-May-2024 02:46 | 3.6K | ||
checksrc-summary.dcf | 16-May-2024 02:46 | 442 | ||
install-out.txt | 16-May-2024 02:46 | 1.5K | ||
install-summary.dcf | 16-May-2024 02:46 | 266 | ||