Name | Last modified | Size | Description | |
---|---|---|---|---|
Parent Directory | - | |||
buildbin-out.txt | 20-Jun-2024 01:11 | 4.9K | ||
buildbin-summary.dcf | 20-Jun-2024 01:11 | 548 | ||
buildsrc-out.txt | 20-Jun-2024 01:11 | 858 | ||
buildsrc-summary.dcf | 20-Jun-2024 01:11 | 436 | ||
checksrc-out.txt | 20-Jun-2024 01:11 | 4.2K | ||
checksrc-summary.dcf | 20-Jun-2024 01:11 | 456 | ||
install-out.txt | 20-Jun-2024 01:11 | 2.7K | ||
install-summary.dcf | 20-Jun-2024 01:11 | 275 | ||