Name | Last modified | Size | Description | |
---|---|---|---|---|
Parent Directory | - | |||
buildsrc-out.txt | 17-Jul-2024 00:38 | 1.0K | ||
buildsrc-summary.dcf | 17-Jul-2024 00:38 | 344 | ||
checksrc-out.txt | 19-Jun-2024 00:51 | 4.6K | ||
checksrc-summary.dcf | 19-Jun-2024 00:51 | 424 | ||
install-out.txt | 17-Jul-2024 00:38 | 961 | ||
install-summary.dcf | 17-Jul-2024 00:38 | 264 | ||