Name | Last modified | Size | Description | |
---|---|---|---|---|
Parent Directory | - | |||
buildbin-out.txt | 12-Jun-2024 04:41 | 1.2K | ||
buildbin-summary.dcf | 12-Jun-2024 04:41 | 546 | ||
buildsrc-out.txt | 12-Jun-2024 04:41 | 890 | ||
buildsrc-summary.dcf | 12-Jun-2024 04:41 | 435 | ||
checksrc-out.txt | 12-Jun-2024 04:41 | 4.9K | ||
checksrc-summary.dcf | 12-Jun-2024 04:41 | 455 | ||
install-out.txt | 12-Jun-2024 04:41 | 1.0K | ||
install-summary.dcf | 12-Jun-2024 04:41 | 275 | ||