Name | Last modified | Size | Description | |
---|---|---|---|---|
Parent Directory | - | |||
install-summary.dcf | 17-Jul-2024 00:41 | 274 | ||
install-out.txt | 17-Jul-2024 00:41 | 1.0K | ||
checksrc-summary.dcf | 19-Jun-2024 00:52 | 454 | ||
checksrc-out.txt | 19-Jun-2024 00:52 | 4.7K | ||
buildsrc-summary.dcf | 17-Jul-2024 00:41 | 348 | ||
buildsrc-out.txt | 17-Jul-2024 00:41 | 1.2K | ||
buildbin-summary.dcf | 19-Jun-2024 00:52 | 543 | ||
buildbin-out.txt | 19-Jun-2024 00:52 | 1.2K | ||