Name | Last modified | Size | Description | |
---|---|---|---|---|
Parent Directory | - | |||
install-summary.dcf | 06-Jul-2024 00:44 | 254 | ||
install-out.txt | 06-Jul-2024 00:44 | 785 | ||
checksrc-summary.dcf | 16-May-2024 02:46 | 462 | ||
checksrc-out.txt | 16-May-2024 02:46 | 4.8K | ||
buildsrc-summary.dcf | 09-Jul-2024 00:44 | 325 | ||
buildsrc-out.txt | 09-Jul-2024 00:44 | 910 | ||