Name | Last modified | Size | Description | |
---|---|---|---|---|
Parent Directory | - | |||
install-summary.dcf | 17-Jul-2024 00:43 | 274 | ||
install-out.txt | 17-Jul-2024 00:43 | 1.0K | ||
checksrc-summary.dcf | 16-Jun-2024 01:35 | 454 | ||
checksrc-out.txt | 16-Jun-2024 01:35 | 4.6K | ||
buildsrc-summary.dcf | 17-Jul-2024 00:43 | 348 | ||
buildsrc-out.txt | 17-Jul-2024 00:43 | 1.1K | ||
buildbin-summary.dcf | 16-Jun-2024 01:35 | 545 | ||
buildbin-out.txt | 16-Jun-2024 01:35 | 1.2K | ||