Back to Workflows build report for BioC 3.9 |
This page was generated on 2019-01-30 16:00:22 -0500 (Wed, 30 Jan 2019).
Package 15/23 | Hostname | OS / Arch | INSTALL | BUILD | ||||||
recountWorkflow 1.7.1 Leonardo Collado-Torres
| malbec2 | Linux (Ubuntu 18.04.1 LTS) / x86_64 | OK | ERROR | ||||||
tokay2 | Windows Server 2012 R2 Standard / x64 | [ OK ] | OK |
Package: recountWorkflow |
Version: 1.7.1 |
Command: C:\cygwin\bin\curl.exe -O https://malbec2.bioconductor.org/BBS/3.9/workflows/src/contrib/recountWorkflow_1.7.1.tar.gz && rm -rf recountWorkflow.buildbin-libdir && mkdir recountWorkflow.buildbin-libdir && C:\Users\biocbuild\bbs-3.9-bioc\R\bin\R.exe CMD INSTALL --merge-multiarch --build --library=recountWorkflow.buildbin-libdir recountWorkflow_1.7.1.tar.gz && C:\Users\biocbuild\bbs-3.9-bioc\R\bin\R.exe CMD INSTALL recountWorkflow_1.7.1.zip && rm recountWorkflow_1.7.1.tar.gz recountWorkflow_1.7.1.zip |
StartedAt: 2019-01-30 09:36:00 -0500 (Wed, 30 Jan 2019) |
EndedAt: 2019-01-30 09:37:42 -0500 (Wed, 30 Jan 2019) |
EllapsedTime: 101.8 seconds |
RetCode: 0 |
Status: OK |
############################################################################## ############################################################################## ### ### Running command: ### ### C:\cygwin\bin\curl.exe -O https://malbec2.bioconductor.org/BBS/3.9/workflows/src/contrib/recountWorkflow_1.7.1.tar.gz && rm -rf recountWorkflow.buildbin-libdir && mkdir recountWorkflow.buildbin-libdir && C:\Users\biocbuild\bbs-3.9-bioc\R\bin\R.exe CMD INSTALL --merge-multiarch --build --library=recountWorkflow.buildbin-libdir recountWorkflow_1.7.1.tar.gz && C:\Users\biocbuild\bbs-3.9-bioc\R\bin\R.exe CMD INSTALL recountWorkflow_1.7.1.zip && rm recountWorkflow_1.7.1.tar.gz recountWorkflow_1.7.1.zip ### ############################################################################## ############################################################################## % Total % Received % Xferd Average Speed Time Time Time Current Dload Upload Total Spent Left Speed 0 0 0 0 0 0 0 0 --:--:-- --:--:-- --:--:-- 0 100 97k 100 97k 0 0 887k 0 --:--:-- --:--:-- --:--:-- 940k install for i386 * installing *source* package 'recountWorkflow' ... ** help No man pages found in package 'recountWorkflow' *** installing help indices ** building package indices ** installing vignettes ** testing if installed package can be loaded install for x64 * installing *source* package 'recountWorkflow' ... ** testing if installed package can be loaded * MD5 sums packaged installation of 'recountWorkflow' as recountWorkflow_1.7.1.zip * DONE (recountWorkflow) * installing to library 'C:/Users/biocbuild/bbs-3.9-bioc/R/library' package 'recountWorkflow' successfully unpacked and MD5 sums checked