Workflows build report for BioC 3.9

This page was generated on 2019-01-30 16:00:23 -0500 (Wed, 30 Jan 2019).

git log

Snapshot Date: 2019-01-30 07:45:05 -0500 (Wed, 30 Jan 2019)

HostnameOSArch (*)Platform label (**)R versionInstalled pkgs
malbec2Linux (Ubuntu 18.04.1 LTS)x86_64x86_64-linux-gnuR Under development (unstable) (2019-01-21 r75999) -- "Unsuffered Consequences" 3421
tokay2Windows Server 2012 R2 Standardx64mingw32 / x86_64-w64-mingw32R Under development (unstable) (2019-01-10 r75962) -- "Unsuffered Consequences" 3250
Click on any hostname to see more info about the system (e.g. compilers)      (*) as reported by 'uname -p', except on Windows and Mac OS X      (**) as reported by 'gcc -v'

Package status is indicated by one of the following glyphs
 TIMEOUT  INSTALL or BUILD of package took more than 120 minutes Use the check boxes to show only packages with the selected status types.
 ERROR  Bad DESCRIPTION file or INSTALL or BUILD of package failed
 OK  INSTALL or BUILD of package was OK
 skipped  CHECK or BUILD BIN of package was skipped because the BUILD step failed
 NA  BUILD result is not available because of an anomaly in the Build System
Click on any glyph in the report below to access the detailed results.
Package propagation status is indicated by one of the following LEDs
YES YES: Package was propagated because it didn't previously exist or version was bumped
NO NO: Package was not propagated because of a problem (impossible dependencies, or version lower than what is already propagated)
UNNEEDED UNNEEDED: Package was not propagated because it is already in the repository with this version. A version bump is required in order to propagate it

A crossed-out package name indicates the package is deprecated


SUMMARYOS / ArchINSTALLBUILD
malbec2 Linux (Ubuntu 18.04.1 LTS) / x86_64 
00230
0518
tokay2 Windows Server 2012 R2 Standard / x64 
00200
0416
Package 1/23HostnameOS / ArchINSTALLBUILD
annotation 1.7.0
Bioconductor Package Maintainer
Last Commit: cfd6560
Last Changed Date: 2018-10-31 14:41:38 -0500
malbec2 Linux (Ubuntu 18.04.1 LTS) / x86_64  OK  ERROR 
tokay2 Windows Server 2012 R2 Standard / x64  OK  OK 
Package 2/23HostnameOS / ArchINSTALLBUILD
arrays 1.9.0
Bioconductor Package Maintainer
Last Commit: 740d4a2
Last Changed Date: 2018-10-31 14:49:13 -0500
malbec2 Linux (Ubuntu 18.04.1 LTS) / x86_64  OK  OK UNNEEDED, same version exists in internal repository
tokay2 Windows Server 2012 R2 Standard / x64  OK  OK 
Package 3/23HostnameOS / ArchINSTALLBUILD
BiocMetaWorkflow 1.5.0
Mike Smith
Last Commit: 0fd86eb
Last Changed Date: 2018-10-31 14:53:05 -0500
malbec2 Linux (Ubuntu 18.04.1 LTS) / x86_64  OK  ERROR 
tokay2 Windows Server 2012 R2 Standard / x64  OK  ERROR 
Package 4/23HostnameOS / ArchINSTALLBUILD
chipseqDB 1.7.5
Aaron Lun
Last Commit: 787ea4b
Last Changed Date: 2019-01-20 04:46:57 -0500
malbec2 Linux (Ubuntu 18.04.1 LTS) / x86_64  OK  ERROR 
tokay2 Windows Server 2012 R2 Standard / x64 ...NOT SUPPORTED...
Package 5/23HostnameOS / ArchINSTALLBUILD
cytofWorkflow 1.7.1
Malgorzata Nowicka
Last Commit: 3d6208b
Last Changed Date: 2019-01-08 11:02:54 -0500
malbec2 Linux (Ubuntu 18.04.1 LTS) / x86_64  OK  ERROR 
tokay2 Windows Server 2012 R2 Standard / x64  OK  ERROR 
Package 6/23HostnameOS / ArchINSTALLBUILD
EGSEA123 1.7.1
Matthew Ritchie
Last Commit: cb5d2e4
Last Changed Date: 2019-01-08 11:03:01 -0500
malbec2 Linux (Ubuntu 18.04.1 LTS) / x86_64  OK  OK UNNEEDED, same version exists in internal repository
tokay2 Windows Server 2012 R2 Standard / x64  OK  OK 
Package 7/23HostnameOS / ArchINSTALLBUILD
eQTL 1.7.0
Vincent Carey
Last Commit: 59d0a02
Last Changed Date: 2018-10-31 14:57:34 -0500
malbec2 Linux (Ubuntu 18.04.1 LTS) / x86_64  OK  OK UNNEEDED, same version exists in internal repository
tokay2 Windows Server 2012 R2 Standard / x64  OK  OK 
Package 8/23HostnameOS / ArchINSTALLBUILD
ExpressionNormalizationWorkflow 1.9.1
Karthikeyan Murugesan
Last Commit: 0ab1c91
Last Changed Date: 2019-01-08 11:01:23 -0500
malbec2 Linux (Ubuntu 18.04.1 LTS) / x86_64  OK  OK UNNEEDED, same version exists in internal repository
tokay2 Windows Server 2012 R2 Standard / x64  OK  OK 
Package 9/23HostnameOS / ArchINSTALLBUILD
generegulation 1.7.0
Bioconductor Package Maintainer
Last Commit: 0dc0f65
Last Changed Date: 2018-10-31 14:53:39 -0500
malbec2 Linux (Ubuntu 18.04.1 LTS) / x86_64  OK  OK UNNEEDED, same version exists in internal repository
tokay2 Windows Server 2012 R2 Standard / x64  OK  OK 
Package 10/23HostnameOS / ArchINSTALLBUILD
highthroughputassays 1.7.1
Bioconductor Package Maintainer
Last Commit: 0ab561c
Last Changed Date: 2019-01-08 11:09:08 -0500
malbec2 Linux (Ubuntu 18.04.1 LTS) / x86_64  OK  OK UNNEEDED, same version exists in internal repository
tokay2 Windows Server 2012 R2 Standard / x64 ...NOT SUPPORTED...
Package 11/23HostnameOS / ArchINSTALLBUILD
liftOver 1.7.0
Bioconductor Package Maintainer
Last Commit: ec92d66
Last Changed Date: 2018-10-31 14:53:59 -0500
malbec2 Linux (Ubuntu 18.04.1 LTS) / x86_64  OK  OK UNNEEDED, same version exists in internal repository
tokay2 Windows Server 2012 R2 Standard / x64  OK  OK 
Package 12/23HostnameOS / ArchINSTALLBUILD
maEndToEnd 2.3.0
Bernd Klaus
Last Commit: 8388c0a
Last Changed Date: 2018-10-31 14:55:52 -0500
malbec2 Linux (Ubuntu 18.04.1 LTS) / x86_64  OK  OK UNNEEDED, same version exists in internal repository
tokay2 Windows Server 2012 R2 Standard / x64  OK  OK 
Package 13/23HostnameOS / ArchINSTALLBUILD
methylationArrayAnalysis 1.7.0
Jovana Maksimovic
Last Commit: 026e5c2
Last Changed Date: 2018-10-31 15:07:31 -0500
malbec2 Linux (Ubuntu 18.04.1 LTS) / x86_64  OK  OK UNNEEDED, same version exists in internal repository
tokay2 Windows Server 2012 R2 Standard / x64  OK  OK 
Package 14/23HostnameOS / ArchINSTALLBUILD
proteomics 1.7.1
Laurent Gatto
Last Commit: 11ea534
Last Changed Date: 2019-01-08 11:01:32 -0500
malbec2 Linux (Ubuntu 18.04.1 LTS) / x86_64  OK  OK UNNEEDED, same version exists in internal repository
tokay2 Windows Server 2012 R2 Standard / x64  OK  ERROR 
Package 15/23HostnameOS / ArchINSTALLBUILD
recountWorkflow 1.7.1
Leonardo Collado-Torres
Last Commit: 01d8ce8
Last Changed Date: 2018-11-16 11:00:24 -0500
malbec2 Linux (Ubuntu 18.04.1 LTS) / x86_64  OK  ERROR 
tokay2 Windows Server 2012 R2 Standard / x64  OK  OK 
Package 16/23HostnameOS / ArchINSTALLBUILD
RNAseq123 1.7.2
Matthew Ritchie
Last Commit: cca6d6c
Last Changed Date: 2018-12-21 08:47:30 -0500
malbec2 Linux (Ubuntu 18.04.1 LTS) / x86_64  OK  OK UNNEEDED, same version exists in internal repository
tokay2 Windows Server 2012 R2 Standard / x64  OK  OK 
Package 17/23HostnameOS / ArchINSTALLBUILD
rnaseqDTU 1.3.1
Michael Love
Last Commit: 6ccc0de
Last Changed Date: 2018-12-03 09:39:41 -0500
malbec2 Linux (Ubuntu 18.04.1 LTS) / x86_64  OK  OK UNNEEDED, same version exists in internal repository
tokay2 Windows Server 2012 R2 Standard / x64  OK  OK 
Package 18/23HostnameOS / ArchINSTALLBUILD
rnaseqGene 1.7.1
Michael Love
Last Commit: 2ddcc33
Last Changed Date: 2018-12-03 09:39:55 -0500
malbec2 Linux (Ubuntu 18.04.1 LTS) / x86_64  OK  OK UNNEEDED, same version exists in internal repository
tokay2 Windows Server 2012 R2 Standard / x64  OK  OK 
Package 19/23HostnameOS / ArchINSTALLBUILD
RnaSeqGeneEdgeRQL 1.7.1
Yunshun Chen
Last Commit: e48dd60
Last Changed Date: 2018-12-02 19:05:06 -0500
malbec2 Linux (Ubuntu 18.04.1 LTS) / x86_64  OK  OK UNNEEDED, same version exists in internal repository
tokay2 Windows Server 2012 R2 Standard / x64  OK  OK 
Package 20/23HostnameOS / ArchINSTALLBUILD
sequencing 1.7.1
Martin Morgan
Last Commit: 4837c93
Last Changed Date: 2019-01-08 10:59:18 -0500
malbec2 Linux (Ubuntu 18.04.1 LTS) / x86_64  OK  OK UNNEEDED, same version exists in internal repository
tokay2 Windows Server 2012 R2 Standard / x64  OK  OK 
Package 21/23HostnameOS / ArchINSTALLBUILD
simpleSingleCell 1.7.15
Aaron Lun
Last Commit: eccafb8
Last Changed Date: 2019-01-27 05:44:50 -0500
malbec2 Linux (Ubuntu 18.04.1 LTS) / x86_64  OK  OK YES, new version is higher than in internal repository
tokay2 Windows Server 2012 R2 Standard / x64 ...NOT SUPPORTED...
Package 22/23HostnameOS / ArchINSTALLBUILD
TCGAWorkflow 1.7.0
Tiago Chedraoui Silva
Last Commit: b205f76
Last Changed Date: 2018-12-13 12:11:16 -0500
malbec2 Linux (Ubuntu 18.04.1 LTS) / x86_64  OK  OK UNNEEDED, same version exists in internal repository
tokay2 Windows Server 2012 R2 Standard / x64  OK  ERROR 
Package 23/23HostnameOS / ArchINSTALLBUILD
variants 1.7.1
Bioconductor Package Maintainer
Last Commit: b5805e8
Last Changed Date: 2019-01-08 11:01:16 -0500
malbec2 Linux (Ubuntu 18.04.1 LTS) / x86_64  OK  OK UNNEEDED, same version exists in internal repository
tokay2 Windows Server 2012 R2 Standard / x64  OK  OK