Back to Multiple platform build/check report for BioC 3.9
AB[C]DEFGHIJKLMNOPQRSTUVWXYZ

INSTALL report for CellMapper on celaya2

This page was generated on 2019-05-24 12:36:00 -0400 (Fri, 24 May 2019).

Package 230/1741HostnameOS / ArchINSTALLBUILDCHECKBUILD BIN
CellMapper 1.10.0
Brad Nelms
Snapshot Date: 2019-05-23 17:01:43 -0400 (Thu, 23 May 2019)
URL: https://git.bioconductor.org/packages/CellMapper
Branch: RELEASE_3_9
Last Commit: 9287905
Last Changed Date: 2019-05-02 11:54:03 -0400 (Thu, 02 May 2019)
malbec2 Linux (Ubuntu 18.04.2 LTS) / x86_64  OK  OK  WARNINGS UNNEEDED, same version exists in internal repository
tokay2 Windows Server 2012 R2 Standard / x64  OK  OK  WARNINGS  OK UNNEEDED, same version exists in internal repository
celaya2 OS X 10.11.6 El Capitan / x86_64 [ OK ] OK  WARNINGS  OK UNNEEDED, same version exists in internal repository

Summary

Package: CellMapper
Version: 1.10.0
Command: /Library/Frameworks/R.framework/Versions/Current/Resources/bin/R CMD INSTALL CellMapper
StartedAt: 2019-05-23 18:09:53 -0400 (Thu, 23 May 2019)
EndedAt: 2019-05-23 18:10:14 -0400 (Thu, 23 May 2019)
EllapsedTime: 21.5 seconds
RetCode: 0
Status:  OK 

Command output

##############################################################################
##############################################################################
###
### Running command:
###
###   /Library/Frameworks/R.framework/Versions/Current/Resources/bin/R CMD INSTALL CellMapper
###
##############################################################################
##############################################################################


* installing to library ‘/Library/Frameworks/R.framework/Versions/3.6/Resources/library’
* installing *source* package ‘CellMapper’ ...
** using staged installation
** R
** data
** inst
** byte-compile and prepare package for lazy loading
Warning: replacing previous import ‘stats::sd’ by ‘S4Vectors::sd’ when loading ‘CellMapper’
Warning: replacing previous import ‘stats::var’ by ‘S4Vectors::var’ when loading ‘CellMapper’
** help
*** installing help indices
** building package indices
** installing vignettes
** testing if installed package can be loaded from temporary location
Warning: replacing previous import ‘stats::sd’ by ‘S4Vectors::sd’ when loading ‘CellMapper’
Warning: replacing previous import ‘stats::var’ by ‘S4Vectors::var’ when loading ‘CellMapper’
** testing if installed package can be loaded from final location
Warning: replacing previous import ‘stats::sd’ by ‘S4Vectors::sd’ when loading ‘CellMapper’
Warning: replacing previous import ‘stats::var’ by ‘S4Vectors::var’ when loading ‘CellMapper’
** testing if installed package keeps a record of temporary installation path
* DONE (CellMapper)