Multiple platform build/check report for BioC 3.9

This page was generated on 2019-04-17 12:36:03 -0400 (Wed, 17 Apr 2019).

git log

Snapshot Date: 2019-04-16 17:01:16 -0400 (Tue, 16 Apr 2019)

HostnameOSArch (*)Platform label (**)R versionInstalled pkgs
malbec2Linux (Ubuntu 18.04.2 LTS)x86_64x86_64-linux-gnu3.6.0 beta (2019-04-14 r76394) -- "Planting of a Tree" 3485
tokay2Windows Server 2012 R2 Standardx64mingw32 / x86_64-w64-mingw323.6.0 beta (2019-04-12 r76385) -- "Planting of a Tree" 3309
celaya2OS X 10.11.6 El Capitanx86_64x86_64-apple-darwin15.6.0R Under development (unstable) (2019-03-18 r76245) -- "Unsuffered Consequences" 3356
Click on any hostname to see more info about the system (e.g. compilers)      (*) as reported by 'uname -p', except on Windows and Mac OS X      (**) as reported by 'gcc -v'

Package status is indicated by one of the following glyphs
 TIMEOUT  INSTALL, BUILD, CHECK or BUILD BIN of package took more than 40 minutes Use the check boxes to show only packages with the selected status types.
 ERROR  Bad DESCRIPTION file or INSTALL, BUILD or BUILD BIN of package failed, or CHECK produced errors
 WARNINGS  CHECK of package produced warnings
 OK  INSTALL, BUILD, CHECK or BUILD BIN of package was OK
 skipped  CHECK or BUILD BIN of package was skipped because the BUILD step failed
 NA  BUILD, CHECK or BUILD BIN result is not available because of an anomaly in the Build System
Click on any glyph in the report below to access the detailed results.
Package propagation status is indicated by one of the following LEDs
YES YES: Package was propagated because it didn't previously exist or version was bumped
NO NO: Package was not propagated because of a problem (impossible dependencies, or version lower than what is already propagated)
UNNEEDED UNNEEDED: Package was not propagated because it is already in the repository with this version. A version bump is required in order to propagate it

A crossed-out package name indicates the package is deprecated


SUMMARYOS / ArchINSTALLBUILDCHECKBUILD BIN
malbec2 Linux (Ubuntu 18.04.2 LTS) / x86_64 
02016860
0521654
1362201397
tokay2 Windows Server 2012 R2 Standard / x64 
01816580
1481627
6493541218
031624
celaya2 OS X 10.11.6 El Capitan / x86_64 
02016790
1601638
3342401361
001638
A
ABCDEFGHIJKLMNOPQRSTUVWXYZ
Package 1/1706HostnameOS / ArchINSTALLBUILDCHECKBUILD BIN
a4 1.31.0
Tobias Verbeke
Last Commit: a53c11e
Last Changed Date: 2018-10-30 11:54:29 -0400
malbec2 Linux (Ubuntu 18.04.2 LTS) / x86_64  OK  OK  OK UNNEEDED, same version exists in internal repository
tokay2 Windows Server 2012 R2 Standard / x64  OK  OK  OK  OK UNNEEDED, same version exists in internal repository
celaya2 OS X 10.11.6 El Capitan / x86_64  OK  OK  OK  OK UNNEEDED, same version exists in internal repository
Package 2/1706HostnameOS / ArchINSTALLBUILDCHECKBUILD BIN
a4Base 1.31.0
Tobias Verbeke
Last Commit: 9b4dfb7
Last Changed Date: 2018-10-30 11:54:29 -0400
malbec2 Linux (Ubuntu 18.04.2 LTS) / x86_64  OK  OK  OK UNNEEDED, same version exists in internal repository
tokay2 Windows Server 2012 R2 Standard / x64  OK  OK  ERROR  OK 
celaya2 OS X 10.11.6 El Capitan / x86_64  OK  OK  OK  OK UNNEEDED, same version exists in internal repository
Package 3/1706HostnameOS / ArchINSTALLBUILDCHECKBUILD BIN
a4Classif 1.31.0
Tobias Verbeke
Last Commit: b920bc2
Last Changed Date: 2018-10-30 11:54:29 -0400
malbec2 Linux (Ubuntu 18.04.2 LTS) / x86_64  OK  OK  OK UNNEEDED, same version exists in internal repository
tokay2 Windows Server 2012 R2 Standard / x64  OK  OK  OK  OK UNNEEDED, same version exists in internal repository
celaya2 OS X 10.11.6 El Capitan / x86_64  OK  OK  OK  OK UNNEEDED, same version exists in internal repository
Package 4/1706HostnameOS / ArchINSTALLBUILDCHECKBUILD BIN
a4Core 1.31.0
Tobias Verbeke
Last Commit: 8d8edf9
Last Changed Date: 2018-10-30 11:54:29 -0400
malbec2 Linux (Ubuntu 18.04.2 LTS) / x86_64  OK  OK  OK UNNEEDED, same version exists in internal repository
tokay2 Windows Server 2012 R2 Standard / x64  OK  OK  OK  OK UNNEEDED, same version exists in internal repository
celaya2 OS X 10.11.6 El Capitan / x86_64  OK  OK  OK  OK UNNEEDED, same version exists in internal repository
Package 5/1706HostnameOS / ArchINSTALLBUILDCHECKBUILD BIN
a4Preproc 1.31.0
Tobias Verbeke
Last Commit: 8c9ed09
Last Changed Date: 2018-10-30 11:54:29 -0400
malbec2 Linux (Ubuntu 18.04.2 LTS) / x86_64  OK  OK  OK UNNEEDED, same version exists in internal repository
tokay2 Windows Server 2012 R2 Standard / x64  OK  OK  OK  OK UNNEEDED, same version exists in internal repository
celaya2 OS X 10.11.6 El Capitan / x86_64  OK  OK  OK  OK UNNEEDED, same version exists in internal repository
Package 6/1706HostnameOS / ArchINSTALLBUILDCHECKBUILD BIN
a4Reporting 1.31.0
Tobias Verbeke , Willem Ligtenberg
Last Commit: 304c72d
Last Changed Date: 2018-10-30 11:54:29 -0400
malbec2 Linux (Ubuntu 18.04.2 LTS) / x86_64  OK  OK  OK UNNEEDED, same version exists in internal repository
tokay2 Windows Server 2012 R2 Standard / x64  OK  OK  OK  OK UNNEEDED, same version exists in internal repository
celaya2 OS X 10.11.6 El Capitan / x86_64  OK  OK  OK  OK UNNEEDED, same version exists in internal repository
Package 7/1706HostnameOS / ArchINSTALLBUILDCHECKBUILD BIN
ABAEnrichment 1.13.1
Steffi Grote
Last Commit: 3ec53e8
Last Changed Date: 2019-04-02 09:07:58 -0400
malbec2 Linux (Ubuntu 18.04.2 LTS) / x86_64  OK  OK  OK UNNEEDED, same version exists in internal repository
tokay2 Windows Server 2012 R2 Standard / x64  OK  OK  OK  OK UNNEEDED, same version exists in internal repository
celaya2 OS X 10.11.6 El Capitan / x86_64  OK  OK  OK  OK UNNEEDED, same version exists in internal repository
Package 8/1706HostnameOS / ArchINSTALLBUILDCHECKBUILD BIN
ABarray 1.51.0
Yongming Andrew Sun
Last Commit: 7db2785
Last Changed Date: 2018-10-30 11:54:27 -0400
malbec2 Linux (Ubuntu 18.04.2 LTS) / x86_64  OK  OK  OK UNNEEDED, same version exists in internal repository
tokay2 Windows Server 2012 R2 Standard / x64  OK  OK  OK  OK UNNEEDED, same version exists in internal repository
celaya2 OS X 10.11.6 El Capitan / x86_64  OK  OK  OK  OK UNNEEDED, same version exists in internal repository
Package 9/1706HostnameOS / ArchINSTALLBUILDCHECKBUILD BIN
abseqR 1.1.0
JiaHong Fong
Last Commit: 9ffba60
Last Changed Date: 2018-10-30 11:54:40 -0400
malbec2 Linux (Ubuntu 18.04.2 LTS) / x86_64  OK  OK  OK UNNEEDED, same version exists in internal repository
tokay2 Windows Server 2012 R2 Standard / x64  OK  OK  OK  OK UNNEEDED, same version exists in internal repository
celaya2 OS X 10.11.6 El Capitan / x86_64  OK  OK  OK  OK UNNEEDED, same version exists in internal repository
Package 10/1706HostnameOS / ArchINSTALLBUILDCHECKBUILD BIN
ABSSeq 1.37.0
Wentao Yang
Last Commit: 1781e4e
Last Changed Date: 2018-10-30 11:54:32 -0400
malbec2 Linux (Ubuntu 18.04.2 LTS) / x86_64  OK  OK  OK UNNEEDED, same version exists in internal repository
tokay2 Windows Server 2012 R2 Standard / x64  OK  OK  OK  OK UNNEEDED, same version exists in internal repository
celaya2 OS X 10.11.6 El Capitan / x86_64  OK  OK  OK  OK UNNEEDED, same version exists in internal repository
Package 11/1706HostnameOS / ArchINSTALLBUILDCHECKBUILD BIN
acde 1.13.0
Juan Pablo Acosta
Last Commit: 63fe302
Last Changed Date: 2018-10-30 11:54:34 -0400
malbec2 Linux (Ubuntu 18.04.2 LTS) / x86_64  OK  OK  OK UNNEEDED, same version exists in internal repository
tokay2 Windows Server 2012 R2 Standard / x64  OK  OK  OK  OK UNNEEDED, same version exists in internal repository
celaya2 OS X 10.11.6 El Capitan / x86_64  OK  OK  OK  OK UNNEEDED, same version exists in internal repository
Package 12/1706HostnameOS / ArchINSTALLBUILDCHECKBUILD BIN
ACE 1.1.1
Jos B Poell
Last Commit: fc7d88f
Last Changed Date: 2018-11-13 08:09:21 -0400
malbec2 Linux (Ubuntu 18.04.2 LTS) / x86_64  OK  OK  OK UNNEEDED, same version exists in internal repository
tokay2 Windows Server 2012 R2 Standard / x64  OK  OK  OK  OK UNNEEDED, same version exists in internal repository
celaya2 OS X 10.11.6 El Capitan / x86_64  OK  OK  OK  OK UNNEEDED, same version exists in internal repository
Package 13/1706HostnameOS / ArchINSTALLBUILDCHECKBUILD BIN
aCGH 1.61.0
Peter Dimitrov
Last Commit: b218a55
Last Changed Date: 2018-10-30 11:54:26 -0400
malbec2 Linux (Ubuntu 18.04.2 LTS) / x86_64  OK  OK  OK UNNEEDED, same version exists in internal repository
tokay2 Windows Server 2012 R2 Standard / x64  OK  OK  OK  OK UNNEEDED, same version exists in internal repository
celaya2 OS X 10.11.6 El Capitan / x86_64  OK  OK  OK  OK UNNEEDED, same version exists in internal repository
Package 14/1706HostnameOS / ArchINSTALLBUILDCHECKBUILD BIN
ACME 2.39.0
Sean Davis
Last Commit: 67dae98
Last Changed Date: 2018-10-30 11:54:27 -0400
malbec2 Linux (Ubuntu 18.04.2 LTS) / x86_64  OK  OK  WARNINGS UNNEEDED, same version exists in internal repository
tokay2 Windows Server 2012 R2 Standard / x64  OK  OK  WARNINGS  OK UNNEEDED, same version exists in internal repository
celaya2 OS X 10.11.6 El Capitan / x86_64  OK  OK  OK  OK UNNEEDED, same version exists in internal repository
Package 15/1706HostnameOS / ArchINSTALLBUILDCHECKBUILD BIN
ADaCGH2 2.23.0
Ramon Diaz-Uriarte
Last Commit: cba986a
Last Changed Date: 2018-10-30 11:54:29 -0400
malbec2 Linux (Ubuntu 18.04.2 LTS) / x86_64  OK  OK  OK UNNEEDED, same version exists in internal repository
tokay2 Windows Server 2012 R2 Standard / x64  OK  OK  OK  OK UNNEEDED, same version exists in internal repository
celaya2 OS X 10.11.6 El Capitan / x86_64  OK  OK  OK  OK UNNEEDED, same version exists in internal repository
Package 16/1706HostnameOS / ArchINSTALLBUILDCHECKBUILD BIN
ADAM 0.99.66
Jose Luiz Rybarczyk Filho
Last Commit: d87ff49
Last Changed Date: 2018-11-15 17:46:12 -0400
malbec2 Linux (Ubuntu 18.04.2 LTS) / x86_64  OK  OK  OK UNNEEDED, same version exists in internal repository
tokay2 Windows Server 2012 R2 Standard / x64  OK  OK  OK  OK UNNEEDED, same version exists in internal repository
celaya2 OS X 10.11.6 El Capitan / x86_64  OK  OK  OK  OK UNNEEDED, same version exists in internal repository
Package 17/1706HostnameOS / ArchINSTALLBUILDCHECKBUILD BIN
adaptest 1.3.0
Weixin Cai
Last Commit: 156e9d8
Last Changed Date: 2018-10-30 11:54:39 -0400
malbec2 Linux (Ubuntu 18.04.2 LTS) / x86_64  OK  OK  OK UNNEEDED, same version exists in internal repository
tokay2 Windows Server 2012 R2 Standard / x64  OK  OK  ERROR  OK 
celaya2 OS X 10.11.6 El Capitan / x86_64  OK  OK  OK  OK UNNEEDED, same version exists in internal repository
Package 18/1706HostnameOS / ArchINSTALLBUILDCHECKBUILD BIN
adductomicsR 0.99.81
Josie Hayes
Last Commit: 7ca9f08
Last Changed Date: 2019-04-14 13:58:37 -0400
malbec2 Linux (Ubuntu 18.04.2 LTS) / x86_64  OK  ERROR  skipped 
tokay2 Windows Server 2012 R2 Standard / x64  OK  ERROR  skipped  skipped 
celaya2 OS X 10.11.6 El Capitan / x86_64  OK  ERROR  skipped  skipped 
Package 19/1706HostnameOS / ArchINSTALLBUILDCHECKBUILD BIN
adSplit 1.53.0
Claudio Lottaz
Last Commit: bbc5ba0
Last Changed Date: 2018-10-30 11:54:27 -0400
malbec2 Linux (Ubuntu 18.04.2 LTS) / x86_64  OK  OK  WARNINGS UNNEEDED, same version exists in internal repository
tokay2 Windows Server 2012 R2 Standard / x64  OK  OK  OK  OK UNNEEDED, same version exists in internal repository
celaya2 OS X 10.11.6 El Capitan / x86_64  OK  OK  WARNINGS  OK UNNEEDED, same version exists in internal repository
Package 20/1706HostnameOS / ArchINSTALLBUILDCHECKBUILD BIN
AffiXcan 1.1.3
Alessandro Lussana
Last Commit: 7bc0abc
Last Changed Date: 2019-03-05 16:10:35 -0400
malbec2 Linux (Ubuntu 18.04.2 LTS) / x86_64  OK  OK  OK UNNEEDED, same version exists in internal repository
tokay2 Windows Server 2012 R2 Standard / x64  OK  OK  OK  OK UNNEEDED, same version exists in internal repository
celaya2 OS X 10.11.6 El Capitan / x86_64  OK  OK  OK  OK UNNEEDED, same version exists in internal repository
Package 21/1706HostnameOS / ArchINSTALLBUILDCHECKBUILD BIN
affxparser 1.55.0
Kasper Daniel Hansen
Last Commit: 92798dc
Last Changed Date: 2018-10-30 11:54:26 -0400
malbec2 Linux (Ubuntu 18.04.2 LTS) / x86_64  OK  OK  WARNINGS UNNEEDED, same version exists in internal repository
tokay2 Windows Server 2012 R2 Standard / x64  OK  OK  OK  OK UNNEEDED, same version exists in internal repository
celaya2 OS X 10.11.6 El Capitan / x86_64  OK  OK  WARNINGS  OK UNNEEDED, same version exists in internal repository
Package 22/1706HostnameOS / ArchINSTALLBUILDCHECKBUILD BIN
affy 1.61.0
Rafael A. Irizarry
Last Commit: 5923c43
Last Changed Date: 2018-10-30 11:54:26 -0400
malbec2 Linux (Ubuntu 18.04.2 LTS) / x86_64  OK  OK  WARNINGS UNNEEDED, same version exists in internal repository
tokay2 Windows Server 2012 R2 Standard / x64  OK  OK  WARNINGS  OK UNNEEDED, same version exists in internal repository
celaya2 OS X 10.11.6 El Capitan / x86_64  OK  OK  WARNINGS  OK UNNEEDED, same version exists in internal repository
Package 23/1706HostnameOS / ArchINSTALLBUILDCHECKBUILD BIN
affycomp 1.59.0
Rafael A. Irizarry
Last Commit: 3bad82b
Last Changed Date: 2018-10-30 11:54:26 -0400
malbec2 Linux (Ubuntu 18.04.2 LTS) / x86_64  OK  OK  OK UNNEEDED, same version exists in internal repository
tokay2 Windows Server 2012 R2 Standard / x64  OK  OK  WARNINGS  OK UNNEEDED, same version exists in internal repository
celaya2 OS X 10.11.6 El Capitan / x86_64  OK  OK  OK  OK UNNEEDED, same version exists in internal repository
Package 24/1706HostnameOS / ArchINSTALLBUILDCHECKBUILD BIN
AffyCompatible 1.43.0
Martin Morgan
Last Commit: ca4aee9
Last Changed Date: 2018-10-30 11:54:27 -0400
malbec2 Linux (Ubuntu 18.04.2 LTS) / x86_64  OK  OK  OK UNNEEDED, same version exists in internal repository
tokay2 Windows Server 2012 R2 Standard / x64  OK  OK  OK  OK UNNEEDED, same version exists in internal repository
celaya2 OS X 10.11.6 El Capitan / x86_64  OK  OK  OK  OK UNNEEDED, same version exists in internal repository
Package 25/1706HostnameOS / ArchINSTALLBUILDCHECKBUILD BIN
affyContam 1.41.0
V. Carey
Last Commit: 7d89d24
Last Changed Date: 2018-10-30 11:54:28 -0400
malbec2 Linux (Ubuntu 18.04.2 LTS) / x86_64  OK  OK  OK UNNEEDED, same version exists in internal repository
tokay2 Windows Server 2012 R2 Standard / x64  OK  OK  OK  OK UNNEEDED, same version exists in internal repository
celaya2 OS X 10.11.6 El Capitan / x86_64  OK  OK  OK  OK UNNEEDED, same version exists in internal repository
Package 26/1706HostnameOS / ArchINSTALLBUILDCHECKBUILD BIN
affycoretools 1.55.0
James W. MacDonald
Last Commit: 9f5be01
Last Changed Date: 2018-10-30 11:54:26 -0400
malbec2 Linux (Ubuntu 18.04.2 LTS) / x86_64  OK  OK  OK UNNEEDED, same version exists in internal repository
tokay2 Windows Server 2012 R2 Standard / x64  OK  OK  WARNINGS  OK UNNEEDED, same version exists in internal repository
celaya2 OS X 10.11.6 El Capitan / x86_64  OK  OK  OK  OK UNNEEDED, same version exists in internal repository
Package 27/1706HostnameOS / ArchINSTALLBUILDCHECKBUILD BIN
AffyExpress 1.49.0
Xuejun Arthur Li
Last Commit: 4b33ef4
Last Changed Date: 2018-10-30 11:54:27 -0400
malbec2 Linux (Ubuntu 18.04.2 LTS) / x86_64  OK  OK  OK UNNEEDED, same version exists in internal repository
tokay2 Windows Server 2012 R2 Standard / x64  OK  OK  OK  OK UNNEEDED, same version exists in internal repository
celaya2 OS X 10.11.6 El Capitan / x86_64  OK  OK  OK  OK UNNEEDED, same version exists in internal repository
Package 28/1706HostnameOS / ArchINSTALLBUILDCHECKBUILD BIN
affyILM 1.35.0
Myriam Kroll and Fabrice Berger
Last Commit: 081281b
Last Changed Date: 2018-10-30 11:54:28 -0400
malbec2 Linux (Ubuntu 18.04.2 LTS) / x86_64  OK  OK  OK UNNEEDED, same version exists in internal repository
tokay2 Windows Server 2012 R2 Standard / x64  OK  OK  OK  OK UNNEEDED, same version exists in internal repository
celaya2 OS X 10.11.6 El Capitan / x86_64  OK  OK  OK  OK UNNEEDED, same version exists in internal repository
Package 29/1706HostnameOS / ArchINSTALLBUILDCHECKBUILD BIN
affyio 1.53.0
Ben Bolstad
Last Commit: 546d10f
Last Changed Date: 2018-10-30 11:54:26 -0400
malbec2 Linux (Ubuntu 18.04.2 LTS) / x86_64  OK  OK  OK UNNEEDED, same version exists in internal repository
tokay2 Windows Server 2012 R2 Standard / x64  OK  OK  OK  OK UNNEEDED, same version exists in internal repository
celaya2 OS X 10.11.6 El Capitan / x86_64  OK  OK  OK  OK UNNEEDED, same version exists in internal repository
Package 30/1706HostnameOS / ArchINSTALLBUILDCHECKBUILD BIN
affylmGUI 1.57.0
Gordon Smyth
Last Commit: 96d69da
Last Changed Date: 2018-10-30 11:54:26 -0400
malbec2 Linux (Ubuntu 18.04.2 LTS) / x86_64  OK  OK  OK UNNEEDED, same version exists in internal repository
tokay2 Windows Server 2012 R2 Standard / x64  OK  OK  OK  OK UNNEEDED, same version exists in internal repository
celaya2 OS X 10.11.6 El Capitan / x86_64  OK  OK  OK  OK UNNEEDED, same version exists in internal repository
Package 31/1706HostnameOS / ArchINSTALLBUILDCHECKBUILD BIN
affyPara 1.43.0
Markus Schmidberger
Last Commit: 9af1c98
Last Changed Date: 2018-10-30 11:54:27 -0400
malbec2 Linux (Ubuntu 18.04.2 LTS) / x86_64  OK  OK  OK UNNEEDED, same version exists in internal repository
tokay2 Windows Server 2012 R2 Standard / x64  OK  OK  OK  OK UNNEEDED, same version exists in internal repository
celaya2 OS X 10.11.6 El Capitan / x86_64  OK  OK  OK  OK UNNEEDED, same version exists in internal repository
Package 32/1706HostnameOS / ArchINSTALLBUILDCHECKBUILD BIN
affypdnn 1.57.0
Laurent Gautier
Last Commit: 24f5dd6
Last Changed Date: 2018-10-30 11:54:26 -0400
malbec2 Linux (Ubuntu 18.04.2 LTS) / x86_64  OK  OK  OK UNNEEDED, same version exists in internal repository
tokay2 Windows Server 2012 R2 Standard / x64  OK  OK  OK  OK UNNEEDED, same version exists in internal repository
celaya2 OS X 10.11.6 El Capitan / x86_64  OK  OK  OK  OK UNNEEDED, same version exists in internal repository
Package 33/1706HostnameOS / ArchINSTALLBUILDCHECKBUILD BIN
affyPLM 1.59.0
Ben Bolstad
Last Commit: f13e03a
Last Changed Date: 2018-10-30 11:54:26 -0400
malbec2 Linux (Ubuntu 18.04.2 LTS) / x86_64  OK  OK  OK UNNEEDED, same version exists in internal repository
tokay2 Windows Server 2012 R2 Standard / x64  OK  OK  OK  OK UNNEEDED, same version exists in internal repository
celaya2 OS X 10.11.6 El Capitan / x86_64  OK  OK  OK  OK UNNEEDED, same version exists in internal repository
Package 34/1706HostnameOS / ArchINSTALLBUILDCHECKBUILD BIN
affyQCReport 1.61.0
Craig Parman
Last Commit: 9f28819
Last Changed Date: 2018-10-30 11:54:26 -0400
malbec2 Linux (Ubuntu 18.04.2 LTS) / x86_64  OK  OK  OK UNNEEDED, same version exists in internal repository
tokay2 Windows Server 2012 R2 Standard / x64  OK  OK  OK  OK UNNEEDED, same version exists in internal repository
celaya2 OS X 10.11.6 El Capitan / x86_64  OK  OK  OK  OK UNNEEDED, same version exists in internal repository
Package 35/1706HostnameOS / ArchINSTALLBUILDCHECKBUILD BIN
AffyRNADegradation 1.29.0
Mario Fasold
Last Commit: f8d54d9
Last Changed Date: 2018-10-30 11:54:30 -0400
malbec2 Linux (Ubuntu 18.04.2 LTS) / x86_64  OK  OK  OK UNNEEDED, same version exists in internal repository
tokay2 Windows Server 2012 R2 Standard / x64  OK  OK  OK  OK UNNEEDED, same version exists in internal repository
celaya2 OS X 10.11.6 El Capitan / x86_64  OK  OK  OK  OK UNNEEDED, same version exists in internal repository
Package 36/1706HostnameOS / ArchINSTALLBUILDCHECKBUILD BIN
AGDEX 1.31.0
Cuilan lani Gao
Last Commit: b2ba2e6
Last Changed Date: 2018-10-30 11:54:29 -0400
malbec2 Linux (Ubuntu 18.04.2 LTS) / x86_64  OK  OK  OK UNNEEDED, same version exists in internal repository
tokay2 Windows Server 2012 R2 Standard / x64  OK  OK  WARNINGS  OK UNNEEDED, same version exists in internal repository
celaya2 OS X 10.11.6 El Capitan / x86_64  OK  OK  OK  OK UNNEEDED, same version exists in internal repository
Package 37/1706HostnameOS / ArchINSTALLBUILDCHECKBUILD BIN
agilp 3.15.0
Benny Chain
Last Commit: 78de031
Last Changed Date: 2018-10-30 11:54:30 -0400
malbec2 Linux (Ubuntu 18.04.2 LTS) / x86_64  OK  OK  OK UNNEEDED, same version exists in internal repository
tokay2 Windows Server 2012 R2 Standard / x64  OK  OK  OK  OK UNNEEDED, same version exists in internal repository
celaya2 OS X 10.11.6 El Capitan / x86_64  OK  OK  OK  OK UNNEEDED, same version exists in internal repository
Package 38/1706HostnameOS / ArchINSTALLBUILDCHECKBUILD BIN
AgiMicroRna 2.33.0
Pedro Lopez-Romero
Last Commit: d2f2aaa
Last Changed Date: 2018-10-30 11:54:28 -0400
malbec2 Linux (Ubuntu 18.04.2 LTS) / x86_64  OK  OK  OK UNNEEDED, same version exists in internal repository
tokay2 Windows Server 2012 R2 Standard / x64  OK  OK  OK  OK UNNEEDED, same version exists in internal repository
celaya2 OS X 10.11.6 El Capitan / x86_64  OK  OK  OK  OK UNNEEDED, same version exists in internal repository
Package 39/1706HostnameOS / ArchINSTALLBUILDCHECKBUILD BIN
AIMS 1.15.1
Eric R Paquet
Last Commit: 5c9c2d8
Last Changed Date: 2019-03-23 10:41:03 -0400
malbec2 Linux (Ubuntu 18.04.2 LTS) / x86_64  OK  OK  OK UNNEEDED, same version exists in internal repository
tokay2 Windows Server 2012 R2 Standard / x64  OK  OK  OK  OK UNNEEDED, same version exists in internal repository
celaya2 OS X 10.11.6 El Capitan / x86_64  OK  OK  OK  OK UNNEEDED, same version exists in internal repository
Package 40/1706HostnameOS / ArchINSTALLBUILDCHECKBUILD BIN
ALDEx2 1.15.4
Greg Gloor
Last Commit: 45209d2
Last Changed Date: 2019-03-01 09:40:35 -0400
malbec2 Linux (Ubuntu 18.04.2 LTS) / x86_64  OK  OK  OK UNNEEDED, same version exists in internal repository
tokay2 Windows Server 2012 R2 Standard / x64  OK  OK  OK  OK UNNEEDED, same version exists in internal repository
celaya2 OS X 10.11.6 El Capitan / x86_64  OK  OK  OK  OK UNNEEDED, same version exists in internal repository
Package 41/1706HostnameOS / ArchINSTALLBUILDCHECKBUILD BIN
alevinQC 0.99.4
Charlotte Soneson
Last Commit: 8dfb13d
Last Changed Date: 2019-03-23 09:18:24 -0400
malbec2 Linux (Ubuntu 18.04.2 LTS) / x86_64  OK  OK  OK UNNEEDED, same version exists in internal repository
tokay2 Windows Server 2012 R2 Standard / x64  OK  OK  OK  OK UNNEEDED, same version exists in internal repository
celaya2 OS X 10.11.6 El Capitan / x86_64  OK  OK  OK  OK UNNEEDED, same version exists in internal repository
Package 42/1706HostnameOS / ArchINSTALLBUILDCHECKBUILD BIN
AllelicImbalance 1.21.2
Jesper R Gadin
Last Commit: 16a3ffe
Last Changed Date: 2019-04-02 07:25:49 -0400
malbec2 Linux (Ubuntu 18.04.2 LTS) / x86_64  OK  OK  OK UNNEEDED, same version exists in internal repository
tokay2 Windows Server 2012 R2 Standard / x64  OK  OK  OK  OK UNNEEDED, same version exists in internal repository
celaya2 OS X 10.11.6 El Capitan / x86_64  OK  OK  OK  OK UNNEEDED, same version exists in internal repository
Package 43/1706HostnameOS / ArchINSTALLBUILDCHECKBUILD BIN
alpine 1.9.0
Michael Love
Last Commit: bb480ba
Last Changed Date: 2018-10-30 11:54:36 -0400
malbec2 Linux (Ubuntu 18.04.2 LTS) / x86_64  OK  OK  OK UNNEEDED, same version exists in internal repository
tokay2 Windows Server 2012 R2 Standard / x64  OK  OK  OK  OK UNNEEDED, same version exists in internal repository
celaya2 OS X 10.11.6 El Capitan / x86_64  OK  OK  OK  OK UNNEEDED, same version exists in internal repository
Package 44/1706HostnameOS / ArchINSTALLBUILDCHECKBUILD BIN
alsace 1.19.0
Ron Wehrens
Last Commit: 3273f76
Last Changed Date: 2018-11-13 03:55:00 -0400
malbec2 Linux (Ubuntu 18.04.2 LTS) / x86_64  OK  OK  OK UNNEEDED, same version exists in internal repository
tokay2 Windows Server 2012 R2 Standard / x64  OK  OK  OK  OK UNNEEDED, same version exists in internal repository
celaya2 OS X 10.11.6 El Capitan / x86_64  OK  OK  OK  OK UNNEEDED, same version exists in internal repository
Package 45/1706HostnameOS / ArchINSTALLBUILDCHECKBUILD BIN
altcdfenvs 2.45.1
Laurent Gautier
Last Commit: f9da1e0
Last Changed Date: 2019-02-25 07:57:32 -0400
malbec2 Linux (Ubuntu 18.04.2 LTS) / x86_64  OK  OK  OK UNNEEDED, same version exists in internal repository
tokay2 Windows Server 2012 R2 Standard / x64  OK  OK  OK  OK UNNEEDED, same version exists in internal repository
celaya2 OS X 10.11.6 El Capitan / x86_64  OK  OK  OK  OK UNNEEDED, same version exists in internal repository
Package 46/1706HostnameOS / ArchINSTALLBUILDCHECKBUILD BIN
AMARETTO 0.99.20
Olivier Gevaert
Last Commit: a59a1b0
Last Changed Date: 2019-03-29 17:00:52 -0400
malbec2 Linux (Ubuntu 18.04.2 LTS) / x86_64  OK  OK  OK UNNEEDED, same version exists in internal repository
tokay2 Windows Server 2012 R2 Standard / x64  OK  OK  OK  OK UNNEEDED, same version exists in internal repository
celaya2 OS X 10.11.6 El Capitan / x86_64  OK  OK  OK  OK UNNEEDED, same version exists in internal repository
Package 47/1706HostnameOS / ArchINSTALLBUILDCHECKBUILD BIN
AMOUNTAIN 1.9.0
Dong Li
Last Commit: 6373b61
Last Changed Date: 2018-10-30 11:54:36 -0400
malbec2 Linux (Ubuntu 18.04.2 LTS) / x86_64  OK  OK  OK UNNEEDED, same version exists in internal repository
tokay2 Windows Server 2012 R2 Standard / x64  OK  OK  OK  OK UNNEEDED, same version exists in internal repository
celaya2 OS X 10.11.6 El Capitan / x86_64  OK  OK  OK  OK UNNEEDED, same version exists in internal repository
Package 48/1706HostnameOS / ArchINSTALLBUILDCHECKBUILD BIN
amplican 1.5.6
Eivind Valen
Last Commit: 8591290
Last Changed Date: 2019-01-22 08:43:38 -0400
malbec2 Linux (Ubuntu 18.04.2 LTS) / x86_64  OK  OK  OK UNNEEDED, same version exists in internal repository
tokay2 Windows Server 2012 R2 Standard / x64  OK  OK  OK  OK UNNEEDED, same version exists in internal repository
celaya2 OS X 10.11.6 El Capitan / x86_64  OK  OK  OK  OK UNNEEDED, same version exists in internal repository
Package 49/1706HostnameOS / ArchINSTALLBUILDCHECKBUILD BIN
AnalysisPageServer 1.17.0
Brad Friedman
Last Commit: 1877999
Last Changed Date: 2018-10-30 11:54:33 -0400
malbec2 Linux (Ubuntu 18.04.2 LTS) / x86_64  OK  OK  OK UNNEEDED, same version exists in internal repository
tokay2 Windows Server 2012 R2 Standard / x64  OK  OK  WARNINGS  OK UNNEEDED, same version exists in internal repository
celaya2 OS X 10.11.6 El Capitan / x86_64  OK  OK  OK  OK UNNEEDED, same version exists in internal repository
Package 50/1706HostnameOS / ArchINSTALLBUILDCHECKBUILD BIN
anamiR 1.11.0
Ti-Tai Wang
Last Commit: bd88b14
Last Changed Date: 2018-10-30 11:54:36 -0400
malbec2 Linux (Ubuntu 18.04.2 LTS) / x86_64  OK  ERROR  skipped 
tokay2 Windows Server 2012 R2 Standard / x64  OK  ERROR  skipped  skipped 
celaya2 OS X 10.11.6 El Capitan / x86_64  OK  ERROR  skipped  skipped 
Package 51/1706HostnameOS / ArchINSTALLBUILDCHECKBUILD BIN
Anaquin 2.7.1
Ted Wong
Last Commit: 845a986
Last Changed Date: 2019-01-04 13:18:46 -0400
malbec2 Linux (Ubuntu 18.04.2 LTS) / x86_64  OK  OK  OK UNNEEDED, same version exists in internal repository
tokay2 Windows Server 2012 R2 Standard / x64  OK  OK  OK  OK UNNEEDED, same version exists in internal repository
celaya2 OS X 10.11.6 El Capitan / x86_64  OK  OK  OK  OK UNNEEDED, same version exists in internal repository
Package 52/1706HostnameOS / ArchINSTALLBUILDCHECKBUILD BIN
AneuFinder 1.11.2
Aaron Taudt
Last Commit: f825933
Last Changed Date: 2019-01-04 13:18:52 -0400
malbec2 Linux (Ubuntu 18.04.2 LTS) / x86_64  OK  OK  OK UNNEEDED, same version exists in internal repository
tokay2 Windows Server 2012 R2 Standard / x64  OK  OK  OK  OK UNNEEDED, same version exists in internal repository
celaya2 OS X 10.11.6 El Capitan / x86_64  OK  OK  OK  OK UNNEEDED, same version exists in internal repository
Package 53/1706HostnameOS / ArchINSTALLBUILDCHECKBUILD BIN
ANF 1.5.0
Tianle Ma
Last Commit: 5bac4c9
Last Changed Date: 2018-10-30 11:54:38 -0400
malbec2 Linux (Ubuntu 18.04.2 LTS) / x86_64  OK  OK  OK UNNEEDED, same version exists in internal repository
tokay2 Windows Server 2012 R2 Standard / x64  OK  OK  OK  OK UNNEEDED, same version exists in internal repository
celaya2 OS X 10.11.6 El Capitan / x86_64  OK  OK  OK  OK UNNEEDED, same version exists in internal repository
Package 54/1706HostnameOS / ArchINSTALLBUILDCHECKBUILD BIN
annaffy 1.55.0
Colin A. Smith
Last Commit: 16c28cd
Last Changed Date: 2018-10-30 11:54:26 -0400
malbec2 Linux (Ubuntu 18.04.2 LTS) / x86_64  OK  OK  OK UNNEEDED, same version exists in internal repository
tokay2 Windows Server 2012 R2 Standard / x64  OK  OK  OK  OK UNNEEDED, same version exists in internal repository
celaya2 OS X 10.11.6 El Capitan / x86_64  OK  OK  OK  OK UNNEEDED, same version exists in internal repository
Package 55/1706HostnameOS / ArchINSTALLBUILDCHECKBUILD BIN
annmap 1.25.0
Chris Wirth
Last Commit: cfdf55a
Last Changed Date: 2018-10-30 11:54:30 -0400
malbec2 Linux (Ubuntu 18.04.2 LTS) / x86_64  OK  OK  WARNINGS UNNEEDED, same version exists in internal repository
tokay2 Windows Server 2012 R2 Standard / x64 ...NOT SUPPORTED...
celaya2 OS X 10.11.6 El Capitan / x86_64  OK  OK  WARNINGS  OK UNNEEDED, same version exists in internal repository
Package 56/1706HostnameOS / ArchINSTALLBUILDCHECKBUILD BIN
annotate 1.61.1
Bioconductor Package Maintainer
Last Commit: b8f74c5
Last Changed Date: 2019-03-07 15:15:21 -0400
malbec2 Linux (Ubuntu 18.04.2 LTS) / x86_64  OK  OK  OK UNNEEDED, same version exists in internal repository
tokay2 Windows Server 2012 R2 Standard / x64  OK  OK  OK  OK UNNEEDED, same version exists in internal repository
celaya2 OS X 10.11.6 El Capitan / x86_64  OK  OK  OK  OK UNNEEDED, same version exists in internal repository
Package 57/1706HostnameOS / ArchINSTALLBUILDCHECKBUILD BIN
AnnotationDbi 1.45.1
Bioconductor Package Maintainer
Last Commit: 31c8594
Last Changed Date: 2019-03-04 21:39:37 -0400
malbec2 Linux (Ubuntu 18.04.2 LTS) / x86_64  OK  OK  OK UNNEEDED, same version exists in internal repository
tokay2 Windows Server 2012 R2 Standard / x64  OK  OK  OK  OK UNNEEDED, same version exists in internal repository
celaya2 OS X 10.11.6 El Capitan / x86_64  OK  OK  OK  OK UNNEEDED, same version exists in internal repository
Package 58/1706HostnameOS / ArchINSTALLBUILDCHECKBUILD BIN
AnnotationFilter 1.7.0
Bioconductor Package Maintainer
Last Commit: e11a05a
Last Changed Date: 2018-10-30 11:54:37 -0400
malbec2 Linux (Ubuntu 18.04.2 LTS) / x86_64  OK  OK  OK UNNEEDED, same version exists in internal repository
tokay2 Windows Server 2012 R2 Standard / x64  OK  OK  OK  OK UNNEEDED, same version exists in internal repository
celaya2 OS X 10.11.6 El Capitan / x86_64  OK  OK  OK  OK UNNEEDED, same version exists in internal repository
Package 59/1706HostnameOS / ArchINSTALLBUILDCHECKBUILD BIN
AnnotationForge 1.25.0
Bioconductor Package Maintainer
Last Commit: 5b53a75
Last Changed Date: 2018-10-30 11:54:30 -0400
malbec2 Linux (Ubuntu 18.04.2 LTS) / x86_64  OK  OK  OK UNNEEDED, same version exists in internal repository
tokay2 Windows Server 2012 R2 Standard / x64  OK  OK  OK  OK UNNEEDED, same version exists in internal repository
celaya2 OS X 10.11.6 El Capitan / x86_64  OK  OK  OK  OK UNNEEDED, same version exists in internal repository
Package 60/1706HostnameOS / ArchINSTALLBUILDCHECKBUILD BIN
AnnotationFuncs 1.33.0
Stefan McKinnon Edwards
Last Commit: 8764481
Last Changed Date: 2018-10-30 11:54:29 -0400
malbec2 Linux (Ubuntu 18.04.2 LTS) / x86_64  OK  OK  OK UNNEEDED, same version exists in internal repository
tokay2 Windows Server 2012 R2 Standard / x64  OK  OK  OK  OK UNNEEDED, same version exists in internal repository
celaya2 OS X 10.11.6 El Capitan / x86_64  OK  OK  OK  OK UNNEEDED, same version exists in internal repository
Package 61/1706HostnameOS / ArchINSTALLBUILDCHECKBUILD BIN
AnnotationHub 2.15.13
Bioconductor Package Maintainer
Last Commit: 34ecc7f
Last Changed Date: 2019-04-16 10:20:26 -0400
malbec2 Linux (Ubuntu 18.04.2 LTS) / x86_64  OK  OK  WARNINGS YES, new version is higher than in internal repository
tokay2 Windows Server 2012 R2 Standard / x64  OK  OK  WARNINGS  OK YES, new version is higher than in internal repository
celaya2 OS X 10.11.6 El Capitan / x86_64  OK  OK  ERROR  OK 
Package 62/1706HostnameOS / ArchINSTALLBUILDCHECKBUILD BIN
AnnotationHubData 1.13.10
Bioconductor Package Maintainer
Last Commit: 22d0b7a
Last Changed Date: 2019-03-29 12:07:16 -0400
malbec2 Linux (Ubuntu 18.04.2 LTS) / x86_64  OK  OK  OK UNNEEDED, same version exists in internal repository
tokay2 Windows Server 2012 R2 Standard / x64  OK  OK  OK  OK UNNEEDED, same version exists in internal repository
celaya2 OS X 10.11.6 El Capitan / x86_64  OK  OK  OK  OK UNNEEDED, same version exists in internal repository
Package 63/1706HostnameOS / ArchINSTALLBUILDCHECKBUILD BIN
annotationTools 1.57.0
Alexandre Kuhn
Last Commit: c171781
Last Changed Date: 2018-10-30 11:54:27 -0400
malbec2 Linux (Ubuntu 18.04.2 LTS) / x86_64  OK  OK  OK UNNEEDED, same version exists in internal repository
tokay2 Windows Server 2012 R2 Standard / x64  OK  OK  OK  OK UNNEEDED, same version exists in internal repository
celaya2 OS X 10.11.6 El Capitan / x86_64  OK  OK  OK  OK UNNEEDED, same version exists in internal repository
Package 64/1706HostnameOS / ArchINSTALLBUILDCHECKBUILD BIN
annotatr 1.9.0
Raymond G. Cavalcante
Last Commit: b666cb2
Last Changed Date: 2018-10-30 11:54:36 -0400
malbec2 Linux (Ubuntu 18.04.2 LTS) / x86_64  OK  OK  OK UNNEEDED, same version exists in internal repository
tokay2 Windows Server 2012 R2 Standard / x64  OK  OK  OK  OK UNNEEDED, same version exists in internal repository
celaya2 OS X 10.11.6 El Capitan / x86_64  OK  OK  OK  OK UNNEEDED, same version exists in internal repository
Package 65/1706HostnameOS / ArchINSTALLBUILDCHECKBUILD BIN
anota 1.31.0
Ola Larsson
Last Commit: 93225e0
Last Changed Date: 2018-10-30 11:54:29 -0400
malbec2 Linux (Ubuntu 18.04.2 LTS) / x86_64  OK  OK  OK UNNEEDED, same version exists in internal repository
tokay2 Windows Server 2012 R2 Standard / x64  OK  OK  OK  OK UNNEEDED, same version exists in internal repository
celaya2 OS X 10.11.6 El Capitan / x86_64  OK  OK  OK  OK UNNEEDED, same version exists in internal repository
Package 66/1706HostnameOS / ArchINSTALLBUILDCHECKBUILD BIN
anota2seq 1.5.3
Christian Oertlin , Julie Lorent
Last Commit: 018341b
Last Changed Date: 2019-03-11 09:21:34 -0400
malbec2 Linux (Ubuntu 18.04.2 LTS) / x86_64  OK  OK  OK UNNEEDED, same version exists in internal repository
tokay2 Windows Server 2012 R2 Standard / x64  OK  OK  OK  OK UNNEEDED, same version exists in internal repository
celaya2 OS X 10.11.6 El Capitan / x86_64  OK  OK  OK  OK UNNEEDED, same version exists in internal repository
Package 67/1706HostnameOS / ArchINSTALLBUILDCHECKBUILD BIN
antiProfiles 1.23.0
Hector Corrada Bravo
Last Commit: 195d477
Last Changed Date: 2018-10-30 11:54:31 -0400
malbec2 Linux (Ubuntu 18.04.2 LTS) / x86_64  OK  OK  OK UNNEEDED, same version exists in internal repository
tokay2 Windows Server 2012 R2 Standard / x64  OK  OK  OK  OK UNNEEDED, same version exists in internal repository
celaya2 OS X 10.11.6 El Capitan / x86_64  OK  OK  OK  OK UNNEEDED, same version exists in internal repository
Package 68/1706HostnameOS / ArchINSTALLBUILDCHECKBUILD BIN
apComplex 2.49.1
Denise Scholtens
Last Commit: 128297a
Last Changed Date: 2019-01-04 13:08:21 -0400
malbec2 Linux (Ubuntu 18.04.2 LTS) / x86_64  OK  OK  OK UNNEEDED, same version exists in internal repository
tokay2 Windows Server 2012 R2 Standard / x64  OK  OK  OK  OK UNNEEDED, same version exists in internal repository
celaya2 OS X 10.11.6 El Capitan / x86_64  OK  OK  OK  OK UNNEEDED, same version exists in internal repository
Package 69/1706HostnameOS / ArchINSTALLBUILDCHECKBUILD BIN
apeglm 1.5.4
Anqi Zhu
Last Commit: d9b4f5c
Last Changed Date: 2019-04-02 15:56:26 -0400
malbec2 Linux (Ubuntu 18.04.2 LTS) / x86_64  OK  OK  OK UNNEEDED, same version exists in internal repository
tokay2 Windows Server 2012 R2 Standard / x64  OK  OK  OK  OK UNNEEDED, same version exists in internal repository
celaya2 OS X 10.11.6 El Capitan / x86_64  OK  OK  OK  OK UNNEEDED, same version exists in internal repository
Package 70/1706HostnameOS / ArchINSTALLBUILDCHECKBUILD BIN
appreci8R 1.1.0
Sarah Sandmann
Last Commit: 240c997
Last Changed Date: 2018-10-30 11:54:39 -0400
malbec2 Linux (Ubuntu 18.04.2 LTS) / x86_64  OK  OK  OK UNNEEDED, same version exists in internal repository
tokay2 Windows Server 2012 R2 Standard / x64  OK  OK  OK  OK UNNEEDED, same version exists in internal repository
celaya2 OS X 10.11.6 El Capitan / x86_64  OK  OK  OK  OK UNNEEDED, same version exists in internal repository
Package 71/1706HostnameOS / ArchINSTALLBUILDCHECKBUILD BIN
aroma.light 3.13.0
Henrik Bengtsson
Last Commit: 6689cc8
Last Changed Date: 2018-10-30 11:54:27 -0400
malbec2 Linux (Ubuntu 18.04.2 LTS) / x86_64  OK  OK  OK UNNEEDED, same version exists in internal repository
tokay2 Windows Server 2012 R2 Standard / x64  OK  OK  OK  OK UNNEEDED, same version exists in internal repository
celaya2 OS X 10.11.6 El Capitan / x86_64  OK  OK  OK  OK UNNEEDED, same version exists in internal repository
Package 72/1706HostnameOS / ArchINSTALLBUILDCHECKBUILD BIN
ArrayExpress 1.43.0
Suhaib Mohammed
Last Commit: 09e0a49
Last Changed Date: 2018-10-30 11:54:28 -0400
malbec2 Linux (Ubuntu 18.04.2 LTS) / x86_64  OK  OK  OK UNNEEDED, same version exists in internal repository
tokay2 Windows Server 2012 R2 Standard / x64  OK  OK  OK  OK UNNEEDED, same version exists in internal repository
celaya2 OS X 10.11.6 El Capitan / x86_64  OK  OK  OK  OK UNNEEDED, same version exists in internal repository
Package 73/1706HostnameOS / ArchINSTALLBUILDCHECKBUILD BIN
ArrayExpressHTS 1.33.1
Angela Goncalves , Andrew Tikhonov
Last Commit: 0db10b7
Last Changed Date: 2019-01-04 13:08:26 -0400
malbec2 Linux (Ubuntu 18.04.2 LTS) / x86_64  ERROR  ERROR  skipped 
tokay2 Windows Server 2012 R2 Standard / x64 ...NOT SUPPORTED...
celaya2 OS X 10.11.6 El Capitan / x86_64  ERROR  ERROR  skipped  skipped 
Package 74/1706HostnameOS / ArchINSTALLBUILDCHECKBUILD BIN
arrayMvout 1.41.0
V. Carey
Last Commit: a1e5a96
Last Changed Date: 2018-10-30 11:54:28 -0400
malbec2 Linux (Ubuntu 18.04.2 LTS) / x86_64  OK  OK  OK UNNEEDED, same version exists in internal repository
tokay2 Windows Server 2012 R2 Standard / x64  OK  OK  OK  OK UNNEEDED, same version exists in internal repository
celaya2 OS X 10.11.6 El Capitan / x86_64  OK  OK  OK  OK UNNEEDED, same version exists in internal repository
Package 75/1706HostnameOS / ArchINSTALLBUILDCHECKBUILD BIN
arrayQuality 1.61.0
Agnes Paquet
Last Commit: 488928a
Last Changed Date: 2018-10-30 11:54:26 -0400
malbec2 Linux (Ubuntu 18.04.2 LTS) / x86_64  OK  OK  WARNINGS UNNEEDED, same version exists in internal repository
tokay2 Windows Server 2012 R2 Standard / x64  OK  OK  WARNINGS  OK UNNEEDED, same version exists in internal repository
celaya2 OS X 10.11.6 El Capitan / x86_64  OK  OK  WARNINGS  OK UNNEEDED, same version exists in internal repository
Package 76/1706HostnameOS / ArchINSTALLBUILDCHECKBUILD BIN
arrayQualityMetrics 3.39.1
Mike Smith
Last Commit: bcd939a
Last Changed Date: 2019-01-27 12:00:31 -0400
malbec2 Linux (Ubuntu 18.04.2 LTS) / x86_64  OK  OK  OK UNNEEDED, same version exists in internal repository
tokay2 Windows Server 2012 R2 Standard / x64  OK  OK  OK  OK UNNEEDED, same version exists in internal repository
celaya2 OS X 10.11.6 El Capitan / x86_64  ERROR  ERROR  skipped  skipped 
Package 77/1706HostnameOS / ArchINSTALLBUILDCHECKBUILD BIN
ArrayTools 1.43.0
Arthur Li
Last Commit: 92a31ab
Last Changed Date: 2018-10-30 11:54:28 -0400
malbec2 Linux (Ubuntu 18.04.2 LTS) / x86_64  OK  OK  OK UNNEEDED, same version exists in internal repository
tokay2 Windows Server 2012 R2 Standard / x64  OK  OK  OK  OK UNNEEDED, same version exists in internal repository
celaya2 OS X 10.11.6 El Capitan / x86_64  OK  OK  OK  OK UNNEEDED, same version exists in internal repository
Package 78/1706HostnameOS / ArchINSTALLBUILDCHECKBUILD BIN
ArrayTV 1.21.0
Eitan Halper-Stromberg
Last Commit: 859fcb7
Last Changed Date: 2018-10-30 11:54:31 -0400
malbec2 Linux (Ubuntu 18.04.2 LTS) / x86_64  OK  OK  OK UNNEEDED, same version exists in internal repository
tokay2 Windows Server 2012 R2 Standard / x64  OK  OK  OK  OK UNNEEDED, same version exists in internal repository
celaya2 OS X 10.11.6 El Capitan / x86_64  OK  OK  OK  OK UNNEEDED, same version exists in internal repository
Package 79/1706HostnameOS / ArchINSTALLBUILDCHECKBUILD BIN
ARRmNormalization 1.23.0
Jean-Philippe Fortin
Last Commit: 939790e
Last Changed Date: 2018-10-30 11:54:31 -0400
malbec2 Linux (Ubuntu 18.04.2 LTS) / x86_64  OK  OK  OK UNNEEDED, same version exists in internal repository
tokay2 Windows Server 2012 R2 Standard / x64  OK  OK  OK  OK UNNEEDED, same version exists in internal repository
celaya2 OS X 10.11.6 El Capitan / x86_64  OK  OK  OK  OK UNNEEDED, same version exists in internal repository
Package 80/1706HostnameOS / ArchINSTALLBUILDCHECKBUILD BIN
artMS 1.1.12
David Jimenez-Morales
Last Commit: f3e0ba8
Last Changed Date: 2019-04-07 19:46:14 -0400
malbec2 Linux (Ubuntu 18.04.2 LTS) / x86_64  OK  OK  OK UNNEEDED, same version exists in internal repository
tokay2 Windows Server 2012 R2 Standard / x64  OK  OK  OK  OK UNNEEDED, same version exists in internal repository
celaya2 OS X 10.11.6 El Capitan / x86_64  OK  OK  OK  OK UNNEEDED, same version exists in internal repository
Package 81/1706HostnameOS / ArchINSTALLBUILDCHECKBUILD BIN
ASAFE 1.9.0
Qian Zhang
Last Commit: b2bd117
Last Changed Date: 2018-10-30 11:54:36 -0400
malbec2 Linux (Ubuntu 18.04.2 LTS) / x86_64  OK  OK  OK UNNEEDED, same version exists in internal repository
tokay2 Windows Server 2012 R2 Standard / x64  OK  OK  OK  OK UNNEEDED, same version exists in internal repository
celaya2 OS X 10.11.6 El Capitan / x86_64  OK  OK  OK  OK UNNEEDED, same version exists in internal repository
Package 82/1706HostnameOS / ArchINSTALLBUILDCHECKBUILD BIN
ASEB 1.27.0
Likun Wang
Last Commit: fbc98b9
Last Changed Date: 2018-10-30 11:54:30 -0400
malbec2 Linux (Ubuntu 18.04.2 LTS) / x86_64  OK  OK  OK UNNEEDED, same version exists in internal repository
tokay2 Windows Server 2012 R2 Standard / x64  OK  OK  OK  OK UNNEEDED, same version exists in internal repository
celaya2 OS X 10.11.6 El Capitan / x86_64  OK  OK  OK  OK UNNEEDED, same version exists in internal repository
Package 83/1706HostnameOS / ArchINSTALLBUILDCHECKBUILD BIN
ASGSCA 1.17.0
Hela Romdhani
Last Commit: d0492d2
Last Changed Date: 2018-10-30 11:54:33 -0400
malbec2 Linux (Ubuntu 18.04.2 LTS) / x86_64  OK  OK  OK UNNEEDED, same version exists in internal repository
tokay2 Windows Server 2012 R2 Standard / x64  OK  OK  OK  OK UNNEEDED, same version exists in internal repository
celaya2 OS X 10.11.6 El Capitan / x86_64  OK  OK  OK  OK UNNEEDED, same version exists in internal repository
Package 84/1706HostnameOS / ArchINSTALLBUILDCHECKBUILD BIN
ASICS 1.99.0
Gaëlle Lefort
Last Commit: d08e6d0
Last Changed Date: 2019-04-15 11:27:11 -0400
malbec2 Linux (Ubuntu 18.04.2 LTS) / x86_64  OK  OK  WARNINGS UNNEEDED, same version exists in internal repository
tokay2 Windows Server 2012 R2 Standard / x64  OK  OK  WARNINGS  OK UNNEEDED, same version exists in internal repository
celaya2 OS X 10.11.6 El Capitan / x86_64  OK  OK  WARNINGS  OK UNNEEDED, same version exists in internal repository
Package 85/1706HostnameOS / ArchINSTALLBUILDCHECKBUILD BIN
ASpli 1.9.1
Estefania Mancini
Last Commit: 8c8d62f
Last Changed Date: 2019-01-04 13:13:06 -0400
malbec2 Linux (Ubuntu 18.04.2 LTS) / x86_64  OK  OK  OK UNNEEDED, same version exists in internal repository
tokay2 Windows Server 2012 R2 Standard / x64  OK  OK  OK  OK UNNEEDED, same version exists in internal repository
celaya2 OS X 10.11.6 El Capitan / x86_64  OK  OK  OK  OK UNNEEDED, same version exists in internal repository
Package 86/1706HostnameOS / ArchINSTALLBUILDCHECKBUILD BIN
AssessORF 1.1.6
Deepank Korandla
Last Commit: 641d801
Last Changed Date: 2019-04-07 21:56:40 -0400
malbec2 Linux (Ubuntu 18.04.2 LTS) / x86_64  OK  OK  OK UNNEEDED, same version exists in internal repository
tokay2 Windows Server 2012 R2 Standard / x64  OK  OK  OK  OK UNNEEDED, same version exists in internal repository
celaya2 OS X 10.11.6 El Capitan / x86_64  OK  OK  OK  OK UNNEEDED, same version exists in internal repository
Package 87/1706HostnameOS / ArchINSTALLBUILDCHECKBUILD BIN
ASSET 2.1.0
Samsiddhi Bhattacharjee
Last Commit: 36d17d7
Last Changed Date: 2018-10-30 11:54:31 -0400
malbec2 Linux (Ubuntu 18.04.2 LTS) / x86_64  OK  OK  WARNINGS UNNEEDED, same version exists in internal repository
tokay2 Windows Server 2012 R2 Standard / x64  OK  OK  WARNINGS  OK UNNEEDED, same version exists in internal repository
celaya2 OS X 10.11.6 El Capitan / x86_64  OK  OK  WARNINGS  OK UNNEEDED, same version exists in internal repository
Package 88/1706HostnameOS / ArchINSTALLBUILDCHECKBUILD BIN
ASSIGN 1.19.1
Ying Shen , W. Evan Johnson
Last Commit: fea0672
Last Changed Date: 2019-03-26 22:27:52 -0400
malbec2 Linux (Ubuntu 18.04.2 LTS) / x86_64  OK  OK  OK UNNEEDED, same version exists in internal repository
tokay2 Windows Server 2012 R2 Standard / x64  OK  OK  OK  OK UNNEEDED, same version exists in internal repository
celaya2 OS X 10.11.6 El Capitan / x86_64  OK  OK  OK  OK UNNEEDED, same version exists in internal repository
Package 89/1706HostnameOS / ArchINSTALLBUILDCHECKBUILD BIN
ATACseqQC 1.7.8
Jianhong Ou
Last Commit: e7620f3
Last Changed Date: 2019-02-01 15:36:43 -0400
malbec2 Linux (Ubuntu 18.04.2 LTS) / x86_64  OK  OK  OK UNNEEDED, same version exists in internal repository
tokay2 Windows Server 2012 R2 Standard / x64  OK  OK  OK  OK UNNEEDED, same version exists in internal repository
celaya2 OS X 10.11.6 El Capitan / x86_64  OK  OK  OK  OK UNNEEDED, same version exists in internal repository
Package 90/1706HostnameOS / ArchINSTALLBUILDCHECKBUILD BIN
atSNP 0.99.22
Sunyoung Shin
Last Commit: a594405
Last Changed Date: 2019-04-15 14:01:41 -0400
malbec2 Linux (Ubuntu 18.04.2 LTS) / x86_64  OK  ERROR  skipped 
tokay2 Windows Server 2012 R2 Standard / x64  OK  ERROR  skipped  skipped 
celaya2 OS X 10.11.6 El Capitan / x86_64  OK  ERROR  skipped  skipped 
Package 91/1706HostnameOS / ArchINSTALLBUILDCHECKBUILD BIN
attract 1.35.1
Samuel Zimmerman
Last Commit: eecec2e
Last Changed Date: 2019-01-04 13:19:11 -0400
malbec2 Linux (Ubuntu 18.04.2 LTS) / x86_64  OK  OK  OK UNNEEDED, same version exists in internal repository
tokay2 Windows Server 2012 R2 Standard / x64  OK  OK  OK  OK UNNEEDED, same version exists in internal repository
celaya2 OS X 10.11.6 El Capitan / x86_64  OK  OK  OK  OK UNNEEDED, same version exists in internal repository
Package 92/1706HostnameOS / ArchINSTALLBUILDCHECKBUILD BIN
AUCell 1.5.5
Sara Aibar
Last Commit: 33773fc
Last Changed Date: 2019-01-31 07:30:28 -0400
malbec2 Linux (Ubuntu 18.04.2 LTS) / x86_64  OK  OK  OK UNNEEDED, same version exists in internal repository
tokay2 Windows Server 2012 R2 Standard / x64  OK  OK  OK  OK UNNEEDED, same version exists in internal repository
celaya2 OS X 10.11.6 El Capitan / x86_64  OK  OK  OK  OK UNNEEDED, same version exists in internal repository
B
ABCDEFGHIJKLMNOPQRSTUVWXYZ
Package 93/1706HostnameOS / ArchINSTALLBUILDCHECKBUILD BIN
BaalChIP 1.9.1
Ines de Santiago
Last Commit: ad3ee38
Last Changed Date: 2019-03-21 07:18:15 -0400
malbec2 Linux (Ubuntu 18.04.2 LTS) / x86_64  OK  OK  WARNINGS UNNEEDED, same version exists in internal repository
tokay2 Windows Server 2012 R2 Standard / x64  OK  OK  WARNINGS  OK UNNEEDED, same version exists in internal repository
celaya2 OS X 10.11.6 El Capitan / x86_64  OK  OK  WARNINGS  OK UNNEEDED, same version exists in internal repository
Package 94/1706HostnameOS / ArchINSTALLBUILDCHECKBUILD BIN
BAC 1.43.0
Raphael Gottardo
Last Commit: 4861ad8
Last Changed Date: 2018-10-30 11:54:27 -0400
malbec2 Linux (Ubuntu 18.04.2 LTS) / x86_64  OK  OK  OK UNNEEDED, same version exists in internal repository
tokay2 Windows Server 2012 R2 Standard / x64  OK  OK  OK  OK UNNEEDED, same version exists in internal repository
celaya2 OS X 10.11.6 El Capitan / x86_64  OK  OK  OK  OK UNNEEDED, same version exists in internal repository
Package 95/1706HostnameOS / ArchINSTALLBUILDCHECKBUILD BIN
bacon 1.11.1
Maarten van Iterson
Last Commit: a98e287
Last Changed Date: 2019-01-04 13:19:21 -0400
malbec2 Linux (Ubuntu 18.04.2 LTS) / x86_64  OK  OK  OK UNNEEDED, same version exists in internal repository
tokay2 Windows Server 2012 R2 Standard / x64  OK  OK  OK  OK UNNEEDED, same version exists in internal repository
celaya2 OS X 10.11.6 El Capitan / x86_64  OK  OK  OK  OK UNNEEDED, same version exists in internal repository
Package 96/1706HostnameOS / ArchINSTALLBUILDCHECKBUILD BIN
BADER 1.21.1
Andreas Neudecker
Last Commit: 53c35a3
Last Changed Date: 2019-01-04 13:19:26 -0400
malbec2 Linux (Ubuntu 18.04.2 LTS) / x86_64  OK  OK  OK UNNEEDED, same version exists in internal repository
tokay2 Windows Server 2012 R2 Standard / x64  OK  OK  OK  OK UNNEEDED, same version exists in internal repository
celaya2 OS X 10.11.6 El Capitan / x86_64  OK  OK  OK  OK UNNEEDED, same version exists in internal repository
Package 97/1706HostnameOS / ArchINSTALLBUILDCHECKBUILD BIN
BadRegionFinder 1.11.0
Sarah Sandmann
Last Commit: adc3539
Last Changed Date: 2018-10-30 11:54:35 -0400
malbec2 Linux (Ubuntu 18.04.2 LTS) / x86_64  OK  OK  OK UNNEEDED, same version exists in internal repository
tokay2 Windows Server 2012 R2 Standard / x64  OK  OK  OK  OK UNNEEDED, same version exists in internal repository
celaya2 OS X 10.11.6 El Capitan / x86_64  OK  OK  OK  OK UNNEEDED, same version exists in internal repository
Package 98/1706HostnameOS / ArchINSTALLBUILDCHECKBUILD BIN
BAGS 2.23.0
Alejandro Quiroz-Zarate
Last Commit: 94b371b
Last Changed Date: 2018-10-30 11:54:30 -0400
malbec2 Linux (Ubuntu 18.04.2 LTS) / x86_64  OK  OK  OK UNNEEDED, same version exists in internal repository
tokay2 Windows Server 2012 R2 Standard / x64  OK  OK  OK  OK UNNEEDED, same version exists in internal repository
celaya2 OS X 10.11.6 El Capitan / x86_64  OK  OK  OK  OK UNNEEDED, same version exists in internal repository
Package 99/1706HostnameOS / ArchINSTALLBUILDCHECKBUILD BIN
ballgown 2.15.1
Jack Fu
Last Commit: 5977b84
Last Changed Date: 2019-01-04 13:19:31 -0400
malbec2 Linux (Ubuntu 18.04.2 LTS) / x86_64  OK  OK  OK UNNEEDED, same version exists in internal repository
tokay2 Windows Server 2012 R2 Standard / x64  OK  OK  OK  OK UNNEEDED, same version exists in internal repository
celaya2 OS X 10.11.6 El Capitan / x86_64  OK  OK  OK  OK UNNEEDED, same version exists in internal repository
Package 100/1706HostnameOS / ArchINSTALLBUILDCHECKBUILD BIN
bamsignals 1.15.0
Alessandro Mammana
Last Commit: 5ad00fa
Last Changed Date: 2018-10-30 11:54:34 -0400
malbec2 Linux (Ubuntu 18.04.2 LTS) / x86_64  OK  OK  OK UNNEEDED, same version exists in internal repository
tokay2 Windows Server 2012 R2 Standard / x64  OK  OK  OK  OK UNNEEDED, same version exists in internal repository
celaya2 OS X 10.11.6 El Capitan / x86_64  OK  OK  OK  OK UNNEEDED, same version exists in internal repository
Package 101/1706HostnameOS / ArchINSTALLBUILDCHECKBUILD BIN
banocc 1.7.1
George Weingart
Last Commit: 9e3b78e
Last Changed Date: 2019-01-04 13:19:46 -0400
malbec2 Linux (Ubuntu 18.04.2 LTS) / x86_64  OK  OK  OK UNNEEDED, same version exists in internal repository
tokay2 Windows Server 2012 R2 Standard / x64  OK  ERROR  skipped  skipped 
celaya2 OS X 10.11.6 El Capitan / x86_64  OK  OK  OK  OK UNNEEDED, same version exists in internal repository
Package 102/1706HostnameOS / ArchINSTALLBUILDCHECKBUILD BIN
basecallQC 1.7.0
Thomas Carroll
Last Commit: 33f4312
Last Changed Date: 2018-10-30 11:54:37 -0400
malbec2 Linux (Ubuntu 18.04.2 LTS) / x86_64  OK  OK  OK UNNEEDED, same version exists in internal repository
tokay2 Windows Server 2012 R2 Standard / x64  OK  OK  OK  OK UNNEEDED, same version exists in internal repository
celaya2 OS X 10.11.6 El Capitan / x86_64  OK  OK  OK  OK UNNEEDED, same version exists in internal repository
Package 103/1706HostnameOS / ArchINSTALLBUILDCHECKBUILD BIN
BaseSpaceR 1.27.0
Jared O'Connell
Last Commit: 79ec240
Last Changed Date: 2018-10-30 11:54:31 -0400
malbec2 Linux (Ubuntu 18.04.2 LTS) / x86_64  OK  OK  OK UNNEEDED, same version exists in internal repository
tokay2 Windows Server 2012 R2 Standard / x64  OK  OK  OK  OK UNNEEDED, same version exists in internal repository
celaya2 OS X 10.11.6 El Capitan / x86_64  OK  OK  OK  OK UNNEEDED, same version exists in internal repository
Package 104/1706HostnameOS / ArchINSTALLBUILDCHECKBUILD BIN
Basic4Cseq 1.19.1
Carolin Walter
Last Commit: ba3a2f0
Last Changed Date: 2019-01-04 13:19:51 -0400
malbec2 Linux (Ubuntu 18.04.2 LTS) / x86_64  OK  OK  OK UNNEEDED, same version exists in internal repository
tokay2 Windows Server 2012 R2 Standard / x64  OK  OK  OK  OK UNNEEDED, same version exists in internal repository
celaya2 OS X 10.11.6 El Capitan / x86_64  OK  OK  OK  OK UNNEEDED, same version exists in internal repository
Package 105/1706HostnameOS / ArchINSTALLBUILDCHECKBUILD BIN
BASiCS 1.5.31
Catalina Vallejos
Last Commit: f8f6134
Last Changed Date: 2019-04-15 12:18:55 -0400
malbec2 Linux (Ubuntu 18.04.2 LTS) / x86_64  OK  OK  OK UNNEEDED, same version exists in internal repository
tokay2 Windows Server 2012 R2 Standard / x64  OK  OK  OK  OK UNNEEDED, same version exists in internal repository
celaya2 OS X 10.11.6 El Capitan / x86_64  OK  OK  OK  OK UNNEEDED, same version exists in internal repository
Package 106/1706HostnameOS / ArchINSTALLBUILDCHECKBUILD BIN
BasicSTARRseq 1.11.0
Annika Buerger
Last Commit: 09fa134
Last Changed Date: 2018-10-30 11:54:35 -0400
malbec2 Linux (Ubuntu 18.04.2 LTS) / x86_64  OK  OK  OK UNNEEDED, same version exists in internal repository
tokay2 Windows Server 2012 R2 Standard / x64  OK  OK  OK  OK UNNEEDED, same version exists in internal repository
celaya2 OS X 10.11.6 El Capitan / x86_64  OK  OK  OK  OK UNNEEDED, same version exists in internal repository
Package 107/1706HostnameOS / ArchINSTALLBUILDCHECKBUILD BIN
batchelor 0.99.8
Aaron Lun
Last Commit: 49d51bd
Last Changed Date: 2019-04-13 17:24:56 -0400
malbec2 Linux (Ubuntu 18.04.2 LTS) / x86_64  OK  OK  OK UNNEEDED, same version exists in internal repository
tokay2 Windows Server 2012 R2 Standard / x64  OK  OK  OK  OK UNNEEDED, same version exists in internal repository
celaya2 OS X 10.11.6 El Capitan / x86_64  OK  OK  OK  OK UNNEEDED, same version exists in internal repository
Package 108/1706HostnameOS / ArchINSTALLBUILDCHECKBUILD BIN
BatchQC 1.11.3
Solaiappan Manimaran
Last Commit: 8ee9568
Last Changed Date: 2019-04-07 17:02:13 -0400
malbec2 Linux (Ubuntu 18.04.2 LTS) / x86_64  OK  OK  OK UNNEEDED, same version exists in internal repository
tokay2 Windows Server 2012 R2 Standard / x64  OK  OK  OK  OK UNNEEDED, same version exists in internal repository
celaya2 OS X 10.11.6 El Capitan / x86_64  OK  OK  OK  OK UNNEEDED, same version exists in internal repository
Package 109/1706HostnameOS / ArchINSTALLBUILDCHECKBUILD BIN
BayesKnockdown 1.9.0
William Chad Young
Last Commit: 7e617e8
Last Changed Date: 2018-10-30 11:54:36 -0400
malbec2 Linux (Ubuntu 18.04.2 LTS) / x86_64  OK  OK  OK UNNEEDED, same version exists in internal repository
tokay2 Windows Server 2012 R2 Standard / x64  OK  OK  OK  OK UNNEEDED, same version exists in internal repository
celaya2 OS X 10.11.6 El Capitan / x86_64  OK  OK  OK  OK UNNEEDED, same version exists in internal repository
Package 110/1706HostnameOS / ArchINSTALLBUILDCHECKBUILD BIN
BayesPeak 1.35.0
Jonathan Cairns
Last Commit: 0112b88
Last Changed Date: 2018-10-30 11:54:28 -0400
malbec2 Linux (Ubuntu 18.04.2 LTS) / x86_64  OK  OK  OK UNNEEDED, same version exists in internal repository
tokay2 Windows Server 2012 R2 Standard / x64  OK  OK  WARNINGS  OK UNNEEDED, same version exists in internal repository
celaya2 OS X 10.11.6 El Capitan / x86_64  OK  OK  OK  OK UNNEEDED, same version exists in internal repository
Package 111/1706HostnameOS / ArchINSTALLBUILDCHECKBUILD BIN
bayNorm 1.1.7
Wenhao Tang
Last Commit: 2975a04
Last Changed Date: 2019-03-26 11:51:26 -0400
malbec2 Linux (Ubuntu 18.04.2 LTS) / x86_64  OK  OK  OK UNNEEDED, same version exists in internal repository
tokay2 Windows Server 2012 R2 Standard / x64  OK  OK  OK  OK UNNEEDED, same version exists in internal repository
celaya2 OS X 10.11.6 El Capitan / x86_64  OK  OK  OK  OK UNNEEDED, same version exists in internal repository
Package 112/1706HostnameOS / ArchINSTALLBUILDCHECKBUILD BIN
baySeq 2.17.0
Thomas J. Hardcastle
Last Commit: ed9bc6d
Last Changed Date: 2018-10-30 11:54:28 -0400
malbec2 Linux (Ubuntu 18.04.2 LTS) / x86_64  OK  OK  OK UNNEEDED, same version exists in internal repository
tokay2 Windows Server 2012 R2 Standard / x64  OK  OK  OK  OK UNNEEDED, same version exists in internal repository
celaya2 OS X 10.11.6 El Capitan / x86_64  OK  OK  OK  OK UNNEEDED, same version exists in internal repository
Package 113/1706HostnameOS / ArchINSTALLBUILDCHECKBUILD BIN
BBCAnalyzer 1.13.0
Sarah Sandmann
Last Commit: 7a3b101
Last Changed Date: 2018-10-30 11:54:34 -0400
malbec2 Linux (Ubuntu 18.04.2 LTS) / x86_64  OK  OK  OK UNNEEDED, same version exists in internal repository
tokay2 Windows Server 2012 R2 Standard / x64  OK  OK  WARNINGS  OK UNNEEDED, same version exists in internal repository
celaya2 OS X 10.11.6 El Capitan / x86_64  OK  OK  OK  OK UNNEEDED, same version exists in internal repository
Package 114/1706HostnameOS / ArchINSTALLBUILDCHECKBUILD BIN
BCRANK 1.45.0
Adam Ameur
Last Commit: f440e9e
Last Changed Date: 2018-10-30 11:54:27 -0400
malbec2 Linux (Ubuntu 18.04.2 LTS) / x86_64  OK  OK  OK UNNEEDED, same version exists in internal repository
tokay2 Windows Server 2012 R2 Standard / x64  OK  OK  OK  OK UNNEEDED, same version exists in internal repository
celaya2 OS X 10.11.6 El Capitan / x86_64  OK  OK  OK  OK UNNEEDED, same version exists in internal repository
Package 115/1706HostnameOS / ArchINSTALLBUILDCHECKBUILD BIN
bcSeq 1.5.5
Jiaxing Lin
Last Commit: 4c0730a
Last Changed Date: 2019-04-16 13:55:05 -0400
malbec2 Linux (Ubuntu 18.04.2 LTS) / x86_64  OK  OK  ERROR 
tokay2 Windows Server 2012 R2 Standard / x64  OK  OK  ERROR  OK 
celaya2 OS X 10.11.6 El Capitan / x86_64  OK  OK  ERROR  OK 
Package 116/1706HostnameOS / ArchINSTALLBUILDCHECKBUILD BIN
BDMMAcorrect 1.1.1
ZHENWEI DAI
Last Commit: e8d13e3
Last Changed Date: 2019-03-23 17:47:47 -0400
malbec2 Linux (Ubuntu 18.04.2 LTS) / x86_64  OK  OK  OK UNNEEDED, same version exists in internal repository
tokay2 Windows Server 2012 R2 Standard / x64  OK  OK  OK  OK UNNEEDED, same version exists in internal repository
celaya2 OS X 10.11.6 El Capitan / x86_64  OK  OK  OK  OK UNNEEDED, same version exists in internal repository
Package 117/1706HostnameOS / ArchINSTALLBUILDCHECKBUILD BIN
beachmat 1.99.8
Aaron Lun
Last Commit: 56cdc92
Last Changed Date: 2019-03-29 21:59:15 -0400
malbec2 Linux (Ubuntu 18.04.2 LTS) / x86_64  OK  OK  OK UNNEEDED, same version exists in internal repository
tokay2 Windows Server 2012 R2 Standard / x64  OK  OK  OK  OK UNNEEDED, same version exists in internal repository
celaya2 OS X 10.11.6 El Capitan / x86_64  OK  OK  OK  OK UNNEEDED, same version exists in internal repository
Package 118/1706HostnameOS / ArchINSTALLBUILDCHECKBUILD BIN
beadarray 2.33.2
Mark Dunning
Last Commit: ad3d461
Last Changed Date: 2019-01-28 07:09:18 -0400
malbec2 Linux (Ubuntu 18.04.2 LTS) / x86_64  OK  OK  OK UNNEEDED, same version exists in internal repository
tokay2 Windows Server 2012 R2 Standard / x64  OK  OK  OK  OK UNNEEDED, same version exists in internal repository
celaya2 OS X 10.11.6 El Capitan / x86_64  OK  OK  OK  OK UNNEEDED, same version exists in internal repository
Package 119/1706HostnameOS / ArchINSTALLBUILDCHECKBUILD BIN
beadarraySNP 1.49.0
Jan Oosting
Last Commit: d45cc40
Last Changed Date: 2018-10-30 11:54:27 -0400
malbec2 Linux (Ubuntu 18.04.2 LTS) / x86_64  OK  OK  OK UNNEEDED, same version exists in internal repository
tokay2 Windows Server 2012 R2 Standard / x64  OK  OK  OK  OK UNNEEDED, same version exists in internal repository
celaya2 OS X 10.11.6 El Capitan / x86_64  OK  OK  OK  OK UNNEEDED, same version exists in internal repository
Package 120/1706HostnameOS / ArchINSTALLBUILDCHECKBUILD BIN
BeadDataPackR 1.35.0
Mike Smith
Last Commit: b7056f2
Last Changed Date: 2018-10-30 11:54:28 -0400
malbec2 Linux (Ubuntu 18.04.2 LTS) / x86_64  OK  OK  OK UNNEEDED, same version exists in internal repository
tokay2 Windows Server 2012 R2 Standard / x64  OK  OK  OK  OK UNNEEDED, same version exists in internal repository
celaya2 OS X 10.11.6 El Capitan / x86_64  OK  OK  OK  OK UNNEEDED, same version exists in internal repository
Package 121/1706HostnameOS / ArchINSTALLBUILDCHECKBUILD BIN
BEARscc 1.3.1
Benjamin Schuster-Boeckler
Last Commit: a3094de
Last Changed Date: 2019-01-04 13:20:12 -0400
malbec2 Linux (Ubuntu 18.04.2 LTS) / x86_64  OK  OK  WARNINGS UNNEEDED, same version exists in internal repository
tokay2 Windows Server 2012 R2 Standard / x64  OK  OK  WARNINGS  OK UNNEEDED, same version exists in internal repository
celaya2 OS X 10.11.6 El Capitan / x86_64  OK  OK  WARNINGS  OK UNNEEDED, same version exists in internal repository
Package 122/1706HostnameOS / ArchINSTALLBUILDCHECKBUILD BIN
BEAT 1.21.1
Kemal Akman
Last Commit: 6fd405d
Last Changed Date: 2019-01-04 13:20:22 -0400
malbec2 Linux (Ubuntu 18.04.2 LTS) / x86_64  OK  OK  OK UNNEEDED, same version exists in internal repository
tokay2 Windows Server 2012 R2 Standard / x64  OK  OK  OK  OK UNNEEDED, same version exists in internal repository
celaya2 OS X 10.11.6 El Capitan / x86_64  OK  OK  OK  OK UNNEEDED, same version exists in internal repository
Package 123/1706HostnameOS / ArchINSTALLBUILDCHECKBUILD BIN
BEclear 1.99.4
David Rasp
Last Commit: ecf4ac5
Last Changed Date: 2019-04-11 08:09:16 -0400
malbec2 Linux (Ubuntu 18.04.2 LTS) / x86_64  OK  OK  OK UNNEEDED, same version exists in internal repository
tokay2 Windows Server 2012 R2 Standard / x64  OK  OK  OK  OK UNNEEDED, same version exists in internal repository
celaya2 OS X 10.11.6 El Capitan / x86_64  OK  OK  OK  OK UNNEEDED, same version exists in internal repository
Package 124/1706HostnameOS / ArchINSTALLBUILDCHECKBUILD BIN
bgafun 1.45.0
Iain Wallace
Last Commit: c6bcffd
Last Changed Date: 2018-10-30 11:54:27 -0400
malbec2 Linux (Ubuntu 18.04.2 LTS) / x86_64  OK  OK  OK UNNEEDED, same version exists in internal repository
tokay2 Windows Server 2012 R2 Standard / x64  OK  OK  OK  OK UNNEEDED, same version exists in internal repository
celaya2 OS X 10.11.6 El Capitan / x86_64  OK  OK  OK  OK UNNEEDED, same version exists in internal repository
Package 125/1706HostnameOS / ArchINSTALLBUILDCHECKBUILD BIN
BgeeDB 2.9.0
Julien Wollbrett , Julien Roux , Andrea Komljenovic , Frederic Bastian
Last Commit: ba68c04
Last Changed Date: 2018-10-30 11:54:36 -0400
malbec2 Linux (Ubuntu 18.04.2 LTS) / x86_64  OK  OK  OK UNNEEDED, same version exists in internal repository
tokay2 Windows Server 2012 R2 Standard / x64  OK  OK  OK  OK UNNEEDED, same version exists in internal repository
celaya2 OS X 10.11.6 El Capitan / x86_64  OK  OK  OK  OK UNNEEDED, same version exists in internal repository
Package 126/1706HostnameOS / ArchINSTALLBUILDCHECKBUILD BIN
BGmix 1.43.0
Alex Lewin
Last Commit: e4824c6
Last Changed Date: 2018-10-30 11:54:27 -0400
malbec2 Linux (Ubuntu 18.04.2 LTS) / x86_64  OK  OK  WARNINGS UNNEEDED, same version exists in internal repository
tokay2 Windows Server 2012 R2 Standard / x64 ...NOT SUPPORTED...
celaya2 OS X 10.11.6 El Capitan / x86_64  OK  OK  OK  OK UNNEEDED, same version exists in internal repository
Package 127/1706HostnameOS / ArchINSTALLBUILDCHECKBUILD BIN
bgx 1.49.5
Ernest Turro
Last Commit: bf3fef1
Last Changed Date: 2019-04-12 06:18:50 -0400
malbec2 Linux (Ubuntu 18.04.2 LTS) / x86_64  OK  OK  OK UNNEEDED, same version exists in internal repository
tokay2 Windows Server 2012 R2 Standard / x64  OK  OK  OK  OK UNNEEDED, same version exists in internal repository
celaya2 OS X 10.11.6 El Capitan / x86_64  OK  OK  OK  OK UNNEEDED, same version exists in internal repository
Package 128/1706HostnameOS / ArchINSTALLBUILDCHECKBUILD BIN
BHC 1.35.0
Rich Savage
Last Commit: 72f0953
Last Changed Date: 2018-10-30 11:54:29 -0400
malbec2 Linux (Ubuntu 18.04.2 LTS) / x86_64  OK  OK  OK UNNEEDED, same version exists in internal repository
tokay2 Windows Server 2012 R2 Standard / x64  OK  OK  OK  OK UNNEEDED, same version exists in internal repository
celaya2 OS X 10.11.6 El Capitan / x86_64  OK  OK  OK  OK UNNEEDED, same version exists in internal repository
Package 129/1706HostnameOS / ArchINSTALLBUILDCHECKBUILD BIN
BicARE 1.41.0
Pierre Gestraud
Last Commit: c5f3669
Last Changed Date: 2018-10-30 11:54:28 -0400
malbec2 Linux (Ubuntu 18.04.2 LTS) / x86_64  OK  OK  OK UNNEEDED, same version exists in internal repository
tokay2 Windows Server 2012 R2 Standard / x64  OK  OK  OK  OK UNNEEDED, same version exists in internal repository
celaya2 OS X 10.11.6 El Capitan / x86_64  OK  OK  OK  OK UNNEEDED, same version exists in internal repository
Package 130/1706HostnameOS / ArchINSTALLBUILDCHECKBUILD BIN
BiFET 1.3.1
Ahrim Youn
Last Commit: 4fefda2
Last Changed Date: 2019-01-04 13:20:31 -0400
malbec2 Linux (Ubuntu 18.04.2 LTS) / x86_64  OK  OK  OK UNNEEDED, same version exists in internal repository
tokay2 Windows Server 2012 R2 Standard / x64  OK  OK  OK  OK UNNEEDED, same version exists in internal repository
celaya2 OS X 10.11.6 El Capitan / x86_64  OK  OK  OK  OK UNNEEDED, same version exists in internal repository
Package 131/1706HostnameOS / ArchINSTALLBUILDCHECKBUILD BIN
BiGGR 1.19.1
Anand K. Gavai
Last Commit: 7f63dcf
Last Changed Date: 2019-04-11 05:09:09 -0400
malbec2 Linux (Ubuntu 18.04.2 LTS) / x86_64  OK  OK  OK UNNEEDED, same version exists in internal repository
tokay2 Windows Server 2012 R2 Standard / x64  OK  OK  OK  OK UNNEEDED, same version exists in internal repository
celaya2 OS X 10.11.6 El Capitan / x86_64  OK  OK  OK  OK UNNEEDED, same version exists in internal repository
Package 132/1706HostnameOS / ArchINSTALLBUILDCHECKBUILD BIN
bigmelon 1.9.0
Tyler J. Gorrie-Stone
Last Commit: 8a24a4c
Last Changed Date: 2018-10-30 11:54:36 -0400
malbec2 Linux (Ubuntu 18.04.2 LTS) / x86_64  OK  OK  OK UNNEEDED, same version exists in internal repository
tokay2 Windows Server 2012 R2 Standard / x64  OK  OK  WARNINGS  OK UNNEEDED, same version exists in internal repository
celaya2 OS X 10.11.6 El Capitan / x86_64  OK  OK  OK  OK UNNEEDED, same version exists in internal repository
Package 133/1706HostnameOS / ArchINSTALLBUILDCHECKBUILD BIN
bigmemoryExtras 1.31.0
Peter M. Haverty
Last Commit: 9fb8d58
Last Changed Date: 2018-10-30 11:54:30 -0400
malbec2 Linux (Ubuntu 18.04.2 LTS) / x86_64  OK  OK  WARNINGS UNNEEDED, same version exists in internal repository
tokay2 Windows Server 2012 R2 Standard / x64 ...NOT SUPPORTED...
celaya2 OS X 10.11.6 El Capitan / x86_64  OK  OK  WARNINGS  OK UNNEEDED, same version exists in internal repository
Package 134/1706HostnameOS / ArchINSTALLBUILDCHECKBUILD BIN
bigPint 0.99.8
Lindsay Rutter
Last Commit: b0e7163
Last Changed Date: 2019-02-20 10:25:16 -0400
malbec2 Linux (Ubuntu 18.04.2 LTS) / x86_64  OK  OK  OK UNNEEDED, same version exists in internal repository
tokay2 Windows Server 2012 R2 Standard / x64  OK  OK  OK  OK UNNEEDED, same version exists in internal repository
celaya2 OS X 10.11.6 El Capitan / x86_64  OK  OK  OK  OK UNNEEDED, same version exists in internal repository
Package 135/1706HostnameOS / ArchINSTALLBUILDCHECKBUILD BIN
bioassayR 1.21.1
Tyler Backman
Last Commit: 8d59dff
Last Changed Date: 2019-01-04 13:20:36 -0400
malbec2 Linux (Ubuntu 18.04.2 LTS) / x86_64  OK  OK  OK UNNEEDED, same version exists in internal repository
tokay2 Windows Server 2012 R2 Standard / x64  OK  OK  OK  OK UNNEEDED, same version exists in internal repository
celaya2 OS X 10.11.6 El Capitan / x86_64  OK  OK  OK  OK UNNEEDED, same version exists in internal repository
Package 136/1706HostnameOS / ArchINSTALLBUILDCHECKBUILD BIN
Biobase 2.43.1
Bioconductor Package Maintainer
Last Commit: 528dca2
Last Changed Date: 2019-01-10 15:26:44 -0400
malbec2 Linux (Ubuntu 18.04.2 LTS) / x86_64  OK  OK  WARNINGS UNNEEDED, same version exists in internal repository
tokay2 Windows Server 2012 R2 Standard / x64  OK  OK  WARNINGS  OK UNNEEDED, same version exists in internal repository
celaya2 OS X 10.11.6 El Capitan / x86_64  OK  OK  WARNINGS  OK UNNEEDED, same version exists in internal repository
Package 137/1706HostnameOS / ArchINSTALLBUILDCHECKBUILD BIN
biobroom 1.15.0
John D. Storey and Andrew J. Bass
Last Commit: 6316471
Last Changed Date: 2018-10-30 11:54:35 -0400
malbec2 Linux (Ubuntu 18.04.2 LTS) / x86_64  OK  OK  OK UNNEEDED, same version exists in internal repository
tokay2 Windows Server 2012 R2 Standard / x64  OK  OK  WARNINGS  OK UNNEEDED, same version exists in internal repository
celaya2 OS X 10.11.6 El Capitan / x86_64  OK  OK  OK  OK UNNEEDED, same version exists in internal repository
Package 138/1706HostnameOS / ArchINSTALLBUILDCHECKBUILD BIN
bioCancer 1.11.0
Karim Mezhoud
Last Commit: 6afbdcc
Last Changed Date: 2019-02-12 15:25:45 -0400
malbec2 Linux (Ubuntu 18.04.2 LTS) / x86_64  OK  OK  OK UNNEEDED, same version exists in internal repository
tokay2 Windows Server 2012 R2 Standard / x64  OK  OK  OK  OK UNNEEDED, same version exists in internal repository
celaya2 OS X 10.11.6 El Capitan / x86_64  OK  OK  OK  OK UNNEEDED, same version exists in internal repository
Package 139/1706HostnameOS / ArchINSTALLBUILDCHECKBUILD BIN
BiocCaseStudies 1.45.0
Bioconductor Package Maintainer
Last Commit: 01725ac
Last Changed Date: 2018-10-30 11:54:27 -0400
malbec2 Linux (Ubuntu 18.04.2 LTS) / x86_64  OK  OK  OK UNNEEDED, same version exists in internal repository
tokay2 Windows Server 2012 R2 Standard / x64  OK  OK  OK  OK UNNEEDED, same version exists in internal repository
celaya2 OS X 10.11.6 El Capitan / x86_64  OK  OK  OK  OK UNNEEDED, same version exists in internal repository
Package 140/1706HostnameOS / ArchINSTALLBUILDCHECKBUILD BIN
BiocCheck 1.19.33
Bioconductor Package Maintainer
Last Commit: 6a487e4
Last Changed Date: 2019-03-25 12:19:01 -0400
malbec2 Linux (Ubuntu 18.04.2 LTS) / x86_64  OK  OK  ERROR 
tokay2 Windows Server 2012 R2 Standard / x64  OK  OK  OK  OK UNNEEDED, same version exists in internal repository
celaya2 OS X 10.11.6 El Capitan / x86_64  OK  OK  OK  OK UNNEEDED, same version exists in internal repository
Package 141/1706HostnameOS / ArchINSTALLBUILDCHECKBUILD BIN
BiocFileCache 1.7.10
Lori Shepherd
Last Commit: 4a437b9
Last Changed Date: 2019-04-16 08:17:36 -0400
malbec2 Linux (Ubuntu 18.04.2 LTS) / x86_64  OK  OK  OK YES, new version is higher than in internal repository
tokay2 Windows Server 2012 R2 Standard / x64  OK  OK  OK  OK YES, new version is higher than in internal repository
celaya2 OS X 10.11.6 El Capitan / x86_64  OK  OK  OK  OK YES, new version is higher than in internal repository
Package 142/1706HostnameOS / ArchINSTALLBUILDCHECKBUILD BIN
BiocGenerics 0.29.2
Bioconductor Package Maintainer
Last Commit: 6487557
Last Changed Date: 2019-03-04 21:14:56 -0400
malbec2 Linux (Ubuntu 18.04.2 LTS) / x86_64  OK  OK  WARNINGS UNNEEDED, same version exists in internal repository
tokay2 Windows Server 2012 R2 Standard / x64  OK  OK  WARNINGS  OK UNNEEDED, same version exists in internal repository
celaya2 OS X 10.11.6 El Capitan / x86_64  OK  OK  WARNINGS  OK UNNEEDED, same version exists in internal repository
Package 143/1706HostnameOS / ArchINSTALLBUILDCHECKBUILD BIN
biocGraph 1.45.0
Florian Hahne
Last Commit: a026016
Last Changed Date: 2018-10-30 11:54:27 -0400
malbec2 Linux (Ubuntu 18.04.2 LTS) / x86_64  OK  OK  OK UNNEEDED, same version exists in internal repository
tokay2 Windows Server 2012 R2 Standard / x64  OK  OK  OK  OK UNNEEDED, same version exists in internal repository
celaya2 OS X 10.11.6 El Capitan / x86_64  OK  OK  OK  OK UNNEEDED, same version exists in internal repository
Package 144/1706HostnameOS / ArchINSTALLBUILDCHECKBUILD BIN
BiocNeighbors 1.1.13
Aaron Lun
Last Commit: eced718
Last Changed Date: 2019-04-08 23:40:27 -0400
malbec2 Linux (Ubuntu 18.04.2 LTS) / x86_64  OK  OK  OK UNNEEDED, same version exists in internal repository
tokay2 Windows Server 2012 R2 Standard / x64  OK  OK  OK  OK UNNEEDED, same version exists in internal repository
celaya2 OS X 10.11.6 El Capitan / x86_64  OK  OK  OK  OK UNNEEDED, same version exists in internal repository
Package 145/1706HostnameOS / ArchINSTALLBUILDCHECKBUILD BIN
BiocOncoTK 1.3.6
VJ Carey
Last Commit: 1d6a75a
Last Changed Date: 2019-03-11 23:02:29 -0400
malbec2 Linux (Ubuntu 18.04.2 LTS) / x86_64  OK  OK  OK UNNEEDED, same version exists in internal repository
tokay2 Windows Server 2012 R2 Standard / x64  OK  OK  WARNINGS  OK UNNEEDED, same version exists in internal repository
celaya2 OS X 10.11.6 El Capitan / x86_64  OK  OK  OK  OK UNNEEDED, same version exists in internal repository
Package 146/1706HostnameOS / ArchINSTALLBUILDCHECKBUILD BIN
BioCor 1.7.0
Lluís Revilla Sancho
Last Commit: e8187f6
Last Changed Date: 2019-01-13 08:35:12 -0400
malbec2 Linux (Ubuntu 18.04.2 LTS) / x86_64  OK  OK  OK UNNEEDED, same version exists in internal repository
tokay2 Windows Server 2012 R2 Standard / x64  OK  OK  OK  OK UNNEEDED, same version exists in internal repository
celaya2 OS X 10.11.6 El Capitan / x86_64  OK  OK  OK  OK UNNEEDED, same version exists in internal repository
Package 147/1706HostnameOS / ArchINSTALLBUILDCHECKBUILD BIN
BiocParallel 1.17.18
Bioconductor Package Maintainer
Last Commit: 3bc700d
Last Changed Date: 2019-03-23 18:00:55 -0400
malbec2 Linux (Ubuntu 18.04.2 LTS) / x86_64  OK  OK  OK UNNEEDED, same version exists in internal repository
tokay2 Windows Server 2012 R2 Standard / x64  OK  OK  ERROR  OK 
celaya2 OS X 10.11.6 El Capitan / x86_64  OK  OK  OK  OK UNNEEDED, same version exists in internal repository
Package 148/1706HostnameOS / ArchINSTALLBUILDCHECKBUILD BIN
BiocPkgTools 1.1.8
Sean Davis
Last Commit: ddde9b2
Last Changed Date: 2019-03-22 12:30:32 -0400
malbec2 Linux (Ubuntu 18.04.2 LTS) / x86_64  OK  OK  ERROR 
tokay2 Windows Server 2012 R2 Standard / x64  OK  OK  ERROR  OK 
celaya2 OS X 10.11.6 El Capitan / x86_64  OK  OK  ERROR  OK 
Package 149/1706HostnameOS / ArchINSTALLBUILDCHECKBUILD BIN
BiocSingular 0.99.16
Aaron Lun
Last Commit: d5b6c35
Last Changed Date: 2019-04-11 01:12:44 -0400
malbec2 Linux (Ubuntu 18.04.2 LTS) / x86_64  OK  OK  OK UNNEEDED, same version exists in internal repository
tokay2 Windows Server 2012 R2 Standard / x64  OK  OK  ERROR  OK 
celaya2 OS X 10.11.6 El Capitan / x86_64  OK  OK  OK  OK UNNEEDED, same version exists in internal repository
Package 150/1706HostnameOS / ArchINSTALLBUILDCHECKBUILD BIN
BiocSklearn 1.5.2
VJ Carey
Last Commit: 6224ec5
Last Changed Date: 2019-04-02 15:26:34 -0400
malbec2 Linux (Ubuntu 18.04.2 LTS) / x86_64  OK  OK  OK UNNEEDED, same version exists in internal repository
tokay2 Windows Server 2012 R2 Standard / x64  OK  OK  OK  OK UNNEEDED, same version exists in internal repository
celaya2 OS X 10.11.6 El Capitan / x86_64  OK  OK  OK  OK UNNEEDED, same version exists in internal repository
Package 151/1706HostnameOS / ArchINSTALLBUILDCHECKBUILD BIN
BiocStyle 2.11.0
Bioconductor Package Maintainer
Last Commit: d733c43
Last Changed Date: 2018-10-30 11:54:31 -0400
malbec2 Linux (Ubuntu 18.04.2 LTS) / x86_64  OK  OK  OK UNNEEDED, same version exists in internal repository
tokay2 Windows Server 2012 R2 Standard / x64  OK  OK  OK  OK UNNEEDED, same version exists in internal repository
celaya2 OS X 10.11.6 El Capitan / x86_64  OK  OK  OK  OK UNNEEDED, same version exists in internal repository
Package 152/1706HostnameOS / ArchINSTALLBUILDCHECKBUILD BIN
BiocVersion 3.9.0
Bioconductor Package Maintainer
Last Commit: 1adac61
Last Changed Date: 2018-10-30 13:48:21 -0400
malbec2 Linux (Ubuntu 18.04.2 LTS) / x86_64  OK  OK  WARNINGS UNNEEDED, same version exists in internal repository
tokay2 Windows Server 2012 R2 Standard / x64  OK  OK  WARNINGS  OK UNNEEDED, same version exists in internal repository
celaya2 OS X 10.11.6 El Capitan / x86_64  OK  OK  WARNINGS  OK UNNEEDED, same version exists in internal repository
Package 153/1706HostnameOS / ArchINSTALLBUILDCHECKBUILD BIN
biocViews 1.51.15
Bioconductor Package Maintainer
Last Commit: f0226e2
Last Changed Date: 2019-04-04 11:13:07 -0400
malbec2 Linux (Ubuntu 18.04.2 LTS) / x86_64  OK  OK  WARNINGS UNNEEDED, same version exists in internal repository
tokay2 Windows Server 2012 R2 Standard / x64  OK  OK  WARNINGS  OK UNNEEDED, same version exists in internal repository
celaya2 OS X 10.11.6 El Capitan / x86_64  OK  OK  WARNINGS  OK UNNEEDED, same version exists in internal repository
Package 154/1706HostnameOS / ArchINSTALLBUILDCHECKBUILD BIN
BiocWorkflowTools 1.9.4
Mike Smith
Last Commit: e7888b8
Last Changed Date: 2019-04-16 08:50:24 -0400
malbec2 Linux (Ubuntu 18.04.2 LTS) / x86_64  OK  OK  OK YES, new version is higher than in internal repository
tokay2 Windows Server 2012 R2 Standard / x64  OK  OK  OK  OK YES, new version is higher than in internal repository
celaya2 OS X 10.11.6 El Capitan / x86_64  OK  OK  OK  OK YES, new version is higher than in internal repository
Package 155/1706HostnameOS / ArchINSTALLBUILDCHECKBUILD BIN
bioDist 1.55.0
Bioconductor Package Maintainer
Last Commit: f8d2f01
Last Changed Date: 2018-10-30 11:54:26 -0400
malbec2 Linux (Ubuntu 18.04.2 LTS) / x86_64  OK  OK  OK UNNEEDED, same version exists in internal repository
tokay2 Windows Server 2012 R2 Standard / x64  OK  OK  OK  OK UNNEEDED, same version exists in internal repository
celaya2 OS X 10.11.6 El Capitan / x86_64  OK  OK  OK  OK UNNEEDED, same version exists in internal repository
Package 156/1706HostnameOS / ArchINSTALLBUILDCHECKBUILD BIN
biomaRt 2.39.2
Mike Smith
Last Commit: 4b2f4b1
Last Changed Date: 2018-11-07 10:14:45 -0400
malbec2 Linux (Ubuntu 18.04.2 LTS) / x86_64  OK  OK  OK UNNEEDED, same version exists in internal repository
tokay2 Windows Server 2012 R2 Standard / x64  OK  OK  OK  OK UNNEEDED, same version exists in internal repository
celaya2 OS X 10.11.6 El Capitan / x86_64  OK  OK  OK  OK UNNEEDED, same version exists in internal repository
Package 157/1706HostnameOS / ArchINSTALLBUILDCHECKBUILD BIN
biomformat 1.11.1
Paul J. McMurdie
Last Commit: c0b3e1e
Last Changed Date: 2019-01-04 13:20:41 -0400
malbec2 Linux (Ubuntu 18.04.2 LTS) / x86_64  OK  OK  OK UNNEEDED, same version exists in internal repository
tokay2 Windows Server 2012 R2 Standard / x64  OK  OK  WARNINGS  OK UNNEEDED, same version exists in internal repository
celaya2 OS X 10.11.6 El Capitan / x86_64  OK  OK  OK  OK UNNEEDED, same version exists in internal repository
Package 158/1706HostnameOS / ArchINSTALLBUILDCHECKBUILD BIN
BioMM 0.99.12
Junfang Chen
Last Commit: 33863a5
Last Changed Date: 2019-04-10 12:30:47 -0400
malbec2 Linux (Ubuntu 18.04.2 LTS) / x86_64  OK  OK  OK UNNEEDED, same version exists in internal repository
tokay2 Windows Server 2012 R2 Standard / x64  OK  OK  OK  OK UNNEEDED, same version exists in internal repository
celaya2 OS X 10.11.6 El Capitan / x86_64  OK  OK  OK  OK UNNEEDED, same version exists in internal repository
Package 159/1706HostnameOS / ArchINSTALLBUILDCHECKBUILD BIN
BioMVCClass 1.51.0
Elizabeth Whalen
Last Commit: f55b930
Last Changed Date: 2018-10-30 11:54:27 -0400
malbec2 Linux (Ubuntu 18.04.2 LTS) / x86_64  OK  OK  OK UNNEEDED, same version exists in internal repository
tokay2 Windows Server 2012 R2 Standard / x64  OK  OK  OK  OK UNNEEDED, same version exists in internal repository
celaya2 OS X 10.11.6 El Capitan / x86_64  OK  OK  OK  OK UNNEEDED, same version exists in internal repository
Package 160/1706HostnameOS / ArchINSTALLBUILDCHECKBUILD BIN
biomvRCNS 1.23.0
Yang Du
Last Commit: 77742bc
Last Changed Date: 2018-10-30 11:54:31 -0400
malbec2 Linux (Ubuntu 18.04.2 LTS) / x86_64  OK  OK  OK UNNEEDED, same version exists in internal repository
tokay2 Windows Server 2012 R2 Standard / x64  OK  OK  OK  OK UNNEEDED, same version exists in internal repository
celaya2 OS X 10.11.6 El Capitan / x86_64  OK  OK  OK  OK UNNEEDED, same version exists in internal repository
Package 161/1706HostnameOS / ArchINSTALLBUILDCHECKBUILD BIN
BioNet 1.43.0
Marcus Dittrich
Last Commit: 8ab9902
Last Changed Date: 2018-10-30 11:54:29 -0400
malbec2 Linux (Ubuntu 18.04.2 LTS) / x86_64  OK  OK  OK UNNEEDED, same version exists in internal repository
tokay2 Windows Server 2012 R2 Standard / x64  OK  OK  OK  OK UNNEEDED, same version exists in internal repository
celaya2 OS X 10.11.6 El Capitan / x86_64  OK  OK  OK  OK UNNEEDED, same version exists in internal repository
Package 162/1706HostnameOS / ArchINSTALLBUILDCHECKBUILD BIN
BioNetStat 1.3.2
Vinicius Jardim
Last Commit: 4a24252
Last Changed Date: 2018-12-17 04:52:45 -0400
malbec2 Linux (Ubuntu 18.04.2 LTS) / x86_64  OK  OK  OK UNNEEDED, same version exists in internal repository
tokay2 Windows Server 2012 R2 Standard / x64  OK  OK  OK  OK UNNEEDED, same version exists in internal repository
celaya2 OS X 10.11.6 El Capitan / x86_64  OK  OK  OK  OK UNNEEDED, same version exists in internal repository
Package 163/1706HostnameOS / ArchINSTALLBUILDCHECKBUILD BIN
BioQC 1.11.1
Jitao David Zhang
Last Commit: 2ebe9fc
Last Changed Date: 2019-01-07 07:44:18 -0400
malbec2 Linux (Ubuntu 18.04.2 LTS) / x86_64  OK  OK  WARNINGS UNNEEDED, same version exists in internal repository
tokay2 Windows Server 2012 R2 Standard / x64  OK  OK  WARNINGS  OK UNNEEDED, same version exists in internal repository
celaya2 OS X 10.11.6 El Capitan / x86_64  OK  OK  WARNINGS  OK UNNEEDED, same version exists in internal repository
Package 164/1706HostnameOS / ArchINSTALLBUILDCHECKBUILD BIN
BioSeqClass 1.41.0
Li Hong
Last Commit: 9267813
Last Changed Date: 2018-10-30 11:54:28 -0400
malbec2 Linux (Ubuntu 18.04.2 LTS) / x86_64  OK  OK  OK UNNEEDED, same version exists in internal repository
tokay2 Windows Server 2012 R2 Standard / x64  OK  OK  OK  OK UNNEEDED, same version exists in internal repository
celaya2 OS X 10.11.6 El Capitan / x86_64  OK  OK  OK  OK UNNEEDED, same version exists in internal repository
Package 165/1706HostnameOS / ArchINSTALLBUILDCHECKBUILD BIN
biosigner 1.11.26
Philippe Rinaudo , Etienne Thevenot
Last Commit: bbede7f
Last Changed Date: 2019-03-07 12:40:17 -0400
malbec2 Linux (Ubuntu 18.04.2 LTS) / x86_64  OK  OK  OK UNNEEDED, same version exists in internal repository
tokay2 Windows Server 2012 R2 Standard / x64  OK  OK  OK  OK UNNEEDED, same version exists in internal repository
celaya2 OS X 10.11.6 El Capitan / x86_64  OK  OK  OK  OK UNNEEDED, same version exists in internal repository
Package 166/1706HostnameOS / ArchINSTALLBUILDCHECKBUILD BIN
Biostrings 2.51.5
H. Pagès
Last Commit: 951902c
Last Changed Date: 2019-03-15 18:47:25 -0400
malbec2 Linux (Ubuntu 18.04.2 LTS) / x86_64  OK  OK  WARNINGS UNNEEDED, same version exists in internal repository
tokay2 Windows Server 2012 R2 Standard / x64  OK  OK  WARNINGS  OK UNNEEDED, same version exists in internal repository
celaya2 OS X 10.11.6 El Capitan / x86_64  OK  OK  WARNINGS  OK UNNEEDED, same version exists in internal repository
Package 167/1706HostnameOS / ArchINSTALLBUILDCHECKBUILD BIN
biosvd 2.19.0
Anneleen Daemen , Matthew Brauer
Last Commit: c95a865
Last Changed Date: 2018-10-30 11:54:32 -0400
malbec2 Linux (Ubuntu 18.04.2 LTS) / x86_64  OK  OK  OK UNNEEDED, same version exists in internal repository
tokay2 Windows Server 2012 R2 Standard / x64  OK  OK  OK  OK UNNEEDED, same version exists in internal repository
celaya2 OS X 10.11.6 El Capitan / x86_64  OK  OK  OK  OK UNNEEDED, same version exists in internal repository
Package 168/1706HostnameOS / ArchINSTALLBUILDCHECKBUILD BIN
biotmle 1.7.3
Nima Hejazi
Last Commit: e5e65b3
Last Changed Date: 2019-04-16 02:16:33 -0400
malbec2 Linux (Ubuntu 18.04.2 LTS) / x86_64  OK  OK  OK YES, new version is higher than in internal repository
tokay2 Windows Server 2012 R2 Standard / x64  OK  OK  OK  OK YES, new version is higher than in internal repository
celaya2 OS X 10.11.6 El Capitan / x86_64  OK  OK  OK  OK YES, new version is higher than in internal repository
Package 169/1706HostnameOS / ArchINSTALLBUILDCHECKBUILD BIN
biovizBase 1.31.1
Michael Lawrence
Last Commit: e02ce5f
Last Changed Date: 2018-12-11 14:51:22 -0400
malbec2 Linux (Ubuntu 18.04.2 LTS) / x86_64  OK  OK  WARNINGS UNNEEDED, same version exists in internal repository
tokay2 Windows Server 2012 R2 Standard / x64  OK  OK  WARNINGS  OK UNNEEDED, same version exists in internal repository
celaya2 OS X 10.11.6 El Capitan / x86_64  OK  OK  WARNINGS  OK UNNEEDED, same version exists in internal repository
Package 170/1706HostnameOS / ArchINSTALLBUILDCHECKBUILD BIN
BiRewire 3.15.0
Andrea Gobbi
Last Commit: 5705c02
Last Changed Date: 2018-10-30 11:54:31 -0400
malbec2 Linux (Ubuntu 18.04.2 LTS) / x86_64  OK  OK  WARNINGS UNNEEDED, same version exists in internal repository
tokay2 Windows Server 2012 R2 Standard / x64  OK  OK  WARNINGS  OK UNNEEDED, same version exists in internal repository
celaya2 OS X 10.11.6 El Capitan / x86_64  OK  OK  OK  OK UNNEEDED, same version exists in internal repository
Package 171/1706HostnameOS / ArchINSTALLBUILDCHECKBUILD BIN
birta 1.27.0
Benedikt Zacher
Last Commit: c8bf16b
Last Changed Date: 2018-10-30 11:54:30 -0400
malbec2 Linux (Ubuntu 18.04.2 LTS) / x86_64  OK  OK  OK UNNEEDED, same version exists in internal repository
tokay2 Windows Server 2012 R2 Standard / x64  OK  OK  WARNINGS  OK UNNEEDED, same version exists in internal repository
celaya2 OS X 10.11.6 El Capitan / x86_64  OK  OK  OK  OK UNNEEDED, same version exists in internal repository
Package 172/1706HostnameOS / ArchINSTALLBUILDCHECKBUILD BIN
birte 1.19.0
Holger Froehlich
Last Commit: 9a0459a
Last Changed Date: 2018-10-30 11:54:34 -0400
malbec2 Linux (Ubuntu 18.04.2 LTS) / x86_64  OK  ERROR  skipped 
tokay2 Windows Server 2012 R2 Standard / x64  OK  OK  WARNINGS  OK UNNEEDED, same version exists in internal repository
celaya2 OS X 10.11.6 El Capitan / x86_64  OK  ERROR  skipped  skipped 
Package 173/1706HostnameOS / ArchINSTALLBUILDCHECKBUILD BIN
BiSeq 1.23.0
Katja Hebestreit
Last Commit: 0c59006
Last Changed Date: 2018-10-30 11:54:31 -0400
malbec2 Linux (Ubuntu 18.04.2 LTS) / x86_64  OK  OK  OK UNNEEDED, same version exists in internal repository
tokay2 Windows Server 2012 R2 Standard / x64  OK  OK  OK  OK UNNEEDED, same version exists in internal repository
celaya2 OS X 10.11.6 El Capitan / x86_64  OK  OK  OK  OK UNNEEDED, same version exists in internal repository
Package 174/1706HostnameOS / ArchINSTALLBUILDCHECKBUILD BIN
BitSeq 1.27.2
Antti Honkela , Panagiotis Papastamoulis
Last Commit: be9013e
Last Changed Date: 2019-03-08 14:35:59 -0400
malbec2 Linux (Ubuntu 18.04.2 LTS) / x86_64  OK  OK  WARNINGS UNNEEDED, same version exists in internal repository
tokay2 Windows Server 2012 R2 Standard / x64  OK  OK  WARNINGS  OK UNNEEDED, same version exists in internal repository
celaya2 OS X 10.11.6 El Capitan / x86_64  OK  OK  WARNINGS  OK UNNEEDED, same version exists in internal repository
Package 175/1706HostnameOS / ArchINSTALLBUILDCHECKBUILD BIN
blima 1.17.0
Vojtěch Kulvait
Last Commit: f0ce5fc
Last Changed Date: 2018-10-30 11:54:32 -0400
malbec2 Linux (Ubuntu 18.04.2 LTS) / x86_64  OK  OK  WARNINGS UNNEEDED, same version exists in internal repository
tokay2 Windows Server 2012 R2 Standard / x64  OK  OK  WARNINGS  OK UNNEEDED, same version exists in internal repository
celaya2 OS X 10.11.6 El Capitan / x86_64  OK  OK  WARNINGS  OK UNNEEDED, same version exists in internal repository
Package 176/1706HostnameOS / ArchINSTALLBUILDCHECKBUILD BIN
BLMA 1.7.0
Tin Nguyen
Last Commit: d52e1cb
Last Changed Date: 2018-10-30 11:54:37 -0400
malbec2 Linux (Ubuntu 18.04.2 LTS) / x86_64  OK  OK  OK UNNEEDED, same version exists in internal repository
tokay2 Windows Server 2012 R2 Standard / x64  OK  OK  OK  OK UNNEEDED, same version exists in internal repository
celaya2 OS X 10.11.6 El Capitan / x86_64  OK  OK  OK  OK UNNEEDED, same version exists in internal repository
Package 177/1706HostnameOS / ArchINSTALLBUILDCHECKBUILD BIN
bnbc 1.5.0
Kipper Fletez-Brant
Last Commit: 2b16e9e
Last Changed Date: 2018-10-30 11:54:38 -0400
malbec2 Linux (Ubuntu 18.04.2 LTS) / x86_64  OK  OK  OK UNNEEDED, same version exists in internal repository
tokay2 Windows Server 2012 R2 Standard / x64  OK  OK  OK  OK UNNEEDED, same version exists in internal repository
celaya2 OS X 10.11.6 El Capitan / x86_64  OK  OK  OK  OK UNNEEDED, same version exists in internal repository
Package 178/1706HostnameOS / ArchINSTALLBUILDCHECKBUILD BIN
BPRMeth 1.9.4
Chantriolnt-Andreas Kapourani
Last Commit: abc23bd
Last Changed Date: 2019-02-16 06:30:29 -0400
malbec2 Linux (Ubuntu 18.04.2 LTS) / x86_64  OK  OK  OK UNNEEDED, same version exists in internal repository
tokay2 Windows Server 2012 R2 Standard / x64  OK  OK  OK  OK UNNEEDED, same version exists in internal repository
celaya2 OS X 10.11.6 El Capitan / x86_64  OK  OK  OK  OK UNNEEDED, same version exists in internal repository
Package 179/1706HostnameOS / ArchINSTALLBUILDCHECKBUILD BIN
BRAIN 1.29.1
Piotr Dittwald
Last Commit: 4d69ec5
Last Changed Date: 2019-01-04 13:08:37 -0400
malbec2 Linux (Ubuntu 18.04.2 LTS) / x86_64  OK  OK  WARNINGS UNNEEDED, same version exists in internal repository
tokay2 Windows Server 2012 R2 Standard / x64  OK  OK  WARNINGS  OK UNNEEDED, same version exists in internal repository
celaya2 OS X 10.11.6 El Capitan / x86_64  OK  OK  WARNINGS  OK UNNEEDED, same version exists in internal repository
Package 180/1706HostnameOS / ArchINSTALLBUILDCHECKBUILD BIN
brainImageR 1.1.1
Sara B Linker
Last Commit: e6046d0
Last Changed Date: 2019-01-15 11:38:49 -0400
malbec2 Linux (Ubuntu 18.04.2 LTS) / x86_64  OK  ERROR  skipped 
tokay2 Windows Server 2012 R2 Standard / x64  OK  ERROR  skipped  skipped 
celaya2 OS X 10.11.6 El Capitan / x86_64  OK  ERROR  skipped  skipped 
Package 181/1706HostnameOS / ArchINSTALLBUILDCHECKBUILD BIN
BrainStars 1.27.0
Itoshi NIKAIDO
Last Commit: 240c3cc
Last Changed Date: 2018-10-30 11:54:30 -0400
malbec2 Linux (Ubuntu 18.04.2 LTS) / x86_64  OK  OK  OK UNNEEDED, same version exists in internal repository
tokay2 Windows Server 2012 R2 Standard / x64  OK  OK  OK  OK UNNEEDED, same version exists in internal repository
celaya2 OS X 10.11.6 El Capitan / x86_64  OK  OK  OK  OK UNNEEDED, same version exists in internal repository
Package 182/1706HostnameOS / ArchINSTALLBUILDCHECKBUILD BIN
branchpointer 1.9.0
Beth Signal
Last Commit: 63d1418
Last Changed Date: 2018-10-30 11:54:37 -0400
malbec2 Linux (Ubuntu 18.04.2 LTS) / x86_64  OK  OK  OK UNNEEDED, same version exists in internal repository
tokay2 Windows Server 2012 R2 Standard / x64  OK  OK  OK  OK UNNEEDED, same version exists in internal repository
celaya2 OS X 10.11.6 El Capitan / x86_64  OK  OK  OK  OK UNNEEDED, same version exists in internal repository
Package 183/1706HostnameOS / ArchINSTALLBUILDCHECKBUILD BIN
breakpointR 1.1.3
David Porubsky
Last Commit: c2898d4
Last Changed Date: 2019-04-08 17:36:57 -0400
malbec2 Linux (Ubuntu 18.04.2 LTS) / x86_64  OK  OK  OK UNNEEDED, same version exists in internal repository
tokay2 Windows Server 2012 R2 Standard / x64  OK  OK  OK  OK UNNEEDED, same version exists in internal repository
celaya2 OS X 10.11.6 El Capitan / x86_64  OK  OK  OK  OK UNNEEDED, same version exists in internal repository
Package 184/1706HostnameOS / ArchINSTALLBUILDCHECKBUILD BIN
bridge 1.47.0
Raphael Gottardo
Last Commit: 6254483
Last Changed Date: 2018-10-30 11:54:26 -0400
malbec2 Linux (Ubuntu 18.04.2 LTS) / x86_64  OK  OK  WARNINGS UNNEEDED, same version exists in internal repository
tokay2 Windows Server 2012 R2 Standard / x64  OK  OK  WARNINGS  OK UNNEEDED, same version exists in internal repository
celaya2 OS X 10.11.6 El Capitan / x86_64  OK  OK  OK  OK UNNEEDED, same version exists in internal repository
Package 185/1706HostnameOS / ArchINSTALLBUILDCHECKBUILD BIN
BridgeDbR 1.17.5
Egon Willighagen
Last Commit: 7b22a84
Last Changed Date: 2019-04-07 10:46:37 -0400
malbec2 Linux (Ubuntu 18.04.2 LTS) / x86_64  OK  OK  OK UNNEEDED, same version exists in internal repository
tokay2 Windows Server 2012 R2 Standard / x64  OK  OK  OK  OK UNNEEDED, same version exists in internal repository
celaya2 OS X 10.11.6 El Capitan / x86_64  OK  OK  OK  OK UNNEEDED, same version exists in internal repository
Package 186/1706HostnameOS / ArchINSTALLBUILDCHECKBUILD BIN
BrowserViz 2.5.14
Paul Shannon
Last Commit: 0d4db5d
Last Changed Date: 2019-04-13 14:23:52 -0400
malbec2 Linux (Ubuntu 18.04.2 LTS) / x86_64  OK  OK  OK UNNEEDED, same version exists in internal repository
tokay2 Windows Server 2012 R2 Standard / x64  OK  OK  OK  OK UNNEEDED, same version exists in internal repository
celaya2 OS X 10.11.6 El Capitan / x86_64  OK  OK  OK  OK UNNEEDED, same version exists in internal repository
Package 187/1706HostnameOS / ArchINSTALLBUILDCHECKBUILD BIN
BSgenome 1.51.0
H. Pagès
Last Commit: ab035b9
Last Changed Date: 2018-10-30 11:54:27 -0400
malbec2 Linux (Ubuntu 18.04.2 LTS) / x86_64  OK  OK  WARNINGS UNNEEDED, same version exists in internal repository
tokay2 Windows Server 2012 R2 Standard / x64  OK  OK  WARNINGS  OK UNNEEDED, same version exists in internal repository
celaya2 OS X 10.11.6 El Capitan / x86_64  OK  OK  WARNINGS  OK UNNEEDED, same version exists in internal repository
Package 188/1706HostnameOS / ArchINSTALLBUILDCHECKBUILD BIN
bsseq 1.19.3
Kasper Daniel Hansen
Last Commit: d9114c7
Last Changed Date: 2019-01-31 17:38:18 -0400
malbec2 Linux (Ubuntu 18.04.2 LTS) / x86_64  OK  OK  ERROR 
tokay2 Windows Server 2012 R2 Standard / x64  OK  OK  ERROR  OK 
celaya2 OS X 10.11.6 El Capitan / x86_64  OK  OK  ERROR  OK 
Package 189/1706HostnameOS / ArchINSTALLBUILDCHECKBUILD BIN
BubbleTree 2.13.3
Todd Creasy , Wei Zhu
Last Commit: 90efc88
Last Changed Date: 2019-01-04 10:51:02 -0400
malbec2 Linux (Ubuntu 18.04.2 LTS) / x86_64  OK  OK  OK UNNEEDED, same version exists in internal repository
tokay2 Windows Server 2012 R2 Standard / x64  OK  OK  OK  OK UNNEEDED, same version exists in internal repository
celaya2 OS X 10.11.6 El Capitan / x86_64  OK  OK  OK  OK UNNEEDED, same version exists in internal repository
Package 190/1706HostnameOS / ArchINSTALLBUILDCHECKBUILD BIN
BufferedMatrix 1.47.0
Ben Bolstad
Last Commit: eca2e36
Last Changed Date: 2018-10-30 11:54:27 -0400
malbec2 Linux (Ubuntu 18.04.2 LTS) / x86_64  OK  OK  OK UNNEEDED, same version exists in internal repository
tokay2 Windows Server 2012 R2 Standard / x64  OK  OK  OK  OK UNNEEDED, same version exists in internal repository
celaya2 OS X 10.11.6 El Capitan / x86_64  OK  OK  OK  OK UNNEEDED, same version exists in internal repository
Package 191/1706HostnameOS / ArchINSTALLBUILDCHECKBUILD BIN
BufferedMatrixMethods 1.47.0
Ben Bolstad
Last Commit: 2798185
Last Changed Date: 2018-10-30 11:54:27 -0400
malbec2 Linux (Ubuntu 18.04.2 LTS) / x86_64  OK  OK  OK UNNEEDED, same version exists in internal repository
tokay2 Windows Server 2012 R2 Standard / x64  OK  OK  OK  OK UNNEEDED, same version exists in internal repository
celaya2 OS X 10.11.6 El Capitan / x86_64  OK  OK  OK  OK UNNEEDED, same version exists in internal repository
Package 192/1706HostnameOS / ArchINSTALLBUILDCHECKBUILD BIN
BUMHMM 1.7.2
Alina Selega
Last Commit: 5b3eb52
Last Changed Date: 2019-04-12 17:34:11 -0400
malbec2 Linux (Ubuntu 18.04.2 LTS) / x86_64  OK  OK  OK UNNEEDED, same version exists in internal repository
tokay2 Windows Server 2012 R2 Standard / x64  OK  OK  WARNINGS  OK UNNEEDED, same version exists in internal repository
celaya2 OS X 10.11.6 El Capitan / x86_64  OK  OK  OK  OK UNNEEDED, same version exists in internal repository
Package 193/1706HostnameOS / ArchINSTALLBUILDCHECKBUILD BIN
bumphunter 1.25.4
Rafael A. Irizarry
Last Commit: ebf505e
Last Changed Date: 2019-04-03 17:29:15 -0400
malbec2 Linux (Ubuntu 18.04.2 LTS) / x86_64  OK  OK  OK UNNEEDED, same version exists in internal repository
tokay2 Windows Server 2012 R2 Standard / x64  OK  OK  WARNINGS  OK UNNEEDED, same version exists in internal repository
celaya2 OS X 10.11.6 El Capitan / x86_64  OK  OK  OK  OK UNNEEDED, same version exists in internal repository
Package 194/1706HostnameOS / ArchINSTALLBUILDCHECKBUILD BIN
BUS 1.39.0
Yuanhua Liu
Last Commit: ff56127
Last Changed Date: 2018-10-30 11:54:28 -0400
malbec2 Linux (Ubuntu 18.04.2 LTS) / x86_64  OK  OK  OK UNNEEDED, same version exists in internal repository
tokay2 Windows Server 2012 R2 Standard / x64  OK  OK  OK  OK UNNEEDED, same version exists in internal repository
celaya2 OS X 10.11.6 El Capitan / x86_64  OK  OK  OK  OK UNNEEDED, same version exists in internal repository
Package 195/1706HostnameOS / ArchINSTALLBUILDCHECKBUILD BIN
BUScorrect 1.1.0
Xiangyu Luo
Last Commit: b417e88
Last Changed Date: 2018-10-30 11:54:39 -0400
malbec2 Linux (Ubuntu 18.04.2 LTS) / x86_64  OK  OK  OK UNNEEDED, same version exists in internal repository
tokay2 Windows Server 2012 R2 Standard / x64  OK  OK  OK  OK UNNEEDED, same version exists in internal repository
celaya2 OS X 10.11.6 El Capitan / x86_64  OK  OK  OK  OK UNNEEDED, same version exists in internal repository
C
ABCDEFGHIJKLMNOPQRSTUVWXYZ
Package 196/1706HostnameOS / ArchINSTALLBUILDCHECKBUILD BIN
CAFE 1.19.0
Sander Bollen
Last Commit: 6fde661
Last Changed Date: 2018-10-30 11:54:32 -0400
malbec2 Linux (Ubuntu 18.04.2 LTS) / x86_64  OK  OK  WARNINGS UNNEEDED, same version exists in internal repository
tokay2 Windows Server 2012 R2 Standard / x64  OK  OK  WARNINGS  OK UNNEEDED, same version exists in internal repository
celaya2 OS X 10.11.6 El Capitan / x86_64  OK  OK  WARNINGS  OK UNNEEDED, same version exists in internal repository
Package 197/1706HostnameOS / ArchINSTALLBUILDCHECKBUILD BIN
CAGEfightR 1.3.0
Malte Thodberg
Last Commit: 58a8416
Last Changed Date: 2019-03-13 07:53:54 -0400
malbec2 Linux (Ubuntu 18.04.2 LTS) / x86_64  OK  OK  OK UNNEEDED, same version exists in internal repository
tokay2 Windows Server 2012 R2 Standard / x64  OK  OK  OK  OK UNNEEDED, same version exists in internal repository
celaya2 OS X 10.11.6 El Capitan / x86_64  OK  OK  OK  OK UNNEEDED, same version exists in internal repository
Package 198/1706HostnameOS / ArchINSTALLBUILDCHECKBUILD BIN
CAGEr 1.25.1
Vanja Haberle , Charles Plessy
Last Commit: d93551e
Last Changed Date: 2018-12-12 00:42:09 -0400
malbec2 Linux (Ubuntu 18.04.2 LTS) / x86_64  OK  OK  OK UNNEEDED, same version exists in internal repository
tokay2 Windows Server 2012 R2 Standard / x64  OK  OK  WARNINGS  OK UNNEEDED, same version exists in internal repository
celaya2 OS X 10.11.6 El Capitan / x86_64  OK  OK  OK  OK UNNEEDED, same version exists in internal repository
Package 199/1706HostnameOS / ArchINSTALLBUILDCHECKBUILD BIN
CALIB 1.49.0
Hui Zhao
Last Commit: 5a7a01c
Last Changed Date: 2018-10-30 11:54:27 -0400
malbec2 Linux (Ubuntu 18.04.2 LTS) / x86_64  OK  OK  WARNINGS UNNEEDED, same version exists in internal repository
tokay2 Windows Server 2012 R2 Standard / x64  OK  OK  OK  OK UNNEEDED, same version exists in internal repository
celaya2 OS X 10.11.6 El Capitan / x86_64  OK  OK  WARNINGS  OK UNNEEDED, same version exists in internal repository
Package 200/1706HostnameOS / ArchINSTALLBUILDCHECKBUILD BIN
CAMERA 1.39.2
Steffen Neumann
Last Commit: 292b5c1
Last Changed Date: 2019-01-29 17:12:04 -0400
malbec2 Linux (Ubuntu 18.04.2 LTS) / x86_64  OK  OK  OK UNNEEDED, same version exists in internal repository
tokay2 Windows Server 2012 R2 Standard / x64  OK  OK  OK  OK UNNEEDED, same version exists in internal repository
celaya2 OS X 10.11.6 El Capitan / x86_64  OK  OK  OK  OK UNNEEDED, same version exists in internal repository
Package 201/1706HostnameOS / ArchINSTALLBUILDCHECKBUILD BIN
CAMTHC 1.1.3
Lulu Chen
Last Commit: 8564b7a
Last Changed Date: 2019-02-05 17:25:26 -0400
malbec2 Linux (Ubuntu 18.04.2 LTS) / x86_64  OK  OK  OK UNNEEDED, same version exists in internal repository
tokay2 Windows Server 2012 R2 Standard / x64  OK  OK  OK  OK UNNEEDED, same version exists in internal repository
celaya2 OS X 10.11.6 El Capitan / x86_64  OK  OK  OK  OK UNNEEDED, same version exists in internal repository
Package 202/1706HostnameOS / ArchINSTALLBUILDCHECKBUILD BIN
canceR 1.17.1
Karim Mezhoud
Last Commit: d0e4002
Last Changed Date: 2019-02-21 17:03:40 -0400
malbec2 Linux (Ubuntu 18.04.2 LTS) / x86_64  OK  OK  WARNINGS UNNEEDED, same version exists in internal repository
tokay2 Windows Server 2012 R2 Standard / x64  OK  OK  WARNINGS  OK UNNEEDED, same version exists in internal repository
celaya2 OS X 10.11.6 El Capitan / x86_64  OK  OK  WARNINGS  OK UNNEEDED, same version exists in internal repository
Package 203/1706HostnameOS / ArchINSTALLBUILDCHECKBUILD BIN
cancerclass 1.27.0
Daniel Kosztyla
Last Commit: 33e0f34
Last Changed Date: 2018-10-30 11:54:30 -0400
malbec2 Linux (Ubuntu 18.04.2 LTS) / x86_64  OK  OK  OK UNNEEDED, same version exists in internal repository
tokay2 Windows Server 2012 R2 Standard / x64  OK  OK  OK  OK UNNEEDED, same version exists in internal repository
celaya2 OS X 10.11.6 El Capitan / x86_64  OK  OK  WARNINGS  OK UNNEEDED, same version exists in internal repository
Package 204/1706HostnameOS / ArchINSTALLBUILDCHECKBUILD BIN
CancerInSilico 2.3.1
Thomas D. Sherman
Last Commit: 29bab0f
Last Changed Date: 2019-01-04 13:20:58 -0400
malbec2 Linux (Ubuntu 18.04.2 LTS) / x86_64  OK  OK  WARNINGS UNNEEDED, same version exists in internal repository
tokay2 Windows Server 2012 R2 Standard / x64  OK  OK  WARNINGS  OK UNNEEDED, same version exists in internal repository
celaya2 OS X 10.11.6 El Capitan / x86_64  OK  OK  WARNINGS  OK UNNEEDED, same version exists in internal repository
Package 205/1706HostnameOS / ArchINSTALLBUILDCHECKBUILD BIN
CancerMutationAnalysis 1.25.0
Simina M. Boca
Last Commit: 75ea9c0
Last Changed Date: 2018-10-30 11:54:30 -0400
malbec2 Linux (Ubuntu 18.04.2 LTS) / x86_64  OK  OK  OK UNNEEDED, same version exists in internal repository
tokay2 Windows Server 2012 R2 Standard / x64  OK  OK  OK  OK UNNEEDED, same version exists in internal repository
celaya2 OS X 10.11.6 El Capitan / x86_64  OK  OK  OK  OK UNNEEDED, same version exists in internal repository
Package 206/1706HostnameOS / ArchINSTALLBUILDCHECKBUILD BIN
CancerSubtypes 1.9.0
Taosheng Xu
Last Commit: 0e61488
Last Changed Date: 2018-10-30 11:54:36 -0400
malbec2 Linux (Ubuntu 18.04.2 LTS) / x86_64  OK  OK  OK UNNEEDED, same version exists in internal repository
tokay2 Windows Server 2012 R2 Standard / x64  OK  OK  OK  OK UNNEEDED, same version exists in internal repository
celaya2 OS X 10.11.6 El Capitan / x86_64  OK  OK  OK  OK UNNEEDED, same version exists in internal repository
Package 207/1706HostnameOS / ArchINSTALLBUILDCHECKBUILD BIN
CAnD 1.15.0
Caitlin McHugh
Last Commit: 3e09bdc
Last Changed Date: 2018-10-30 11:54:34 -0400
malbec2 Linux (Ubuntu 18.04.2 LTS) / x86_64  OK  OK  OK UNNEEDED, same version exists in internal repository
tokay2 Windows Server 2012 R2 Standard / x64  OK  OK  OK  OK UNNEEDED, same version exists in internal repository
celaya2 OS X 10.11.6 El Capitan / x86_64  OK  OK  OK  OK UNNEEDED, same version exists in internal repository
Package 208/1706HostnameOS / ArchINSTALLBUILDCHECKBUILD BIN
caOmicsV 1.13.1
Henry Zhang
Last Commit: bc9f50a
Last Changed Date: 2019-01-04 13:08:48 -0400
malbec2 Linux (Ubuntu 18.04.2 LTS) / x86_64  OK  OK  OK UNNEEDED, same version exists in internal repository
tokay2 Windows Server 2012 R2 Standard / x64  OK  OK  OK  OK UNNEEDED, same version exists in internal repository
celaya2 OS X 10.11.6 El Capitan / x86_64  OK  OK  OK  OK UNNEEDED, same version exists in internal repository
Package 209/1706HostnameOS / ArchINSTALLBUILDCHECKBUILD BIN
Cardinal 2.1.13
Kylie A. Bemis
Last Commit: f6fb044
Last Changed Date: 2019-04-15 00:54:36 -0400
malbec2 Linux (Ubuntu 18.04.2 LTS) / x86_64  OK  OK  OK UNNEEDED, same version exists in internal repository
tokay2 Windows Server 2012 R2 Standard / x64  OK  OK  OK  OK UNNEEDED, same version exists in internal repository
celaya2 OS X 10.11.6 El Capitan / x86_64  OK  OK  OK  OK UNNEEDED, same version exists in internal repository
Package 210/1706HostnameOS / ArchINSTALLBUILDCHECKBUILD BIN
casper 2.17.1
David Rossell
Last Commit: fd2e59a
Last Changed Date: 2019-01-04 13:21:12 -0400
malbec2 Linux (Ubuntu 18.04.2 LTS) / x86_64  OK  OK  WARNINGS UNNEEDED, same version exists in internal repository
tokay2 Windows Server 2012 R2 Standard / x64  OK  OK  WARNINGS  OK UNNEEDED, same version exists in internal repository
celaya2 OS X 10.11.6 El Capitan / x86_64  OK  OK  WARNINGS  OK UNNEEDED, same version exists in internal repository
Package 211/1706HostnameOS / ArchINSTALLBUILDCHECKBUILD BIN
CATALYST 1.7.8
Helena L. Crowell
Last Commit: 62c0f18
Last Changed Date: 2019-04-11 11:23:50 -0400
malbec2 Linux (Ubuntu 18.04.2 LTS) / x86_64  OK  OK  OK UNNEEDED, same version exists in internal repository
tokay2 Windows Server 2012 R2 Standard / x64  OK  OK  OK  OK UNNEEDED, same version exists in internal repository
celaya2 OS X 10.11.6 El Capitan / x86_64  OK  OK  OK  OK UNNEEDED, same version exists in internal repository
Package 212/1706HostnameOS / ArchINSTALLBUILDCHECKBUILD BIN
Category 2.49.1
Bioconductor Package Maintainer
Last Commit: b847a88
Last Changed Date: 2019-03-07 15:18:45 -0400
malbec2 Linux (Ubuntu 18.04.2 LTS) / x86_64  OK  OK  OK UNNEEDED, same version exists in internal repository
tokay2 Windows Server 2012 R2 Standard / x64  OK  OK  OK  OK UNNEEDED, same version exists in internal repository
celaya2 OS X 10.11.6 El Capitan / x86_64  OK  OK  OK  OK UNNEEDED, same version exists in internal repository
Package 213/1706HostnameOS / ArchINSTALLBUILDCHECKBUILD BIN
categoryCompare 1.27.0
Robert M. Flight
Last Commit: 344c525
Last Changed Date: 2018-10-30 11:54:30 -0400
malbec2 Linux (Ubuntu 18.04.2 LTS) / x86_64  OK  OK  OK UNNEEDED, same version exists in internal repository
tokay2 Windows Server 2012 R2 Standard / x64  OK  OK  OK  OK UNNEEDED, same version exists in internal repository
celaya2 OS X 10.11.6 El Capitan / x86_64  OK  OK  OK  OK UNNEEDED, same version exists in internal repository
Package 214/1706HostnameOS / ArchINSTALLBUILDCHECKBUILD BIN
CausalR 1.15.1
Glyn Bradley , Steven Barrett
Last Commit: c2ba57a
Last Changed Date: 2019-01-04 13:21:59 -0400
malbec2 Linux (Ubuntu 18.04.2 LTS) / x86_64  OK  OK  OK UNNEEDED, same version exists in internal repository
tokay2 Windows Server 2012 R2 Standard / x64  OK  OK  OK  OK UNNEEDED, same version exists in internal repository
celaya2 OS X 10.11.6 El Capitan / x86_64  OK  OK  OK  OK UNNEEDED, same version exists in internal repository
Package 215/1706HostnameOS / ArchINSTALLBUILDCHECKBUILD BIN
cbaf 1.5.3
Arman Shahrisa
Last Commit: c7b59ae
Last Changed Date: 2019-03-08 15:35:58 -0400
malbec2 Linux (Ubuntu 18.04.2 LTS) / x86_64  OK  OK  OK UNNEEDED, same version exists in internal repository
tokay2 Windows Server 2012 R2 Standard / x64  OK  OK  OK  OK UNNEEDED, same version exists in internal repository
celaya2 OS X 10.11.6 El Capitan / x86_64  OK  OK  OK  OK UNNEEDED, same version exists in internal repository
Package 216/1706HostnameOS / ArchINSTALLBUILDCHECKBUILD BIN
ccfindR 1.3.0
Jun Woo
Last Commit: f4e1273
Last Changed Date: 2019-01-03 12:13:54 -0400
malbec2 Linux (Ubuntu 18.04.2 LTS) / x86_64  OK  OK  OK UNNEEDED, same version exists in internal repository
tokay2 Windows Server 2012 R2 Standard / x64  OK  OK  OK  OK UNNEEDED, same version exists in internal repository
celaya2 OS X 10.11.6 El Capitan / x86_64  OK  OK  OK  OK UNNEEDED, same version exists in internal repository
Package 217/1706HostnameOS / ArchINSTALLBUILDCHECKBUILD BIN
ccmap 1.9.0
Alex Pickering
Last Commit: d0e7e31
Last Changed Date: 2018-10-30 11:54:36 -0400
malbec2 Linux (Ubuntu 18.04.2 LTS) / x86_64  OK  ERROR  skipped 
tokay2 Windows Server 2012 R2 Standard / x64  OK  ERROR  skipped  skipped 
celaya2 OS X 10.11.6 El Capitan / x86_64  OK  ERROR  skipped  skipped 
Package 218/1706HostnameOS / ArchINSTALLBUILDCHECKBUILD BIN
CCPROMISE 1.9.0
Xueyuan Cao
Last Commit: b601f2b
Last Changed Date: 2018-10-30 11:54:37 -0400
malbec2 Linux (Ubuntu 18.04.2 LTS) / x86_64  OK  OK  WARNINGS UNNEEDED, same version exists in internal repository
tokay2 Windows Server 2012 R2 Standard / x64  OK  OK  WARNINGS  OK UNNEEDED, same version exists in internal repository
celaya2 OS X 10.11.6 El Capitan / x86_64  OK  OK  WARNINGS  OK UNNEEDED, same version exists in internal repository
Package 219/1706HostnameOS / ArchINSTALLBUILDCHECKBUILD BIN
ccrepe 1.19.1
Emma Schwager ,Craig Bielski, George Weingart
Last Commit: 0239e28
Last Changed Date: 2019-01-04 13:24:15 -0400
malbec2 Linux (Ubuntu 18.04.2 LTS) / x86_64  OK  OK  OK UNNEEDED, same version exists in internal repository
tokay2 Windows Server 2012 R2 Standard / x64  OK  OK  OK  OK UNNEEDED, same version exists in internal repository
celaya2 OS X 10.11.6 El Capitan / x86_64  OK  OK  OK  OK UNNEEDED, same version exists in internal repository
Package 220/1706HostnameOS / ArchINSTALLBUILDCHECKBUILD BIN
celaref 1.1.8
Sarah Williams
Last Commit: 49335ed
Last Changed Date: 2019-04-15 03:06:04 -0400
malbec2 Linux (Ubuntu 18.04.2 LTS) / x86_64  OK  OK  WARNINGS UNNEEDED, same version exists in internal repository
tokay2 Windows Server 2012 R2 Standard / x64  OK  OK  WARNINGS  OK UNNEEDED, same version exists in internal repository
celaya2 OS X 10.11.6 El Capitan / x86_64  OK  OK  WARNINGS  OK UNNEEDED, same version exists in internal repository
Package 221/1706HostnameOS / ArchINSTALLBUILDCHECKBUILD BIN
cellbaseR 1.7.2
Mohammed OE Abdallah
Last Commit: d074bcb7
Last Changed Date: 2019-04-08 15:36:02 -0400
malbec2 Linux (Ubuntu 18.04.2 LTS) / x86_64  OK  OK  ERROR 
tokay2 Windows Server 2012 R2 Standard / x64  OK  OK  WARNINGS  OK UNNEEDED, same version exists in internal repository
celaya2 OS X 10.11.6 El Capitan / x86_64  OK  ERROR  skipped  skipped 
Package 222/1706HostnameOS / ArchINSTALLBUILDCHECKBUILD BIN
CellBench 0.99.10
Shian Su
Last Commit: 1fb2a72
Last Changed Date: 2019-03-19 01:50:48 -0400
malbec2 Linux (Ubuntu 18.04.2 LTS) / x86_64  OK  OK  OK UNNEEDED, same version exists in internal repository
tokay2 Windows Server 2012 R2 Standard / x64  OK  OK  OK  OK UNNEEDED, same version exists in internal repository
celaya2 OS X 10.11.6 El Capitan / x86_64  OK  OK  OK  OK UNNEEDED, same version exists in internal repository
Package 223/1706HostnameOS / ArchINSTALLBUILDCHECKBUILD BIN
cellGrowth 1.27.1
Julien Gagneur
Last Commit: e46d29a
Last Changed Date: 2019-01-04 13:24:39 -0400
malbec2 Linux (Ubuntu 18.04.2 LTS) / x86_64  OK  OK  OK UNNEEDED, same version exists in internal repository
tokay2 Windows Server 2012 R2 Standard / x64  OK  OK  OK  OK UNNEEDED, same version exists in internal repository
celaya2 OS X 10.11.6 El Capitan / x86_64  OK  OK  OK  OK UNNEEDED, same version exists in internal repository
Package 224/1706HostnameOS / ArchINSTALLBUILDCHECKBUILD BIN
cellHTS2 2.47.1
Joseph Barry
Last Commit: 8a1a8cf
Last Changed Date: 2019-01-04 13:24:45 -0400
malbec2 Linux (Ubuntu 18.04.2 LTS) / x86_64  OK  OK  WARNINGS UNNEEDED, same version exists in internal repository
tokay2 Windows Server 2012 R2 Standard / x64  OK  OK  WARNINGS  OK UNNEEDED, same version exists in internal repository
celaya2 OS X 10.11.6 El Capitan / x86_64  OK  OK  WARNINGS  OK UNNEEDED, same version exists in internal repository
Package 225/1706HostnameOS / ArchINSTALLBUILDCHECKBUILD BIN
cellity 1.11.1
Tomislav Ilicic
Last Commit: bfd9115
Last Changed Date: 2019-01-04 13:24:55 -0400
malbec2 Linux (Ubuntu 18.04.2 LTS) / x86_64  OK  OK  OK UNNEEDED, same version exists in internal repository
tokay2 Windows Server 2012 R2 Standard / x64  OK  OK  OK  OK UNNEEDED, same version exists in internal repository
celaya2 OS X 10.11.6 El Capitan / x86_64  OK  OK  OK  OK UNNEEDED, same version exists in internal repository
Package 226/1706HostnameOS / ArchINSTALLBUILDCHECKBUILD BIN
CellMapper 1.9.0
Brad Nelms
Last Commit: 1dbdab9
Last Changed Date: 2018-10-30 11:54:36 -0400
malbec2 Linux (Ubuntu 18.04.2 LTS) / x86_64  OK  OK  WARNINGS UNNEEDED, same version exists in internal repository
tokay2 Windows Server 2012 R2 Standard / x64  OK  OK  WARNINGS  OK UNNEEDED, same version exists in internal repository
celaya2 OS X 10.11.6 El Capitan / x86_64  OK  OK  WARNINGS  OK UNNEEDED, same version exists in internal repository
Package 227/1706HostnameOS / ArchINSTALLBUILDCHECKBUILD BIN
CellMixS 0.99.7
Almut Lütge
Last Commit: 6e29d5a
Last Changed Date: 2019-04-16 09:14:24 -0400
malbec2 Linux (Ubuntu 18.04.2 LTS) / x86_64  OK  OK  OK YES, new version is higher than in internal repository
tokay2 Windows Server 2012 R2 Standard / x64  OK  OK  OK  OK YES, new version is higher than in internal repository
celaya2 OS X 10.11.6 El Capitan / x86_64  OK  OK  OK  OK YES, new version is higher than in internal repository
Package 228/1706HostnameOS / ArchINSTALLBUILDCHECKBUILD BIN
CellNOptR 1.29.0
A.Gabor
Last Commit: 432a98d
Last Changed Date: 2018-11-29 08:33:09 -0400
malbec2 Linux (Ubuntu 18.04.2 LTS) / x86_64  OK  OK  WARNINGS UNNEEDED, same version exists in internal repository
tokay2 Windows Server 2012 R2 Standard / x64  OK  OK  WARNINGS  OK UNNEEDED, same version exists in internal repository
celaya2 OS X 10.11.6 El Capitan / x86_64  OK  OK  WARNINGS  OK UNNEEDED, same version exists in internal repository
Package 229/1706HostnameOS / ArchINSTALLBUILDCHECKBUILD BIN
cellscape 1.7.0
Maia Smith
Last Commit: 6566a51
Last Changed Date: 2018-10-30 11:54:37 -0400
malbec2 Linux (Ubuntu 18.04.2 LTS) / x86_64  OK  OK  WARNINGS UNNEEDED, same version exists in internal repository
tokay2 Windows Server 2012 R2 Standard / x64  OK  OK  WARNINGS  OK UNNEEDED, same version exists in internal repository
celaya2 OS X 10.11.6 El Capitan / x86_64  OK  OK  WARNINGS  OK UNNEEDED, same version exists in internal repository
Package 230/1706HostnameOS / ArchINSTALLBUILDCHECKBUILD BIN
CellScore 1.3.0
Nancy Mah
Last Commit: 8da88b5
Last Changed Date: 2018-10-30 11:54:39 -0400
malbec2 Linux (Ubuntu 18.04.2 LTS) / x86_64  OK  OK  OK UNNEEDED, same version exists in internal repository
tokay2 Windows Server 2012 R2 Standard / x64  OK  OK  OK  OK UNNEEDED, same version exists in internal repository
celaya2 OS X 10.11.6 El Capitan / x86_64  OK  OK  OK  OK UNNEEDED, same version exists in internal repository
Package 231/1706HostnameOS / ArchINSTALLBUILDCHECKBUILD BIN
CellTrails 1.1.1
Daniel Ellwanger
Last Commit: 34f9f5c
Last Changed Date: 2019-01-04 13:08:53 -0400
malbec2 Linux (Ubuntu 18.04.2 LTS) / x86_64  OK  OK  OK UNNEEDED, same version exists in internal repository
tokay2 Windows Server 2012 R2 Standard / x64  OK  OK  OK  OK UNNEEDED, same version exists in internal repository
celaya2 OS X 10.11.6 El Capitan / x86_64  OK  OK  OK  OK UNNEEDED, same version exists in internal repository
Package 232/1706HostnameOS / ArchINSTALLBUILDCHECKBUILD BIN
cellTree 1.13.1
David duVerle
Last Commit: a60a308
Last Changed Date: 2019-01-04 13:25:01 -0400
malbec2 Linux (Ubuntu 18.04.2 LTS) / x86_64  OK  OK  OK UNNEEDED, same version exists in internal repository
tokay2 Windows Server 2012 R2 Standard / x64  OK  OK  WARNINGS  OK UNNEEDED, same version exists in internal repository
celaya2 OS X 10.11.6 El Capitan / x86_64  OK  OK  OK  OK UNNEEDED, same version exists in internal repository
Package 233/1706HostnameOS / ArchINSTALLBUILDCHECKBUILD BIN
CEMiTool 1.7.7
Helder Nakaya
Last Commit: d3739af
Last Changed Date: 2019-01-07 11:41:49 -0400
malbec2 Linux (Ubuntu 18.04.2 LTS) / x86_64  OK  OK  OK UNNEEDED, same version exists in internal repository
tokay2 Windows Server 2012 R2 Standard / x64  OK  OK  OK  OK UNNEEDED, same version exists in internal repository
celaya2 OS X 10.11.6 El Capitan / x86_64  OK  OK  OK  OK UNNEEDED, same version exists in internal repository
Package 234/1706HostnameOS / ArchINSTALLBUILDCHECKBUILD BIN
CexoR 1.21.0
Pedro Madrigal
Last Commit: d585bed
Last Changed Date: 2018-10-30 11:54:31 -0400
malbec2 Linux (Ubuntu 18.04.2 LTS) / x86_64  OK  OK  OK UNNEEDED, same version exists in internal repository
tokay2 Windows Server 2012 R2 Standard / x64  OK  OK  OK  OK UNNEEDED, same version exists in internal repository
celaya2 OS X 10.11.6 El Capitan / x86_64  OK  OK  OK  OK UNNEEDED, same version exists in internal repository
Package 235/1706HostnameOS / ArchINSTALLBUILDCHECKBUILD BIN
CFAssay 1.17.1
Herbert Braselmann
Last Commit: f1d2fc4
Last Changed Date: 2018-12-18 11:27:29 -0400
malbec2 Linux (Ubuntu 18.04.2 LTS) / x86_64  OK  OK  OK UNNEEDED, same version exists in internal repository
tokay2 Windows Server 2012 R2 Standard / x64  OK  OK  OK  OK UNNEEDED, same version exists in internal repository
celaya2 OS X 10.11.6 El Capitan / x86_64  OK  OK  OK  OK UNNEEDED, same version exists in internal repository
Package 236/1706HostnameOS / ArchINSTALLBUILDCHECKBUILD BIN
CGEN 3.19.1
William Wheeler
Last Commit: b6d2a97
Last Changed Date: 2019-02-25 08:44:31 -0400
malbec2 Linux (Ubuntu 18.04.2 LTS) / x86_64  OK  OK  OK UNNEEDED, same version exists in internal repository
tokay2 Windows Server 2012 R2 Standard / x64  OK  OK  OK  OK UNNEEDED, same version exists in internal repository
celaya2 OS X 10.11.6 El Capitan / x86_64  OK  OK  OK  OK UNNEEDED, same version exists in internal repository
Package 237/1706HostnameOS / ArchINSTALLBUILDCHECKBUILD BIN
CGHbase 1.43.0
Mark van de Wiel
Last Commit: 2dc6a02
Last Changed Date: 2018-10-30 11:54:28 -0400
malbec2 Linux (Ubuntu 18.04.2 LTS) / x86_64  OK  OK  OK UNNEEDED, same version exists in internal repository
tokay2 Windows Server 2012 R2 Standard / x64  OK  OK  WARNINGS  OK UNNEEDED, same version exists in internal repository
celaya2 OS X 10.11.6 El Capitan / x86_64  OK  OK  OK  OK UNNEEDED, same version exists in internal repository
Package 238/1706HostnameOS / ArchINSTALLBUILDCHECKBUILD BIN
CGHcall 2.45.0
Mark van de Wiel
Last Commit: 6d1aadb
Last Changed Date: 2018-10-30 11:54:27 -0400
malbec2 Linux (Ubuntu 18.04.2 LTS) / x86_64  OK  OK  OK UNNEEDED, same version exists in internal repository
tokay2 Windows Server 2012 R2 Standard / x64  OK  OK  OK  OK UNNEEDED, same version exists in internal repository
celaya2 OS X 10.11.6 El Capitan / x86_64  OK  OK  OK  OK UNNEEDED, same version exists in internal repository
Package 239/1706HostnameOS / ArchINSTALLBUILDCHECKBUILD BIN
cghMCR 1.41.0
J. Zhang
Last Commit: 878a767
Last Changed Date: 2018-10-30 11:54:27 -0400
malbec2 Linux (Ubuntu 18.04.2 LTS) / x86_64  OK  OK  WARNINGS UNNEEDED, same version exists in internal repository
tokay2 Windows Server 2012 R2 Standard / x64  OK  OK  WARNINGS  OK UNNEEDED, same version exists in internal repository
celaya2 OS X 10.11.6 El Capitan / x86_64  OK  OK  WARNINGS  OK UNNEEDED, same version exists in internal repository
Package 240/1706HostnameOS / ArchINSTALLBUILDCHECKBUILD BIN
CGHnormaliter 1.37.0
Bart P.P. van Houte
Last Commit: 0c04a62
Last Changed Date: 2018-10-30 11:54:28 -0400
malbec2 Linux (Ubuntu 18.04.2 LTS) / x86_64  OK  OK  OK UNNEEDED, same version exists in internal repository
tokay2 Windows Server 2012 R2 Standard / x64  OK  OK  OK  OK UNNEEDED, same version exists in internal repository
celaya2 OS X 10.11.6 El Capitan / x86_64  OK  OK  OK  OK UNNEEDED, same version exists in internal repository
Package 241/1706HostnameOS / ArchINSTALLBUILDCHECKBUILD BIN
CGHregions 1.41.0
Sjoerd Vosse
Last Commit: 262f3b4
Last Changed Date: 2018-10-30 11:54:28 -0400
malbec2 Linux (Ubuntu 18.04.2 LTS) / x86_64  OK  OK  OK UNNEEDED, same version exists in internal repository
tokay2 Windows Server 2012 R2 Standard / x64  OK  OK  OK  OK UNNEEDED, same version exists in internal repository
celaya2 OS X 10.11.6 El Capitan / x86_64  OK  OK  OK  OK UNNEEDED, same version exists in internal repository
Package 242/1706HostnameOS / ArchINSTALLBUILDCHECKBUILD BIN
ChAMP 2.13.5
Yuan Tian
Last Commit: 0f600f3
Last Changed Date: 2019-02-05 17:12:44 -0400
malbec2 Linux (Ubuntu 18.04.2 LTS) / x86_64  OK  OK  WARNINGS UNNEEDED, same version exists in internal repository
tokay2 Windows Server 2012 R2 Standard / x64  OK  OK  WARNINGS  OK UNNEEDED, same version exists in internal repository
celaya2 OS X 10.11.6 El Capitan / x86_64  OK  OK  WARNINGS  OK UNNEEDED, same version exists in internal repository
Package 243/1706HostnameOS / ArchINSTALLBUILDCHECKBUILD BIN
CHARGE 1.3.0
Benjamin Mayne
Last Commit: 4900e2b
Last Changed Date: 2018-10-30 11:54:38 -0400
malbec2 Linux (Ubuntu 18.04.2 LTS) / x86_64  OK  OK  OK UNNEEDED, same version exists in internal repository
tokay2 Windows Server 2012 R2 Standard / x64  OK  OK  OK  OK UNNEEDED, same version exists in internal repository
celaya2 OS X 10.11.6 El Capitan / x86_64  OK  OK  OK  OK UNNEEDED, same version exists in internal repository
Package 244/1706HostnameOS / ArchINSTALLBUILDCHECKBUILD BIN
charm 2.29.0
Peter Murakami
Last Commit: 56ad8a8
Last Changed Date: 2018-10-30 11:54:28 -0400
malbec2 Linux (Ubuntu 18.04.2 LTS) / x86_64  ERROR  ERROR  skipped 
tokay2 Windows Server 2012 R2 Standard / x64  ERROR  ERROR  skipped  skipped 
celaya2 OS X 10.11.6 El Capitan / x86_64  ERROR  ERROR  skipped  skipped 
Package 245/1706HostnameOS / ArchINSTALLBUILDCHECKBUILD BIN
ChemmineOB 1.21.0
Thomas Girke
Last Commit: 582874d
Last Changed Date: 2018-10-30 11:54:31 -0400
malbec2 Linux (Ubuntu 18.04.2 LTS) / x86_64  OK  OK  OK UNNEEDED, same version exists in internal repository
tokay2 Windows Server 2012 R2 Standard / x64  OK  OK  OK  OK UNNEEDED, same version exists in internal repository
celaya2 OS X 10.11.6 El Capitan / x86_64  OK  OK  WARNINGS  OK UNNEEDED, same version exists in internal repository
Package 246/1706HostnameOS / ArchINSTALLBUILDCHECKBUILD BIN
ChemmineR 3.35.6
Thomas Girke
Last Commit: 2906861
Last Changed Date: 2019-03-18 13:12:04 -0400
malbec2 Linux (Ubuntu 18.04.2 LTS) / x86_64  OK  OK  OK UNNEEDED, same version exists in internal repository
tokay2 Windows Server 2012 R2 Standard / x64  OK  OK  OK  OK UNNEEDED, same version exists in internal repository
celaya2 OS X 10.11.6 El Capitan / x86_64  OK  OK  WARNINGS  OK UNNEEDED, same version exists in internal repository
Package 247/1706HostnameOS / ArchINSTALLBUILDCHECKBUILD BIN
CHETAH 0.99.5
Jurrian de Kanter
Last Commit: b777e6f
Last Changed Date: 2019-04-09 09:46:21 -0400
malbec2 Linux (Ubuntu 18.04.2 LTS) / x86_64  OK  OK  OK UNNEEDED, same version exists in internal repository
tokay2 Windows Server 2012 R2 Standard / x64  OK  OK  OK  OK UNNEEDED, same version exists in internal repository
celaya2 OS X 10.11.6 El Capitan / x86_64  OK  OK  ERROR  OK 
Package 248/1706HostnameOS / ArchINSTALLBUILDCHECKBUILD BIN
ChIC 1.3.33
Carmen Maria Livi
Last Commit: 6e4b644
Last Changed Date: 2018-11-24 10:03:55 -0400
malbec2 Linux (Ubuntu 18.04.2 LTS) / x86_64  OK  OK  OK UNNEEDED, same version exists in internal repository
tokay2 Windows Server 2012 R2 Standard / x64 ...NOT SUPPORTED...
celaya2 OS X 10.11.6 El Capitan / x86_64  OK  OK  OK  OK UNNEEDED, same version exists in internal repository
Package 249/1706HostnameOS / ArchINSTALLBUILDCHECKBUILD BIN
Chicago 1.11.1
Mikhail Spivakov
Last Commit: 04e5407
Last Changed Date: 2019-01-04 13:09:08 -0400
malbec2 Linux (Ubuntu 18.04.2 LTS) / x86_64  OK  OK  OK UNNEEDED, same version exists in internal repository
tokay2 Windows Server 2012 R2 Standard / x64  OK  OK  OK  OK UNNEEDED, same version exists in internal repository
celaya2 OS X 10.11.6 El Capitan / x86_64  OK  OK  OK  OK UNNEEDED, same version exists in internal repository
Package 250/1706HostnameOS / ArchINSTALLBUILDCHECKBUILD BIN
chimera 1.25.0
Raffaele A Calogero
Last Commit: 562a2dc
Last Changed Date: 2018-10-30 11:54:31 -0400
malbec2 Linux (Ubuntu 18.04.2 LTS) / x86_64  OK  OK  OK UNNEEDED, same version exists in internal repository
tokay2 Windows Server 2012 R2 Standard / x64  OK  OK  OK  OK UNNEEDED, same version exists in internal repository
celaya2 OS X 10.11.6 El Capitan / x86_64  OK  OK  OK  OK UNNEEDED, same version exists in internal repository
Package 251/1706HostnameOS / ArchINSTALLBUILDCHECKBUILD BIN
chimeraviz 1.9.5
Stian Lågstad
Last Commit: b75a767
Last Changed Date: 2019-03-22 17:33:56 -0400
malbec2 Linux (Ubuntu 18.04.2 LTS) / x86_64  OK  OK  OK UNNEEDED, same version exists in internal repository
tokay2 Windows Server 2012 R2 Standard / x64  OK  OK  OK  OK UNNEEDED, same version exists in internal repository
celaya2 OS X 10.11.6 El Capitan / x86_64  OK  OK  OK  OK UNNEEDED, same version exists in internal repository
Package 252/1706HostnameOS / ArchINSTALLBUILDCHECKBUILD BIN
ChIPanalyser 1.4.1
Patrick C.N. Martin
Last Commit: d171c5a
Last Changed Date: 2019-04-05 05:08:22 -0400
malbec2 Linux (Ubuntu 18.04.2 LTS) / x86_64  OK  OK  OK NO, built version is LOWER than in internal repository!!!
tokay2 Windows Server 2012 R2 Standard / x64  OK  OK  WARNINGS  OK NO, built version is LOWER than in internal repository!!!
celaya2 OS X 10.11.6 El Capitan / x86_64  OK  OK  OK  OK NO, built version is LOWER than in internal repository!!!
Package 253/1706HostnameOS / ArchINSTALLBUILDCHECKBUILD BIN
ChIPComp 1.13.0
Li Chen
Last Commit: 968a1a9
Last Changed Date: 2018-10-30 11:54:34 -0400
malbec2 Linux (Ubuntu 18.04.2 LTS) / x86_64  OK  OK  OK UNNEEDED, same version exists in internal repository
tokay2 Windows Server 2012 R2 Standard / x64  OK  OK  OK  OK UNNEEDED, same version exists in internal repository
celaya2 OS X 10.11.6 El Capitan / x86_64  OK  OK  OK  OK UNNEEDED, same version exists in internal repository
Package 254/1706HostnameOS / ArchINSTALLBUILDCHECKBUILD BIN
chipenrich 2.7.1
Raymond G. Cavalcante
Last Commit: 20453ab
Last Changed Date: 2019-01-04 13:25:06 -0400
malbec2 Linux (Ubuntu 18.04.2 LTS) / x86_64  OK  OK  OK UNNEEDED, same version exists in internal repository
tokay2 Windows Server 2012 R2 Standard / x64  OK  OK  OK  OK UNNEEDED, same version exists in internal repository
celaya2 OS X 10.11.6 El Capitan / x86_64  OK  OK  OK  OK UNNEEDED, same version exists in internal repository
Package 255/1706HostnameOS / ArchINSTALLBUILDCHECKBUILD BIN
ChIPexoQual 1.7.0
Rene Welch
Last Commit: 817ab92
Last Changed Date: 2018-10-30 11:54:37 -0400
malbec2 Linux (Ubuntu 18.04.2 LTS) / x86_64  OK  OK  OK UNNEEDED, same version exists in internal repository
tokay2 Windows Server 2012 R2 Standard / x64  OK  OK  OK  OK UNNEEDED, same version exists in internal repository
celaya2 OS X 10.11.6 El Capitan / x86_64  OK  OK  OK  OK UNNEEDED, same version exists in internal repository
Package 256/1706HostnameOS / ArchINSTALLBUILDCHECKBUILD BIN
ChIPpeakAnno 3.17.2
Lihua Julie Zhu
Last Commit: ea2215b
Last Changed Date: 2019-01-22 13:02:27 -0400
malbec2 Linux (Ubuntu 18.04.2 LTS) / x86_64  OK  OK  OK UNNEEDED, same version exists in internal repository
tokay2 Windows Server 2012 R2 Standard / x64  OK  OK  OK  OK UNNEEDED, same version exists in internal repository
celaya2 OS X 10.11.6 El Capitan / x86_64  OK  OK  OK  OK UNNEEDED, same version exists in internal repository
Package 257/1706HostnameOS / ArchINSTALLBUILDCHECKBUILD BIN
ChIPQC 1.19.2
Tom Carroll , Rory Stark
Last Commit: 4a26e5c
Last Changed Date: 2019-02-28 21:36:10 -0400
malbec2 Linux (Ubuntu 18.04.2 LTS) / x86_64  OK  OK  WARNINGS UNNEEDED, same version exists in internal repository
tokay2 Windows Server 2012 R2 Standard / x64  OK  OK  WARNINGS  OK UNNEEDED, same version exists in internal repository
celaya2 OS X 10.11.6 El Capitan / x86_64  OK  OK  WARNINGS  OK UNNEEDED, same version exists in internal repository
Package 258/1706HostnameOS / ArchINSTALLBUILDCHECKBUILD BIN
ChIPseeker 1.19.1
Guangchuang Yu
Last Commit: b986f2d
Last Changed Date: 2019-04-16 05:50:27 -0400
malbec2 Linux (Ubuntu 18.04.2 LTS) / x86_64  OK  OK  OK UNNEEDED, same version exists in internal repository
tokay2 Windows Server 2012 R2 Standard / x64  OK  OK  WARNINGS  OK UNNEEDED, same version exists in internal repository
celaya2 OS X 10.11.6 El Capitan / x86_64  OK  OK  OK  OK UNNEEDED, same version exists in internal repository
Package 259/1706HostnameOS / ArchINSTALLBUILDCHECKBUILD BIN
chipseq 1.33.3
Bioconductor Package Maintainer
Last Commit: a0bd51a
Last Changed Date: 2019-01-22 08:12:07 -0400
malbec2 Linux (Ubuntu 18.04.2 LTS) / x86_64  OK  OK  WARNINGS UNNEEDED, same version exists in internal repository
tokay2 Windows Server 2012 R2 Standard / x64  OK  OK  WARNINGS  OK UNNEEDED, same version exists in internal repository
celaya2 OS X 10.11.6 El Capitan / x86_64  OK  OK  WARNINGS  OK UNNEEDED, same version exists in internal repository
Package 260/1706HostnameOS / ArchINSTALLBUILDCHECKBUILD BIN
ChIPseqR 1.37.0
Peter Humburg
Last Commit: bbf048a
Last Changed Date: 2018-10-30 11:54:28 -0400
malbec2 Linux (Ubuntu 18.04.2 LTS) / x86_64  OK  OK  WARNINGS UNNEEDED, same version exists in internal repository
tokay2 Windows Server 2012 R2 Standard / x64  OK  OK  WARNINGS  OK UNNEEDED, same version exists in internal repository
celaya2 OS X 10.11.6 El Capitan / x86_64  OK  OK  WARNINGS  OK UNNEEDED, same version exists in internal repository
Package 261/1706HostnameOS / ArchINSTALLBUILDCHECKBUILD BIN
ChIPSeqSpike 1.3.1
Nicolas Descostes
Last Commit: 7909334
Last Changed Date: 2019-01-04 13:13:52 -0400
malbec2 Linux (Ubuntu 18.04.2 LTS) / x86_64  OK  OK  OK UNNEEDED, same version exists in internal repository
tokay2 Windows Server 2012 R2 Standard / x64  OK  OK  OK  OK UNNEEDED, same version exists in internal repository
celaya2 OS X 10.11.6 El Capitan / x86_64  OK  OK  OK  OK UNNEEDED, same version exists in internal repository
Package 262/1706HostnameOS / ArchINSTALLBUILDCHECKBUILD BIN
ChIPsim 1.37.0
Peter Humburg
Last Commit: b8e1ff9
Last Changed Date: 2018-10-30 11:54:28 -0400
malbec2 Linux (Ubuntu 18.04.2 LTS) / x86_64  OK  OK  OK UNNEEDED, same version exists in internal repository
tokay2 Windows Server 2012 R2 Standard / x64  OK  OK  OK  OK UNNEEDED, same version exists in internal repository
celaya2 OS X 10.11.6 El Capitan / x86_64  OK  OK  OK  OK UNNEEDED, same version exists in internal repository
Package 263/1706HostnameOS / ArchINSTALLBUILDCHECKBUILD BIN
ChIPXpress 1.27.0
George Wu
Last Commit: a9a71d7
Last Changed Date: 2018-10-30 11:54:30 -0400
malbec2 Linux (Ubuntu 18.04.2 LTS) / x86_64  OK  OK  OK UNNEEDED, same version exists in internal repository
tokay2 Windows Server 2012 R2 Standard / x64 ...NOT SUPPORTED...
celaya2 OS X 10.11.6 El Capitan / x86_64  OK  OK  OK  OK UNNEEDED, same version exists in internal repository
Package 264/1706HostnameOS / ArchINSTALLBUILDCHECKBUILD BIN
chopsticks 1.49.0
Hin-Tak Leung
Last Commit: 928c8fa
Last Changed Date: 2018-10-30 11:54:29 -0400
malbec2 Linux (Ubuntu 18.04.2 LTS) / x86_64  OK  OK  WARNINGS UNNEEDED, same version exists in internal repository
tokay2 Windows Server 2012 R2 Standard / x64  OK  OK  WARNINGS  OK UNNEEDED, same version exists in internal repository
celaya2 OS X 10.11.6 El Capitan / x86_64  OK  OK  WARNINGS  OK UNNEEDED, same version exists in internal repository
Package 265/1706HostnameOS / ArchINSTALLBUILDCHECKBUILD BIN
chroGPS 2.1.1
Oscar Reina
Last Commit: bb15ba8
Last Changed Date: 2018-12-10 05:34:20 -0400
malbec2 Linux (Ubuntu 18.04.2 LTS) / x86_64  OK  OK  OK UNNEEDED, same version exists in internal repository
tokay2 Windows Server 2012 R2 Standard / x64  OK  OK  OK  OK UNNEEDED, same version exists in internal repository
celaya2 OS X 10.11.6 El Capitan / x86_64  OK  OK  OK  OK UNNEEDED, same version exists in internal repository
Package 266/1706HostnameOS / ArchINSTALLBUILDCHECKBUILD BIN
chromDraw 2.13.0
Jan Janecka
Last Commit: 7b7ae11
Last Changed Date: 2018-10-30 11:54:33 -0400
malbec2 Linux (Ubuntu 18.04.2 LTS) / x86_64  OK  OK  WARNINGS UNNEEDED, same version exists in internal repository
tokay2 Windows Server 2012 R2 Standard / x64  OK  OK  WARNINGS  OK UNNEEDED, same version exists in internal repository
celaya2 OS X 10.11.6 El Capitan / x86_64  OK  OK  WARNINGS  OK UNNEEDED, same version exists in internal repository
Package 267/1706HostnameOS / ArchINSTALLBUILDCHECKBUILD BIN
ChromHeatMap 1.37.0
Tim F. Rayner
Last Commit: d22190d
Last Changed Date: 2018-10-30 11:54:28 -0400
malbec2 Linux (Ubuntu 18.04.2 LTS) / x86_64  OK  OK  OK UNNEEDED, same version exists in internal repository
tokay2 Windows Server 2012 R2 Standard / x64  OK  OK  OK  OK UNNEEDED, same version exists in internal repository
celaya2 OS X 10.11.6 El Capitan / x86_64  OK  OK  OK  OK UNNEEDED, same version exists in internal repository
Package 268/1706HostnameOS / ArchINSTALLBUILDCHECKBUILD BIN
chromPlot 1.11.0
Karen Y. Orostica
Last Commit: ec65b69
Last Changed Date: 2018-10-30 11:54:35 -0400
malbec2 Linux (Ubuntu 18.04.2 LTS) / x86_64  OK  OK  OK UNNEEDED, same version exists in internal repository
tokay2 Windows Server 2012 R2 Standard / x64  OK  OK  WARNINGS  OK UNNEEDED, same version exists in internal repository
celaya2 OS X 10.11.6 El Capitan / x86_64  OK  OK  OK  OK UNNEEDED, same version exists in internal repository
Package 269/1706HostnameOS / ArchINSTALLBUILDCHECKBUILD BIN
chromstaR 1.9.2
Aaron Taudt
Last Commit: 0562cf8
Last Changed Date: 2019-02-18 14:36:18 -0400
malbec2 Linux (Ubuntu 18.04.2 LTS) / x86_64  OK  OK  OK UNNEEDED, same version exists in internal repository
tokay2 Windows Server 2012 R2 Standard / x64  OK  OK  OK  OK UNNEEDED, same version exists in internal repository
celaya2 OS X 10.11.6 El Capitan / x86_64  OK  OK  OK  OK UNNEEDED, same version exists in internal repository
Package 270/1706HostnameOS / ArchINSTALLBUILDCHECKBUILD BIN
chromswitch 1.5.1
Selin Jessa
Last Commit: 625864b
Last Changed Date: 2019-01-04 13:25:30 -0400
malbec2 Linux (Ubuntu 18.04.2 LTS) / x86_64  OK  OK  OK UNNEEDED, same version exists in internal repository
tokay2 Windows Server 2012 R2 Standard / x64  OK  OK  OK  OK UNNEEDED, same version exists in internal repository
celaya2 OS X 10.11.6 El Capitan / x86_64  OK  OK  OK  OK UNNEEDED, same version exists in internal repository
Package 271/1706HostnameOS / ArchINSTALLBUILDCHECKBUILD BIN
chromVAR 1.5.0
Alicia Schep
Last Commit: fbbba6b
Last Changed Date: 2018-11-30 00:02:42 -0400
malbec2 Linux (Ubuntu 18.04.2 LTS) / x86_64  OK  OK  OK UNNEEDED, same version exists in internal repository
tokay2 Windows Server 2012 R2 Standard / x64  OK  OK  WARNINGS  OK UNNEEDED, same version exists in internal repository
celaya2 OS X 10.11.6 El Capitan / x86_64  OK  OK  OK  OK UNNEEDED, same version exists in internal repository
Package 272/1706HostnameOS / ArchINSTALLBUILDCHECKBUILD BIN
CHRONOS 1.11.1
Panos Balomenos
Last Commit: 58b1a0f
Last Changed Date: 2019-03-28 20:36:02 -0400
malbec2 Linux (Ubuntu 18.04.2 LTS) / x86_64  OK  OK  OK UNNEEDED, same version exists in internal repository
tokay2 Windows Server 2012 R2 Standard / x64  OK  OK  OK  OK UNNEEDED, same version exists in internal repository
celaya2 OS X 10.11.6 El Capitan / x86_64  OK  OK  OK  OK UNNEEDED, same version exists in internal repository
Package 273/1706HostnameOS / ArchINSTALLBUILDCHECKBUILD BIN
cicero 1.1.5
Hannah Pliner
Last Commit: da8c4ac
Last Changed Date: 2019-04-12 12:52:48 -0400
malbec2 Linux (Ubuntu 18.04.2 LTS) / x86_64  OK  OK  OK UNNEEDED, same version exists in internal repository
tokay2 Windows Server 2012 R2 Standard / x64  OK  OK  OK  OK UNNEEDED, same version exists in internal repository
celaya2 OS X 10.11.6 El Capitan / x86_64  OK  OK  OK  OK UNNEEDED, same version exists in internal repository
Package 274/1706HostnameOS / ArchINSTALLBUILDCHECKBUILD BIN
CINdex 1.11.0
Yuriy Gusev
Last Commit: 23f0e1e
Last Changed Date: 2018-10-30 11:54:35 -0400
malbec2 Linux (Ubuntu 18.04.2 LTS) / x86_64 <