Back to Multiple platform build/check report for BioC 3.9 |
|
This page was generated on 2019-04-09 12:01:26 -0400 (Tue, 09 Apr 2019).
Package 147/1703 | Hostname | OS / Arch | INSTALL | BUILD | CHECK | BUILD BIN | ||||||
BiocParallel 1.17.18 Bioconductor Package Maintainer
| malbec2 | Linux (Ubuntu 18.04.2 LTS) / x86_64 | OK | OK | OK | |||||||
tokay2 | Windows Server 2012 R2 Standard / x64 | OK | [ OK ] | ERROR | OK | |||||||
celaya2 | OS X 10.11.6 El Capitan / x86_64 | OK | OK | OK | OK | |||||||
merida2 | OS X 10.11.6 El Capitan / x86_64 | OK | OK | OK | OK |
Package: BiocParallel |
Version: 1.17.18 |
Command: chmod a+r BiocParallel -R && C:\Users\biocbuild\bbs-3.9-bioc\R\bin\R.exe CMD build --keep-empty-dirs --no-resave-data BiocParallel |
StartedAt: 2019-04-08 21:53:18 -0400 (Mon, 08 Apr 2019) |
EndedAt: 2019-04-08 21:55:22 -0400 (Mon, 08 Apr 2019) |
EllapsedTime: 123.8 seconds |
RetCode: 0 |
Status: OK |
PackageFile: BiocParallel_1.17.18.tar.gz |
PackageFileSize: 911.1 KiB |
############################################################################## ############################################################################## ### ### Running command: ### ### chmod a+r BiocParallel -R && C:\Users\biocbuild\bbs-3.9-bioc\R\bin\R.exe CMD build --keep-empty-dirs --no-resave-data BiocParallel ### ############################################################################## ############################################################################## * checking for file 'BiocParallel/DESCRIPTION' ... OK * preparing 'BiocParallel': * checking DESCRIPTION meta-information ... OK * cleaning src * installing the package to process help pages * building the PDF package manual Hmm ... looks like a package Converting Rd files to LaTeX .. Creating pdf output from LaTeX ... Saving output to 'C:/Users/biocbuild/bbs-3.9-bioc/tmpdir/Rtmp61Jor3/Rbuild199c7c96846/BiocParallel/build/BiocParallel.pdf' ... Done * creating vignettes ... OK * cleaning src * checking for LF line-endings in source and make files and shell scripts * checking for empty or unneeded directories * building 'BiocParallel_1.17.18.tar.gz' Warning: file 'BiocParallel/cleanup' did not have execute permissions: corrected Warning: file 'BiocParallel/configure' did not have execute permissions: corrected