Multiple platform build/check report for BioC 3.9

This page was generated on 2019-04-09 13:43:50 -0400 (Tue, 09 Apr 2019).

git log

Snapshot Date: 2019-04-08 17:01:18 -0400 (Mon, 08 Apr 2019)

HostnameOSArch (*)Platform label (**)R versionInstalled pkgs
malbec2Linux (Ubuntu 18.04.2 LTS)x86_64x86_64-linux-gnuR Under development (unstable) (2019-03-18 r76245) -- "Unsuffered Consequences" 3502
tokay2Windows Server 2012 R2 Standardx64mingw32 / x86_64-w64-mingw32R Under development (unstable) (2019-03-09 r76216) -- "Unsuffered Consequences" 3328
celaya2OS X 10.11.6 El Capitanx86_64x86_64-apple-darwin15.6.0R Under development (unstable) (2019-03-18 r76245) -- "Unsuffered Consequences" 3333
merida2OS X 10.11.6 El Capitanx86_64x86_64-apple-darwin15.6.0R Under development (unstable) (2018-11-27 r75683) -- "Unsuffered Consequences" 3356
Click on any hostname to see more info about the system (e.g. compilers)      (*) as reported by 'uname -p', except on Windows and Mac OS X      (**) as reported by 'gcc -v'

Package status is indicated by one of the following glyphs
 TIMEOUT  INSTALL, BUILD, CHECK or BUILD BIN of package took more than 40 minutes Use the check boxes to show only packages with the selected status types.
 ERROR  Bad DESCRIPTION file or INSTALL, BUILD or BUILD BIN of package failed, or CHECK produced errors
 WARNINGS  CHECK of package produced warnings
 OK  INSTALL, BUILD, CHECK or BUILD BIN of package was OK
 skipped  CHECK or BUILD BIN of package was skipped because the BUILD step failed
 NA  BUILD, CHECK or BUILD BIN result is not available because of an anomaly in the Build System
Click on any glyph in the report below to access the detailed results.
Package propagation status is indicated by one of the following LEDs
YES YES: Package was propagated because it didn't previously exist or version was bumped
NO NO: Package was not propagated because of a problem (impossible dependencies, or version lower than what is already propagated)
UNNEEDED UNNEEDED: Package was not propagated because it is already in the repository with this version. A version bump is required in order to propagate it

A crossed-out package name indicates the package is deprecated


SUMMARYOS / ArchINSTALLBUILDCHECKBUILD BIN
malbec2 Linux (Ubuntu 18.04.2 LTS) / x86_64 
02016830
0711632
1462191366
tokay2 Windows Server 2012 R2 Standard / x64 
01916540
2911580
4683381170
031577
celaya2 OS X 10.11.6 El Capitan / x86_64 
02116750
2751619
1452381335
001619
merida2 OS X 10.11.6 El Capitan / x86_64 
01516810
1641631
1372381355
001631
A
ABCDEFGHIJKLMNOPQRSTUVWXYZ
Package 1/1703HostnameOS / ArchINSTALLBUILDCHECKBUILD BIN
a4 1.31.0
Tobias Verbeke
Last Commit: a53c11e
Last Changed Date: 2018-10-30 11:54:29 -0400
malbec2 Linux (Ubuntu 18.04.2 LTS) / x86_64  OK  OK  OK UNNEEDED, same version exists in internal repository
tokay2 Windows Server 2012 R2 Standard / x64  OK  OK  OK  OK UNNEEDED, same version exists in internal repository
celaya2 OS X 10.11.6 El Capitan / x86_64  OK  OK  OK  OK UNNEEDED, same version exists in internal repository
merida2 OS X 10.11.6 El Capitan / x86_64  OK  OK  OK  OK 
Package 2/1703HostnameOS / ArchINSTALLBUILDCHECKBUILD BIN
a4Base 1.31.0
Tobias Verbeke
Last Commit: 9b4dfb7
Last Changed Date: 2018-10-30 11:54:29 -0400
malbec2 Linux (Ubuntu 18.04.2 LTS) / x86_64  OK  OK  OK UNNEEDED, same version exists in internal repository
tokay2 Windows Server 2012 R2 Standard / x64  OK  OK  ERROR  OK 
celaya2 OS X 10.11.6 El Capitan / x86_64  OK  OK  OK  OK UNNEEDED, same version exists in internal repository
merida2 OS X 10.11.6 El Capitan / x86_64  OK  OK  OK  OK 
Package 3/1703HostnameOS / ArchINSTALLBUILDCHECKBUILD BIN
a4Classif 1.31.0
Tobias Verbeke
Last Commit: b920bc2
Last Changed Date: 2018-10-30 11:54:29 -0400
malbec2 Linux (Ubuntu 18.04.2 LTS) / x86_64  OK  OK  OK UNNEEDED, same version exists in internal repository
tokay2 Windows Server 2012 R2 Standard / x64  OK  OK  OK  OK UNNEEDED, same version exists in internal repository
celaya2 OS X 10.11.6 El Capitan / x86_64  OK  OK  OK  OK UNNEEDED, same version exists in internal repository
merida2 OS X 10.11.6 El Capitan / x86_64  OK  OK  OK  OK 
Package 4/1703HostnameOS / ArchINSTALLBUILDCHECKBUILD BIN
a4Core 1.31.0
Tobias Verbeke
Last Commit: 8d8edf9
Last Changed Date: 2018-10-30 11:54:29 -0400
malbec2 Linux (Ubuntu 18.04.2 LTS) / x86_64  OK  OK  OK UNNEEDED, same version exists in internal repository
tokay2 Windows Server 2012 R2 Standard / x64  OK  OK  OK  OK UNNEEDED, same version exists in internal repository
celaya2 OS X 10.11.6 El Capitan / x86_64  OK  OK  OK  OK UNNEEDED, same version exists in internal repository
merida2 OS X 10.11.6 El Capitan / x86_64  OK  OK  OK  OK 
Package 5/1703HostnameOS / ArchINSTALLBUILDCHECKBUILD BIN
a4Preproc 1.31.0
Tobias Verbeke
Last Commit: 8c9ed09
Last Changed Date: 2018-10-30 11:54:29 -0400
malbec2 Linux (Ubuntu 18.04.2 LTS) / x86_64  OK  OK  OK UNNEEDED, same version exists in internal repository
tokay2 Windows Server 2012 R2 Standard / x64  OK  OK  OK  OK UNNEEDED, same version exists in internal repository
celaya2 OS X 10.11.6 El Capitan / x86_64  OK  OK  OK  OK UNNEEDED, same version exists in internal repository
merida2 OS X 10.11.6 El Capitan / x86_64  OK  OK  OK  OK 
Package 6/1703HostnameOS / ArchINSTALLBUILDCHECKBUILD BIN
a4Reporting 1.31.0
Tobias Verbeke , Willem Ligtenberg
Last Commit: 304c72d
Last Changed Date: 2018-10-30 11:54:29 -0400
malbec2 Linux (Ubuntu 18.04.2 LTS) / x86_64  OK  OK  OK UNNEEDED, same version exists in internal repository
tokay2 Windows Server 2012 R2 Standard / x64  OK  OK  OK  OK UNNEEDED, same version exists in internal repository
celaya2 OS X 10.11.6 El Capitan / x86_64  OK  OK  OK  OK UNNEEDED, same version exists in internal repository
merida2 OS X 10.11.6 El Capitan / x86_64  OK  OK  OK  OK 
Package 7/1703HostnameOS / ArchINSTALLBUILDCHECKBUILD BIN
ABAEnrichment 1.13.1
Steffi Grote
Last Commit: 3ec53e8
Last Changed Date: 2019-04-02 09:07:58 -0400
malbec2 Linux (Ubuntu 18.04.2 LTS) / x86_64  OK  OK  OK UNNEEDED, same version exists in internal repository
tokay2 Windows Server 2012 R2 Standard / x64  OK  OK  OK  OK UNNEEDED, same version exists in internal repository
celaya2 OS X 10.11.6 El Capitan / x86_64  OK  OK  OK  OK UNNEEDED, same version exists in internal repository
merida2 OS X 10.11.6 El Capitan / x86_64  OK  OK  OK  OK 
Package 8/1703HostnameOS / ArchINSTALLBUILDCHECKBUILD BIN
ABarray 1.51.0
Yongming Andrew Sun
Last Commit: 7db2785
Last Changed Date: 2018-10-30 11:54:27 -0400
malbec2 Linux (Ubuntu 18.04.2 LTS) / x86_64  OK  OK  OK UNNEEDED, same version exists in internal repository
tokay2 Windows Server 2012 R2 Standard / x64  OK  OK  OK  OK UNNEEDED, same version exists in internal repository
celaya2 OS X 10.11.6 El Capitan / x86_64  OK  OK  OK  OK UNNEEDED, same version exists in internal repository
merida2 OS X 10.11.6 El Capitan / x86_64  OK  OK  OK  OK 
Package 9/1703HostnameOS / ArchINSTALLBUILDCHECKBUILD BIN
abseqR 1.1.0
JiaHong Fong
Last Commit: 9ffba60
Last Changed Date: 2018-10-30 11:54:40 -0400
malbec2 Linux (Ubuntu 18.04.2 LTS) / x86_64  OK  OK  OK UNNEEDED, same version exists in internal repository
tokay2 Windows Server 2012 R2 Standard / x64  OK  OK  OK  OK UNNEEDED, same version exists in internal repository
celaya2 OS X 10.11.6 El Capitan / x86_64  OK  OK  OK  OK UNNEEDED, same version exists in internal repository
merida2 OS X 10.11.6 El Capitan / x86_64  OK  OK  OK  OK 
Package 10/1703HostnameOS / ArchINSTALLBUILDCHECKBUILD BIN
ABSSeq 1.37.0
Wentao Yang
Last Commit: 1781e4e
Last Changed Date: 2018-10-30 11:54:32 -0400
malbec2 Linux (Ubuntu 18.04.2 LTS) / x86_64  OK  OK  OK UNNEEDED, same version exists in internal repository
tokay2 Windows Server 2012 R2 Standard / x64  OK  OK  OK  OK UNNEEDED, same version exists in internal repository
celaya2 OS X 10.11.6 El Capitan / x86_64  OK  OK  OK  OK UNNEEDED, same version exists in internal repository
merida2 OS X 10.11.6 El Capitan / x86_64  OK  OK  OK  OK 
Package 11/1703HostnameOS / ArchINSTALLBUILDCHECKBUILD BIN
acde 1.13.0
Juan Pablo Acosta
Last Commit: 63fe302
Last Changed Date: 2018-10-30 11:54:34 -0400
malbec2 Linux (Ubuntu 18.04.2 LTS) / x86_64  OK  OK  OK UNNEEDED, same version exists in internal repository
tokay2 Windows Server 2012 R2 Standard / x64  OK  OK  OK  OK UNNEEDED, same version exists in internal repository
celaya2 OS X 10.11.6 El Capitan / x86_64  OK  OK  OK  OK UNNEEDED, same version exists in internal repository
merida2 OS X 10.11.6 El Capitan / x86_64  OK  OK  OK  OK 
Package 12/1703HostnameOS / ArchINSTALLBUILDCHECKBUILD BIN
ACE 1.1.1
Jos B Poell
Last Commit: fc7d88f
Last Changed Date: 2018-11-13 08:09:21 -0400
malbec2 Linux (Ubuntu 18.04.2 LTS) / x86_64  OK  OK  OK UNNEEDED, same version exists in internal repository
tokay2 Windows Server 2012 R2 Standard / x64  OK  OK  OK  OK UNNEEDED, same version exists in internal repository
celaya2 OS X 10.11.6 El Capitan / x86_64  OK  OK  OK  OK UNNEEDED, same version exists in internal repository
merida2 OS X 10.11.6 El Capitan / x86_64  OK  OK  OK  OK 
Package 13/1703HostnameOS / ArchINSTALLBUILDCHECKBUILD BIN
aCGH 1.61.0
Peter Dimitrov
Last Commit: b218a55
Last Changed Date: 2018-10-30 11:54:26 -0400
malbec2 Linux (Ubuntu 18.04.2 LTS) / x86_64  OK  OK  OK UNNEEDED, same version exists in internal repository
tokay2 Windows Server 2012 R2 Standard / x64  OK  OK  OK  OK UNNEEDED, same version exists in internal repository
celaya2 OS X 10.11.6 El Capitan / x86_64  OK  OK  OK  OK UNNEEDED, same version exists in internal repository
merida2 OS X 10.11.6 El Capitan / x86_64  OK  OK  OK  OK 
Package 14/1703HostnameOS / ArchINSTALLBUILDCHECKBUILD BIN
ACME 2.39.0
Sean Davis
Last Commit: 67dae98
Last Changed Date: 2018-10-30 11:54:27 -0400
malbec2 Linux (Ubuntu 18.04.2 LTS) / x86_64  OK  OK  WARNINGS UNNEEDED, same version exists in internal repository
tokay2 Windows Server 2012 R2 Standard / x64  OK  OK  WARNINGS  OK UNNEEDED, same version exists in internal repository
celaya2 OS X 10.11.6 El Capitan / x86_64  OK  OK  OK  OK UNNEEDED, same version exists in internal repository
merida2 OS X 10.11.6 El Capitan / x86_64  OK  OK  OK  OK 
Package 15/1703HostnameOS / ArchINSTALLBUILDCHECKBUILD BIN
ADaCGH2 2.23.0
Ramon Diaz-Uriarte
Last Commit: cba986a
Last Changed Date: 2018-10-30 11:54:29 -0400
malbec2 Linux (Ubuntu 18.04.2 LTS) / x86_64  OK  OK  OK UNNEEDED, same version exists in internal repository
tokay2 Windows Server 2012 R2 Standard / x64  OK  OK  OK  OK UNNEEDED, same version exists in internal repository
celaya2 OS X 10.11.6 El Capitan / x86_64  OK  OK  OK  OK UNNEEDED, same version exists in internal repository
merida2 OS X 10.11.6 El Capitan / x86_64  OK  OK  OK  OK 
Package 16/1703HostnameOS / ArchINSTALLBUILDCHECKBUILD BIN
ADAM 0.99.66
Jose Luiz Rybarczyk Filho
Last Commit: d87ff49
Last Changed Date: 2018-11-15 17:46:12 -0400
malbec2 Linux (Ubuntu 18.04.2 LTS) / x86_64  OK  OK  OK UNNEEDED, same version exists in internal repository
tokay2 Windows Server 2012 R2 Standard / x64  OK  OK  OK  OK UNNEEDED, same version exists in internal repository
celaya2 OS X 10.11.6 El Capitan / x86_64  OK  OK  OK  OK UNNEEDED, same version exists in internal repository
merida2 OS X 10.11.6 El Capitan / x86_64  OK  OK  OK  OK 
Package 17/1703HostnameOS / ArchINSTALLBUILDCHECKBUILD BIN
adaptest 1.3.0
Weixin Cai
Last Commit: 156e9d8
Last Changed Date: 2018-10-30 11:54:39 -0400
malbec2 Linux (Ubuntu 18.04.2 LTS) / x86_64  OK  OK  OK UNNEEDED, same version exists in internal repository
tokay2 Windows Server 2012 R2 Standard / x64  OK  OK  ERROR  OK 
celaya2 OS X 10.11.6 El Capitan / x86_64  OK  OK  OK  OK UNNEEDED, same version exists in internal repository
merida2 OS X 10.11.6 El Capitan / x86_64  OK  OK  OK  OK 
Package 18/1703HostnameOS / ArchINSTALLBUILDCHECKBUILD BIN
adductomicsR 0.99.79
Josie Hayes
Last Commit: d2755cc
Last Changed Date: 2019-01-28 15:26:50 -0400
malbec2 Linux (Ubuntu 18.04.2 LTS) / x86_64  OK  ERROR  skipped 
tokay2 Windows Server 2012 R2 Standard / x64  OK  ERROR  skipped  skipped 
celaya2 OS X 10.11.6 El Capitan / x86_64  OK  ERROR  skipped  skipped 
merida2 OS X 10.11.6 El Capitan / x86_64  OK  ERROR  skipped  skipped 
Package 19/1703HostnameOS / ArchINSTALLBUILDCHECKBUILD BIN
adSplit 1.53.0
Claudio Lottaz
Last Commit: bbc5ba0
Last Changed Date: 2018-10-30 11:54:27 -0400
malbec2 Linux (Ubuntu 18.04.2 LTS) / x86_64  OK  OK  WARNINGS UNNEEDED, same version exists in internal repository
tokay2 Windows Server 2012 R2 Standard / x64  OK  OK  OK  OK UNNEEDED, same version exists in internal repository
celaya2 OS X 10.11.6 El Capitan / x86_64  OK  OK  WARNINGS  OK UNNEEDED, same version exists in internal repository
merida2 OS X 10.11.6 El Capitan / x86_64  OK  OK  WARNINGS  OK 
Package 20/1703HostnameOS / ArchINSTALLBUILDCHECKBUILD BIN
AffiXcan 1.1.3
Alessandro Lussana
Last Commit: 7bc0abc
Last Changed Date: 2019-03-05 16:10:35 -0400
malbec2 Linux (Ubuntu 18.04.2 LTS) / x86_64  OK  OK  OK UNNEEDED, same version exists in internal repository
tokay2 Windows Server 2012 R2 Standard / x64  OK  OK  OK  OK UNNEEDED, same version exists in internal repository
celaya2 OS X 10.11.6 El Capitan / x86_64  OK  OK  OK  OK UNNEEDED, same version exists in internal repository
merida2 OS X 10.11.6 El Capitan / x86_64  OK  OK  OK  OK 
Package 21/1703HostnameOS / ArchINSTALLBUILDCHECKBUILD BIN
affxparser 1.55.0
Kasper Daniel Hansen
Last Commit: 92798dc
Last Changed Date: 2018-10-30 11:54:26 -0400
malbec2 Linux (Ubuntu 18.04.2 LTS) / x86_64  OK  OK  WARNINGS UNNEEDED, same version exists in internal repository
tokay2 Windows Server 2012 R2 Standard / x64  OK  OK  OK  OK UNNEEDED, same version exists in internal repository
celaya2 OS X 10.11.6 El Capitan / x86_64  OK  OK  WARNINGS  OK UNNEEDED, same version exists in internal repository
merida2 OS X 10.11.6 El Capitan / x86_64  OK  OK  WARNINGS  OK 
Package 22/1703HostnameOS / ArchINSTALLBUILDCHECKBUILD BIN
affy 1.61.0
Rafael A. Irizarry
Last Commit: 5923c43
Last Changed Date: 2018-10-30 11:54:26 -0400
malbec2 Linux (Ubuntu 18.04.2 LTS) / x86_64  OK  OK  WARNINGS UNNEEDED, same version exists in internal repository
tokay2 Windows Server 2012 R2 Standard / x64  OK  OK  WARNINGS  OK UNNEEDED, same version exists in internal repository
celaya2 OS X 10.11.6 El Capitan / x86_64  OK  OK  WARNINGS  OK UNNEEDED, same version exists in internal repository
merida2 OS X 10.11.6 El Capitan / x86_64  OK  OK  WARNINGS  OK 
Package 23/1703HostnameOS / ArchINSTALLBUILDCHECKBUILD BIN
affycomp 1.59.0
Rafael A. Irizarry
Last Commit: 3bad82b
Last Changed Date: 2018-10-30 11:54:26 -0400
malbec2 Linux (Ubuntu 18.04.2 LTS) / x86_64  OK  OK  OK UNNEEDED, same version exists in internal repository
tokay2 Windows Server 2012 R2 Standard / x64  OK  OK  WARNINGS  OK UNNEEDED, same version exists in internal repository
celaya2 OS X 10.11.6 El Capitan / x86_64  OK  OK  OK  OK UNNEEDED, same version exists in internal repository
merida2 OS X 10.11.6 El Capitan / x86_64  OK  OK  OK  OK 
Package 24/1703HostnameOS / ArchINSTALLBUILDCHECKBUILD BIN
AffyCompatible 1.43.0
Martin Morgan
Last Commit: ca4aee9
Last Changed Date: 2018-10-30 11:54:27 -0400
malbec2 Linux (Ubuntu 18.04.2 LTS) / x86_64  OK  OK  OK UNNEEDED, same version exists in internal repository
tokay2 Windows Server 2012 R2 Standard / x64  OK  OK  OK  OK UNNEEDED, same version exists in internal repository
celaya2 OS X 10.11.6 El Capitan / x86_64  OK  OK  OK  OK UNNEEDED, same version exists in internal repository
merida2 OS X 10.11.6 El Capitan / x86_64  OK  OK  OK  OK 
Package 25/1703HostnameOS / ArchINSTALLBUILDCHECKBUILD BIN
affyContam 1.41.0
V. Carey
Last Commit: 7d89d24
Last Changed Date: 2018-10-30 11:54:28 -0400
malbec2 Linux (Ubuntu 18.04.2 LTS) / x86_64  OK  OK  OK UNNEEDED, same version exists in internal repository
tokay2 Windows Server 2012 R2 Standard / x64  OK  OK  OK  OK UNNEEDED, same version exists in internal repository
celaya2 OS X 10.11.6 El Capitan / x86_64  OK  OK  OK  OK UNNEEDED, same version exists in internal repository
merida2 OS X 10.11.6 El Capitan / x86_64  OK  OK  OK  OK 
Package 26/1703HostnameOS / ArchINSTALLBUILDCHECKBUILD BIN
affycoretools 1.55.0
James W. MacDonald
Last Commit: 9f5be01
Last Changed Date: 2018-10-30 11:54:26 -0400
malbec2 Linux (Ubuntu 18.04.2 LTS) / x86_64  OK  OK  OK UNNEEDED, same version exists in internal repository
tokay2 Windows Server 2012 R2 Standard / x64  OK  OK  WARNINGS  OK UNNEEDED, same version exists in internal repository
celaya2 OS X 10.11.6 El Capitan / x86_64  OK  OK  OK  OK UNNEEDED, same version exists in internal repository
merida2 OS X 10.11.6 El Capitan / x86_64  OK  OK  OK  OK 
Package 27/1703HostnameOS / ArchINSTALLBUILDCHECKBUILD BIN
AffyExpress 1.49.0
Xuejun Arthur Li
Last Commit: 4b33ef4
Last Changed Date: 2018-10-30 11:54:27 -0400
malbec2 Linux (Ubuntu 18.04.2 LTS) / x86_64  OK  OK  OK UNNEEDED, same version exists in internal repository
tokay2 Windows Server 2012 R2 Standard / x64  OK  OK  OK  OK UNNEEDED, same version exists in internal repository
celaya2 OS X 10.11.6 El Capitan / x86_64  OK  OK  OK  OK UNNEEDED, same version exists in internal repository
merida2 OS X 10.11.6 El Capitan / x86_64  OK  OK  OK  OK 
Package 28/1703HostnameOS / ArchINSTALLBUILDCHECKBUILD BIN
affyILM 1.35.0
Myriam Kroll and Fabrice Berger
Last Commit: 081281b
Last Changed Date: 2018-10-30 11:54:28 -0400
malbec2 Linux (Ubuntu 18.04.2 LTS) / x86_64  OK  OK  OK UNNEEDED, same version exists in internal repository
tokay2 Windows Server 2012 R2 Standard / x64  OK  OK  OK  OK UNNEEDED, same version exists in internal repository
celaya2 OS X 10.11.6 El Capitan / x86_64  OK  OK  OK  OK UNNEEDED, same version exists in internal repository
merida2 OS X 10.11.6 El Capitan / x86_64  OK  OK  OK  OK 
Package 29/1703HostnameOS / ArchINSTALLBUILDCHECKBUILD BIN
affyio 1.53.0
Ben Bolstad
Last Commit: 546d10f
Last Changed Date: 2018-10-30 11:54:26 -0400
malbec2 Linux (Ubuntu 18.04.2 LTS) / x86_64  OK  OK  OK UNNEEDED, same version exists in internal repository
tokay2 Windows Server 2012 R2 Standard / x64  OK  OK  OK  OK UNNEEDED, same version exists in internal repository
celaya2 OS X 10.11.6 El Capitan / x86_64  OK  OK  OK  OK UNNEEDED, same version exists in internal repository
merida2 OS X 10.11.6 El Capitan / x86_64  OK  OK  OK  OK 
Package 30/1703HostnameOS / ArchINSTALLBUILDCHECKBUILD BIN
affylmGUI 1.57.0
Gordon Smyth
Last Commit: 96d69da
Last Changed Date: 2018-10-30 11:54:26 -0400
malbec2 Linux (Ubuntu 18.04.2 LTS) / x86_64  OK  OK  OK UNNEEDED, same version exists in internal repository
tokay2 Windows Server 2012 R2 Standard / x64  OK  OK  OK  OK UNNEEDED, same version exists in internal repository
celaya2 OS X 10.11.6 El Capitan / x86_64  OK  OK  OK  OK UNNEEDED, same version exists in internal repository
merida2 OS X 10.11.6 El Capitan / x86_64  OK  OK  OK  OK 
Package 31/1703HostnameOS / ArchINSTALLBUILDCHECKBUILD BIN
affyPara 1.43.0
Markus Schmidberger
Last Commit: 9af1c98
Last Changed Date: 2018-10-30 11:54:27 -0400
malbec2 Linux (Ubuntu 18.04.2 LTS) / x86_64  OK  OK  OK UNNEEDED, same version exists in internal repository
tokay2 Windows Server 2012 R2 Standard / x64  OK  OK  OK  OK UNNEEDED, same version exists in internal repository
celaya2 OS X 10.11.6 El Capitan / x86_64  OK  OK  OK  OK UNNEEDED, same version exists in internal repository
merida2 OS X 10.11.6 El Capitan / x86_64  OK  OK  OK  OK 
Package 32/1703HostnameOS / ArchINSTALLBUILDCHECKBUILD BIN
affypdnn 1.57.0
Laurent Gautier
Last Commit: 24f5dd6
Last Changed Date: 2018-10-30 11:54:26 -0400
malbec2 Linux (Ubuntu 18.04.2 LTS) / x86_64  OK  OK  OK UNNEEDED, same version exists in internal repository
tokay2 Windows Server 2012 R2 Standard / x64  OK  OK  OK  OK UNNEEDED, same version exists in internal repository
celaya2 OS X 10.11.6 El Capitan / x86_64  OK  OK  OK  OK UNNEEDED, same version exists in internal repository
merida2 OS X 10.11.6 El Capitan / x86_64  OK  OK  OK  OK 
Package 33/1703HostnameOS / ArchINSTALLBUILDCHECKBUILD BIN
affyPLM 1.59.0
Ben Bolstad
Last Commit: f13e03a
Last Changed Date: 2018-10-30 11:54:26 -0400
malbec2 Linux (Ubuntu 18.04.2 LTS) / x86_64  OK  OK  OK UNNEEDED, same version exists in internal repository
tokay2 Windows Server 2012 R2 Standard / x64  OK  OK  OK  OK UNNEEDED, same version exists in internal repository
celaya2 OS X 10.11.6 El Capitan / x86_64  OK  OK  OK  OK UNNEEDED, same version exists in internal repository
merida2 OS X 10.11.6 El Capitan / x86_64  OK  OK  OK  OK 
Package 34/1703HostnameOS / ArchINSTALLBUILDCHECKBUILD BIN
affyQCReport 1.61.0
Craig Parman
Last Commit: 9f28819
Last Changed Date: 2018-10-30 11:54:26 -0400
malbec2 Linux (Ubuntu 18.04.2 LTS) / x86_64  OK  OK  OK UNNEEDED, same version exists in internal repository
tokay2 Windows Server 2012 R2 Standard / x64  OK  OK  OK  OK UNNEEDED, same version exists in internal repository
celaya2 OS X 10.11.6 El Capitan / x86_64  OK  OK  OK  OK UNNEEDED, same version exists in internal repository
merida2 OS X 10.11.6 El Capitan / x86_64  OK  OK  OK  OK 
Package 35/1703HostnameOS / ArchINSTALLBUILDCHECKBUILD BIN
AffyRNADegradation 1.29.0
Mario Fasold
Last Commit: f8d54d9
Last Changed Date: 2018-10-30 11:54:30 -0400
malbec2 Linux (Ubuntu 18.04.2 LTS) / x86_64  OK  OK  OK UNNEEDED, same version exists in internal repository
tokay2 Windows Server 2012 R2 Standard / x64  OK  OK  OK  OK UNNEEDED, same version exists in internal repository
celaya2 OS X 10.11.6 El Capitan / x86_64  OK  OK  OK  OK UNNEEDED, same version exists in internal repository
merida2 OS X 10.11.6 El Capitan / x86_64  OK  OK  OK  OK 
Package 36/1703HostnameOS / ArchINSTALLBUILDCHECKBUILD BIN
AGDEX 1.31.0
Cuilan lani Gao
Last Commit: b2ba2e6
Last Changed Date: 2018-10-30 11:54:29 -0400
malbec2 Linux (Ubuntu 18.04.2 LTS) / x86_64  OK  OK  OK UNNEEDED, same version exists in internal repository
tokay2 Windows Server 2012 R2 Standard / x64  OK  OK  WARNINGS  OK UNNEEDED, same version exists in internal repository
celaya2 OS X 10.11.6 El Capitan / x86_64  OK  OK  OK  OK UNNEEDED, same version exists in internal repository
merida2 OS X 10.11.6 El Capitan / x86_64  OK  OK  OK  OK 
Package 37/1703HostnameOS / ArchINSTALLBUILDCHECKBUILD BIN
agilp 3.15.0
Benny Chain
Last Commit: 78de031
Last Changed Date: 2018-10-30 11:54:30 -0400
malbec2 Linux (Ubuntu 18.04.2 LTS) / x86_64  OK  OK  OK UNNEEDED, same version exists in internal repository
tokay2 Windows Server 2012 R2 Standard / x64  OK  OK  OK  OK UNNEEDED, same version exists in internal repository
celaya2 OS X 10.11.6 El Capitan / x86_64  OK  OK  OK  OK UNNEEDED, same version exists in internal repository
merida2 OS X 10.11.6 El Capitan / x86_64  OK  OK  OK  OK 
Package 38/1703HostnameOS / ArchINSTALLBUILDCHECKBUILD BIN
AgiMicroRna 2.33.0
Pedro Lopez-Romero
Last Commit: d2f2aaa
Last Changed Date: 2018-10-30 11:54:28 -0400
malbec2 Linux (Ubuntu 18.04.2 LTS) / x86_64  OK  OK  OK UNNEEDED, same version exists in internal repository
tokay2 Windows Server 2012 R2 Standard / x64  OK  OK  OK  OK UNNEEDED, same version exists in internal repository
celaya2 OS X 10.11.6 El Capitan / x86_64  OK  OK  OK  OK UNNEEDED, same version exists in internal repository
merida2 OS X 10.11.6 El Capitan / x86_64  OK  OK  OK  OK 
Package 39/1703HostnameOS / ArchINSTALLBUILDCHECKBUILD BIN
AIMS 1.15.1
Eric R Paquet
Last Commit: 5c9c2d8
Last Changed Date: 2019-03-23 10:41:03 -0400
malbec2 Linux (Ubuntu 18.04.2 LTS) / x86_64  OK  OK  OK UNNEEDED, same version exists in internal repository
tokay2 Windows Server 2012 R2 Standard / x64  OK  OK  OK  OK UNNEEDED, same version exists in internal repository
celaya2 OS X 10.11.6 El Capitan / x86_64  OK  OK  OK  OK UNNEEDED, same version exists in internal repository
merida2 OS X 10.11.6 El Capitan / x86_64  OK  OK  OK  OK 
Package 40/1703HostnameOS / ArchINSTALLBUILDCHECKBUILD BIN
ALDEx2 1.15.4
Greg Gloor
Last Commit: 45209d2
Last Changed Date: 2019-03-01 09:40:35 -0400
malbec2 Linux (Ubuntu 18.04.2 LTS) / x86_64  OK  OK  OK UNNEEDED, same version exists in internal repository
tokay2 Windows Server 2012 R2 Standard / x64  OK  OK  OK  OK UNNEEDED, same version exists in internal repository
celaya2 OS X 10.11.6 El Capitan / x86_64  OK  OK  OK  OK UNNEEDED, same version exists in internal repository
merida2 OS X 10.11.6 El Capitan / x86_64  OK  OK  OK  OK 
Package 41/1703HostnameOS / ArchINSTALLBUILDCHECKBUILD BIN
alevinQC 0.99.4
Charlotte Soneson
Last Commit: 8dfb13d
Last Changed Date: 2019-03-23 09:18:24 -0400
malbec2 Linux (Ubuntu 18.04.2 LTS) / x86_64  OK  OK  OK UNNEEDED, same version exists in internal repository
tokay2 Windows Server 2012 R2 Standard / x64  OK  OK  OK  OK UNNEEDED, same version exists in internal repository
celaya2 OS X 10.11.6 El Capitan / x86_64  OK  OK  OK  OK UNNEEDED, same version exists in internal repository
merida2 OS X 10.11.6 El Capitan / x86_64  OK  OK  OK  OK 
Package 42/1703HostnameOS / ArchINSTALLBUILDCHECKBUILD BIN
AllelicImbalance 1.21.2
Jesper R Gadin
Last Commit: 16a3ffe
Last Changed Date: 2019-04-02 07:25:49 -0400
malbec2 Linux (Ubuntu 18.04.2 LTS) / x86_64  OK  OK  OK UNNEEDED, same version exists in internal repository
tokay2 Windows Server 2012 R2 Standard / x64  OK  ERROR  skipped  skipped 
celaya2 OS X 10.11.6 El Capitan / x86_64  OK  OK  OK  OK UNNEEDED, same version exists in internal repository
merida2 OS X 10.11.6 El Capitan / x86_64  OK  OK  ERROR  OK 
Package 43/1703HostnameOS / ArchINSTALLBUILDCHECKBUILD BIN
alpine 1.9.0
Michael Love
Last Commit: bb480ba
Last Changed Date: 2018-10-30 11:54:36 -0400
malbec2 Linux (Ubuntu 18.04.2 LTS) / x86_64  OK  OK  OK UNNEEDED, same version exists in internal repository
tokay2 Windows Server 2012 R2 Standard / x64  OK  OK  OK  OK UNNEEDED, same version exists in internal repository
celaya2 OS X 10.11.6 El Capitan / x86_64  OK  OK  OK  OK UNNEEDED, same version exists in internal repository
merida2 OS X 10.11.6 El Capitan / x86_64  OK  OK  OK  OK 
Package 44/1703HostnameOS / ArchINSTALLBUILDCHECKBUILD BIN
alsace 1.19.0
Ron Wehrens
Last Commit: 3273f76
Last Changed Date: 2018-11-13 03:55:00 -0400
malbec2 Linux (Ubuntu 18.04.2 LTS) / x86_64  OK  OK  OK UNNEEDED, same version exists in internal repository
tokay2 Windows Server 2012 R2 Standard / x64  OK  OK  OK  OK UNNEEDED, same version exists in internal repository
celaya2 OS X 10.11.6 El Capitan / x86_64  OK  OK  OK  OK UNNEEDED, same version exists in internal repository
merida2 OS X 10.11.6 El Capitan / x86_64  OK  OK  OK  OK 
Package 45/1703HostnameOS / ArchINSTALLBUILDCHECKBUILD BIN
altcdfenvs 2.45.1
Laurent Gautier
Last Commit: f9da1e0
Last Changed Date: 2019-02-25 07:57:32 -0400
malbec2 Linux (Ubuntu 18.04.2 LTS) / x86_64  OK  OK  OK UNNEEDED, same version exists in internal repository
tokay2 Windows Server 2012 R2 Standard / x64  OK  OK  OK  OK UNNEEDED, same version exists in internal repository
celaya2 OS X 10.11.6 El Capitan / x86_64  OK  OK  OK  OK UNNEEDED, same version exists in internal repository
merida2 OS X 10.11.6 El Capitan / x86_64  OK  OK  OK  OK 
Package 46/1703HostnameOS / ArchINSTALLBUILDCHECKBUILD BIN
AMARETTO 0.99.20
Olivier Gevaert
Last Commit: a59a1b0
Last Changed Date: 2019-03-29 17:00:52 -0400
malbec2 Linux (Ubuntu 18.04.2 LTS) / x86_64  OK  OK  OK UNNEEDED, same version exists in internal repository
tokay2 Windows Server 2012 R2 Standard / x64  OK  OK  OK  OK UNNEEDED, same version exists in internal repository
celaya2 OS X 10.11.6 El Capitan / x86_64  OK  OK  OK  OK UNNEEDED, same version exists in internal repository
merida2 OS X 10.11.6 El Capitan / x86_64  OK  OK  OK  OK 
Package 47/1703HostnameOS / ArchINSTALLBUILDCHECKBUILD BIN
AMOUNTAIN 1.9.0
Dong Li
Last Commit: 6373b61
Last Changed Date: 2018-10-30 11:54:36 -0400
malbec2 Linux (Ubuntu 18.04.2 LTS) / x86_64  OK  OK  OK UNNEEDED, same version exists in internal repository
tokay2 Windows Server 2012 R2 Standard / x64  OK  OK  OK  OK UNNEEDED, same version exists in internal repository
celaya2 OS X 10.11.6 El Capitan / x86_64  OK  OK  OK  OK UNNEEDED, same version exists in internal repository
merida2 OS X 10.11.6 El Capitan / x86_64  OK  OK  OK  OK 
Package 48/1703HostnameOS / ArchINSTALLBUILDCHECKBUILD BIN
amplican 1.5.6
Eivind Valen
Last Commit: 8591290
Last Changed Date: 2019-01-22 08:43:38 -0400
malbec2 Linux (Ubuntu 18.04.2 LTS) / x86_64  OK  OK  OK UNNEEDED, same version exists in internal repository
tokay2 Windows Server 2012 R2 Standard / x64  OK  OK  OK  OK UNNEEDED, same version exists in internal repository
celaya2 OS X 10.11.6 El Capitan / x86_64  OK  OK  OK  OK UNNEEDED, same version exists in internal repository
merida2 OS X 10.11.6 El Capitan / x86_64  OK  OK  OK  OK 
Package 49/1703HostnameOS / ArchINSTALLBUILDCHECKBUILD BIN
AnalysisPageServer 1.17.0
Brad Friedman
Last Commit: 1877999
Last Changed Date: 2018-10-30 11:54:33 -0400
malbec2 Linux (Ubuntu 18.04.2 LTS) / x86_64  OK  OK  OK UNNEEDED, same version exists in internal repository
tokay2 Windows Server 2012 R2 Standard / x64  OK  OK  WARNINGS  OK UNNEEDED, same version exists in internal repository
celaya2 OS X 10.11.6 El Capitan / x86_64  OK  OK  OK  OK UNNEEDED, same version exists in internal repository
merida2 OS X 10.11.6 El Capitan / x86_64  OK  OK  OK  OK 
Package 50/1703HostnameOS / ArchINSTALLBUILDCHECKBUILD BIN
anamiR 1.11.0
Ti-Tai Wang
Last Commit: bd88b14
Last Changed Date: 2018-10-30 11:54:36 -0400
malbec2 Linux (Ubuntu 18.04.2 LTS) / x86_64  OK  OK  OK UNNEEDED, same version exists in internal repository
tokay2 Windows Server 2012 R2 Standard / x64  OK  OK  OK  OK UNNEEDED, same version exists in internal repository
celaya2 OS X 10.11.6 El Capitan / x86_64  OK  OK  OK  OK UNNEEDED, same version exists in internal repository
merida2 OS X 10.11.6 El Capitan / x86_64  OK  OK  OK  OK 
Package 51/1703HostnameOS / ArchINSTALLBUILDCHECKBUILD BIN
Anaquin 2.7.1
Ted Wong
Last Commit: 845a986
Last Changed Date: 2019-01-04 13:18:46 -0400
malbec2 Linux (Ubuntu 18.04.2 LTS) / x86_64  OK  OK  OK UNNEEDED, same version exists in internal repository
tokay2 Windows Server 2012 R2 Standard / x64  OK  OK  OK  OK UNNEEDED, same version exists in internal repository
celaya2 OS X 10.11.6 El Capitan / x86_64  OK  OK  OK  OK UNNEEDED, same version exists in internal repository
merida2 OS X 10.11.6 El Capitan / x86_64  OK  OK  OK  OK 
Package 52/1703HostnameOS / ArchINSTALLBUILDCHECKBUILD BIN
AneuFinder 1.11.2
Aaron Taudt
Last Commit: f825933
Last Changed Date: 2019-01-04 13:18:52 -0400
malbec2 Linux (Ubuntu 18.04.2 LTS) / x86_64  OK  OK  OK UNNEEDED, same version exists in internal repository
tokay2 Windows Server 2012 R2 Standard / x64  OK  OK  OK  OK UNNEEDED, same version exists in internal repository
celaya2 OS X 10.11.6 El Capitan / x86_64  OK  OK  OK  OK UNNEEDED, same version exists in internal repository
merida2 OS X 10.11.6 El Capitan / x86_64  OK  OK  OK  OK 
Package 53/1703HostnameOS / ArchINSTALLBUILDCHECKBUILD BIN
ANF 1.5.0
Tianle Ma
Last Commit: 5bac4c9
Last Changed Date: 2018-10-30 11:54:38 -0400
malbec2 Linux (Ubuntu 18.04.2 LTS) / x86_64  OK  OK  OK UNNEEDED, same version exists in internal repository
tokay2 Windows Server 2012 R2 Standard / x64  OK  OK  OK  OK UNNEEDED, same version exists in internal repository
celaya2 OS X 10.11.6 El Capitan / x86_64  OK  OK  OK  OK UNNEEDED, same version exists in internal repository
merida2 OS X 10.11.6 El Capitan / x86_64  OK  OK  OK  OK 
Package 54/1703HostnameOS / ArchINSTALLBUILDCHECKBUILD BIN
annaffy 1.55.0
Colin A. Smith
Last Commit: 16c28cd
Last Changed Date: 2018-10-30 11:54:26 -0400
malbec2 Linux (Ubuntu 18.04.2 LTS) / x86_64  OK  OK  OK UNNEEDED, same version exists in internal repository
tokay2 Windows Server 2012 R2 Standard / x64  OK  OK  OK  OK UNNEEDED, same version exists in internal repository
celaya2 OS X 10.11.6 El Capitan / x86_64  OK  OK  OK  OK UNNEEDED, same version exists in internal repository
merida2 OS X 10.11.6 El Capitan / x86_64  OK  OK  OK  OK 
Package 55/1703HostnameOS / ArchINSTALLBUILDCHECKBUILD BIN
annmap 1.25.0
Chris Wirth
Last Commit: cfdf55a
Last Changed Date: 2018-10-30 11:54:30 -0400
malbec2 Linux (Ubuntu 18.04.2 LTS) / x86_64  OK  OK  WARNINGS UNNEEDED, same version exists in internal repository
tokay2 Windows Server 2012 R2 Standard / x64 ...NOT SUPPORTED...
celaya2 OS X 10.11.6 El Capitan / x86_64  OK  OK  WARNINGS  OK UNNEEDED, same version exists in internal repository
merida2 OS X 10.11.6 El Capitan / x86_64  OK  OK  WARNINGS  OK 
Package 56/1703HostnameOS / ArchINSTALLBUILDCHECKBUILD BIN
annotate 1.61.1
Bioconductor Package Maintainer
Last Commit: b8f74c5
Last Changed Date: 2019-03-07 15:15:21 -0400
malbec2 Linux (Ubuntu 18.04.2 LTS) / x86_64  OK  OK  OK UNNEEDED, same version exists in internal repository
tokay2 Windows Server 2012 R2 Standard / x64  OK  OK  OK  OK UNNEEDED, same version exists in internal repository
celaya2 OS X 10.11.6 El Capitan / x86_64  OK  OK  OK  OK UNNEEDED, same version exists in internal repository
merida2 OS X 10.11.6 El Capitan / x86_64  OK  OK  ERROR  OK 
Package 57/1703HostnameOS / ArchINSTALLBUILDCHECKBUILD BIN
AnnotationDbi 1.45.1
Bioconductor Package Maintainer
Last Commit: 31c8594
Last Changed Date: 2019-03-04 21:39:37 -0400
malbec2 Linux (Ubuntu 18.04.2 LTS) / x86_64  OK  OK  OK UNNEEDED, same version exists in internal repository
tokay2 Windows Server 2012 R2 Standard / x64  OK  OK  OK  OK UNNEEDED, same version exists in internal repository
celaya2 OS X 10.11.6 El Capitan / x86_64  OK  OK  OK  OK UNNEEDED, same version exists in internal repository
merida2 OS X 10.11.6 El Capitan / x86_64  OK  OK  OK  OK 
Package 58/1703HostnameOS / ArchINSTALLBUILDCHECKBUILD BIN
AnnotationFilter 1.7.0
Bioconductor Package Maintainer
Last Commit: e11a05a
Last Changed Date: 2018-10-30 11:54:37 -0400
malbec2 Linux (Ubuntu 18.04.2 LTS) / x86_64  OK  OK  OK UNNEEDED, same version exists in internal repository
tokay2 Windows Server 2012 R2 Standard / x64  OK  OK  OK  OK UNNEEDED, same version exists in internal repository
celaya2 OS X 10.11.6 El Capitan / x86_64  OK  OK  OK  OK UNNEEDED, same version exists in internal repository
merida2 OS X 10.11.6 El Capitan / x86_64  OK  OK  OK  OK 
Package 59/1703HostnameOS / ArchINSTALLBUILDCHECKBUILD BIN
AnnotationForge 1.25.0
Bioconductor Package Maintainer
Last Commit: 5b53a75
Last Changed Date: 2018-10-30 11:54:30 -0400
malbec2 Linux (Ubuntu 18.04.2 LTS) / x86_64  OK  OK  OK UNNEEDED, same version exists in internal repository
tokay2 Windows Server 2012 R2 Standard / x64  OK  OK  OK  OK UNNEEDED, same version exists in internal repository
celaya2 OS X 10.11.6 El Capitan / x86_64  OK  OK  OK  OK UNNEEDED, same version exists in internal repository
merida2 OS X 10.11.6 El Capitan / x86_64  OK  OK  OK  OK 
Package 60/1703HostnameOS / ArchINSTALLBUILDCHECKBUILD BIN
AnnotationFuncs 1.33.0
Stefan McKinnon Edwards
Last Commit: 8764481
Last Changed Date: 2018-10-30 11:54:29 -0400
malbec2 Linux (Ubuntu 18.04.2 LTS) / x86_64  OK  OK  OK UNNEEDED, same version exists in internal repository
tokay2 Windows Server 2012 R2 Standard / x64  OK  OK  OK  OK UNNEEDED, same version exists in internal repository
celaya2 OS X 10.11.6 El Capitan / x86_64  OK  OK  OK  OK UNNEEDED, same version exists in internal repository
merida2 OS X 10.11.6 El Capitan / x86_64  OK  OK  OK  OK 
Package 61/1703HostnameOS / ArchINSTALLBUILDCHECKBUILD BIN
AnnotationHub 2.15.12
Bioconductor Package Maintainer
Last Commit: 1e1d17b
Last Changed Date: 2019-03-29 14:21:32 -0400
malbec2 Linux (Ubuntu 18.04.2 LTS) / x86_64  OK  OK  WARNINGS UNNEEDED, same version exists in internal repository
tokay2 Windows Server 2012 R2 Standard / x64  OK  ERROR  skipped  skipped 
celaya2 OS X 10.11.6 El Capitan / x86_64  OK  OK  WARNINGS  OK UNNEEDED, same version exists in internal repository
merida2 OS X 10.11.6 El Capitan / x86_64  OK  OK  WARNINGS  OK 
Package 62/1703HostnameOS / ArchINSTALLBUILDCHECKBUILD BIN
AnnotationHubData 1.13.10
Bioconductor Package Maintainer
Last Commit: 22d0b7a
Last Changed Date: 2019-03-29 12:07:16 -0400
malbec2 Linux (Ubuntu 18.04.2 LTS) / x86_64  OK  OK  OK UNNEEDED, same version exists in internal repository
tokay2 Windows Server 2012 R2 Standard / x64  OK  OK  OK  OK UNNEEDED, same version exists in internal repository
celaya2 OS X 10.11.6 El Capitan / x86_64  OK  OK  OK  OK UNNEEDED, same version exists in internal repository
merida2 OS X 10.11.6 El Capitan / x86_64  OK  OK  OK  OK 
Package 63/1703HostnameOS / ArchINSTALLBUILDCHECKBUILD BIN
annotationTools 1.57.0
Alexandre Kuhn
Last Commit: c171781
Last Changed Date: 2018-10-30 11:54:27 -0400
malbec2 Linux (Ubuntu 18.04.2 LTS) / x86_64  OK  OK  OK UNNEEDED, same version exists in internal repository
tokay2 Windows Server 2012 R2 Standard / x64  OK  OK  OK  OK UNNEEDED, same version exists in internal repository
celaya2 OS X 10.11.6 El Capitan / x86_64  OK  OK  OK  OK UNNEEDED, same version exists in internal repository
merida2 OS X 10.11.6 El Capitan / x86_64  OK  OK  OK  OK 
Package 64/1703HostnameOS / ArchINSTALLBUILDCHECKBUILD BIN
annotatr 1.9.0
Raymond G. Cavalcante
Last Commit: b666cb2
Last Changed Date: 2018-10-30 11:54:36 -0400
malbec2 Linux (Ubuntu 18.04.2 LTS) / x86_64  OK  OK  OK UNNEEDED, same version exists in internal repository
tokay2 Windows Server 2012 R2 Standard / x64  OK  OK  OK  OK UNNEEDED, same version exists in internal repository
celaya2 OS X 10.11.6 El Capitan / x86_64  OK  OK  OK  OK UNNEEDED, same version exists in internal repository
merida2 OS X 10.11.6 El Capitan / x86_64  OK  OK  OK  OK 
Package 65/1703HostnameOS / ArchINSTALLBUILDCHECKBUILD BIN
anota 1.31.0
Ola Larsson
Last Commit: 93225e0
Last Changed Date: 2018-10-30 11:54:29 -0400
malbec2 Linux (Ubuntu 18.04.2 LTS) / x86_64  OK  OK  OK UNNEEDED, same version exists in internal repository
tokay2 Windows Server 2012 R2 Standard / x64  OK  OK  OK  OK UNNEEDED, same version exists in internal repository
celaya2 OS X 10.11.6 El Capitan / x86_64  OK  OK  OK  OK UNNEEDED, same version exists in internal repository
merida2 OS X 10.11.6 El Capitan / x86_64  OK  OK  OK  OK 
Package 66/1703HostnameOS / ArchINSTALLBUILDCHECKBUILD BIN
anota2seq 1.5.3
Christian Oertlin , Julie Lorent
Last Commit: 018341b
Last Changed Date: 2019-03-11 09:21:34 -0400
malbec2 Linux (Ubuntu 18.04.2 LTS) / x86_64  OK  OK  OK UNNEEDED, same version exists in internal repository
tokay2 Windows Server 2012 R2 Standard / x64  OK  OK  OK  OK UNNEEDED, same version exists in internal repository
celaya2 OS X 10.11.6 El Capitan / x86_64  OK  OK  OK  OK UNNEEDED, same version exists in internal repository
merida2 OS X 10.11.6 El Capitan / x86_64  OK  OK  OK  OK 
Package 67/1703HostnameOS / ArchINSTALLBUILDCHECKBUILD BIN
antiProfiles 1.23.0
Hector Corrada Bravo
Last Commit: 195d477
Last Changed Date: 2018-10-30 11:54:31 -0400
malbec2 Linux (Ubuntu 18.04.2 LTS) / x86_64  OK  OK  OK UNNEEDED, same version exists in internal repository
tokay2 Windows Server 2012 R2 Standard / x64  OK  OK  OK  OK UNNEEDED, same version exists in internal repository
celaya2 OS X 10.11.6 El Capitan / x86_64  OK  OK  OK  OK UNNEEDED, same version exists in internal repository
merida2 OS X 10.11.6 El Capitan / x86_64  OK  OK  OK  OK 
Package 68/1703HostnameOS / ArchINSTALLBUILDCHECKBUILD BIN
apComplex 2.49.1
Denise Scholtens
Last Commit: 128297a
Last Changed Date: 2019-01-04 13:08:21 -0400
malbec2 Linux (Ubuntu 18.04.2 LTS) / x86_64  OK  OK  OK UNNEEDED, same version exists in internal repository
tokay2 Windows Server 2012 R2 Standard / x64  OK  OK  OK  OK UNNEEDED, same version exists in internal repository
celaya2 OS X 10.11.6 El Capitan / x86_64  OK  OK  OK  OK UNNEEDED, same version exists in internal repository
merida2 OS X 10.11.6 El Capitan / x86_64  OK  OK  OK  OK 
Package 69/1703HostnameOS / ArchINSTALLBUILDCHECKBUILD BIN
apeglm 1.5.4
Anqi Zhu
Last Commit: d9b4f5c
Last Changed Date: 2019-04-02 15:56:26 -0400
malbec2 Linux (Ubuntu 18.04.2 LTS) / x86_64  OK  OK  OK UNNEEDED, same version exists in internal repository
tokay2 Windows Server 2012 R2 Standard / x64  OK  OK  OK  OK UNNEEDED, same version exists in internal repository
celaya2 OS X 10.11.6 El Capitan / x86_64  OK  OK  OK  OK UNNEEDED, same version exists in internal repository
merida2 OS X 10.11.6 El Capitan / x86_64  OK  OK  OK  OK 
Package 70/1703HostnameOS / ArchINSTALLBUILDCHECKBUILD BIN
appreci8R 1.1.0
Sarah Sandmann
Last Commit: 240c997
Last Changed Date: 2018-10-30 11:54:39 -0400
malbec2 Linux (Ubuntu 18.04.2 LTS) / x86_64  OK  ERROR  skipped 
tokay2 Windows Server 2012 R2 Standard / x64  OK  OK  OK  OK UNNEEDED, same version exists in internal repository
celaya2 OS X 10.11.6 El Capitan / x86_64  OK  OK  OK  OK UNNEEDED, same version exists in internal repository
merida2 OS X 10.11.6 El Capitan / x86_64  OK  OK  OK  OK 
Package 71/1703HostnameOS / ArchINSTALLBUILDCHECKBUILD BIN
aroma.light 3.13.0
Henrik Bengtsson
Last Commit: 6689cc8
Last Changed Date: 2018-10-30 11:54:27 -0400
malbec2 Linux (Ubuntu 18.04.2 LTS) / x86_64  OK  OK  OK UNNEEDED, same version exists in internal repository
tokay2 Windows Server 2012 R2 Standard / x64  OK  OK  OK  OK UNNEEDED, same version exists in internal repository
celaya2 OS X 10.11.6 El Capitan / x86_64  OK  OK  OK  OK UNNEEDED, same version exists in internal repository
merida2 OS X 10.11.6 El Capitan / x86_64  OK  OK  OK  OK 
Package 72/1703HostnameOS / ArchINSTALLBUILDCHECKBUILD BIN
ArrayExpress 1.43.0
Suhaib Mohammed
Last Commit: 09e0a49
Last Changed Date: 2018-10-30 11:54:28 -0400
malbec2 Linux (Ubuntu 18.04.2 LTS) / x86_64  OK  OK  OK UNNEEDED, same version exists in internal repository
tokay2 Windows Server 2012 R2 Standard / x64  OK  OK  OK  OK UNNEEDED, same version exists in internal repository
celaya2 OS X 10.11.6 El Capitan / x86_64  OK  OK  OK  OK UNNEEDED, same version exists in internal repository
merida2 OS X 10.11.6 El Capitan / x86_64  OK  OK  OK  OK 
Package 73/1703HostnameOS / ArchINSTALLBUILDCHECKBUILD BIN
ArrayExpressHTS 1.33.1
Angela Goncalves , Andrew Tikhonov
Last Commit: 0db10b7
Last Changed Date: 2019-01-04 13:08:26 -0400
malbec2 Linux (Ubuntu 18.04.2 LTS) / x86_64  ERROR  ERROR  skipped 
tokay2 Windows Server 2012 R2 Standard / x64 ...NOT SUPPORTED...
celaya2 OS X 10.11.6 El Capitan / x86_64  ERROR  ERROR  skipped  skipped 
merida2 OS X 10.11.6 El Capitan / x86_64  ERROR  ERROR  skipped  skipped 
Package 74/1703HostnameOS / ArchINSTALLBUILDCHECKBUILD BIN
arrayMvout 1.41.0
V. Carey
Last Commit: a1e5a96
Last Changed Date: 2018-10-30 11:54:28 -0400
malbec2 Linux (Ubuntu 18.04.2 LTS) / x86_64  OK  OK  OK UNNEEDED, same version exists in internal repository
tokay2 Windows Server 2012 R2 Standard / x64  OK  OK  OK  OK UNNEEDED, same version exists in internal repository
celaya2 OS X 10.11.6 El Capitan / x86_64  OK  OK  OK  OK UNNEEDED, same version exists in internal repository
merida2 OS X 10.11.6 El Capitan / x86_64  OK  OK  OK  OK 
Package 75/1703HostnameOS / ArchINSTALLBUILDCHECKBUILD BIN
arrayQuality 1.61.0
Agnes Paquet
Last Commit: 488928a
Last Changed Date: 2018-10-30 11:54:26 -0400
malbec2 Linux (Ubuntu 18.04.2 LTS) / x86_64  OK  OK  WARNINGS UNNEEDED, same version exists in internal repository
tokay2 Windows Server 2012 R2 Standard / x64  OK  OK  WARNINGS  OK UNNEEDED, same version exists in internal repository
celaya2 OS X 10.11.6 El Capitan / x86_64  OK  OK  WARNINGS  OK UNNEEDED, same version exists in internal repository
merida2 OS X 10.11.6 El Capitan / x86_64  OK  OK  WARNINGS  OK 
Package 76/1703HostnameOS / ArchINSTALLBUILDCHECKBUILD BIN
arrayQualityMetrics 3.39.1
Mike Smith
Last Commit: bcd939a
Last Changed Date: 2019-01-27 12:00:31 -0400
malbec2 Linux (Ubuntu 18.04.2 LTS) / x86_64  OK  OK  OK UNNEEDED, same version exists in internal repository
tokay2 Windows Server 2012 R2 Standard / x64  OK  OK  OK  OK UNNEEDED, same version exists in internal repository
celaya2 OS X 10.11.6 El Capitan / x86_64  ERROR  ERROR  skipped  skipped 
merida2 OS X 10.11.6 El Capitan / x86_64  ERROR  ERROR  skipped  skipped 
Package 77/1703HostnameOS / ArchINSTALLBUILDCHECKBUILD BIN
ArrayTools 1.43.0
Arthur Li
Last Commit: 92a31ab
Last Changed Date: 2018-10-30 11:54:28 -0400
malbec2 Linux (Ubuntu 18.04.2 LTS) / x86_64  OK  OK  OK UNNEEDED, same version exists in internal repository
tokay2 Windows Server 2012 R2 Standard / x64  OK  OK  OK  OK UNNEEDED, same version exists in internal repository
celaya2 OS X 10.11.6 El Capitan / x86_64  OK  OK  OK  OK UNNEEDED, same version exists in internal repository
merida2 OS X 10.11.6 El Capitan / x86_64  OK  OK  OK  OK 
Package 78/1703HostnameOS / ArchINSTALLBUILDCHECKBUILD BIN
ArrayTV 1.21.0
Eitan Halper-Stromberg
Last Commit: 859fcb7
Last Changed Date: 2018-10-30 11:54:31 -0400
malbec2 Linux (Ubuntu 18.04.2 LTS) / x86_64  OK  OK  OK UNNEEDED, same version exists in internal repository
tokay2 Windows Server 2012 R2 Standard / x64  OK  OK  OK  OK UNNEEDED, same version exists in internal repository
celaya2 OS X 10.11.6 El Capitan / x86_64  OK  OK  OK  OK UNNEEDED, same version exists in internal repository
merida2 OS X 10.11.6 El Capitan / x86_64  OK  OK  OK  OK 
Package 79/1703HostnameOS / ArchINSTALLBUILDCHECKBUILD BIN
ARRmNormalization 1.23.0
Jean-Philippe Fortin
Last Commit: 939790e
Last Changed Date: 2018-10-30 11:54:31 -0400
malbec2 Linux (Ubuntu 18.04.2 LTS) / x86_64  OK  OK  OK UNNEEDED, same version exists in internal repository
tokay2 Windows Server 2012 R2 Standard / x64  OK  OK  OK  OK UNNEEDED, same version exists in internal repository
celaya2 OS X 10.11.6 El Capitan / x86_64  OK  OK  OK  OK UNNEEDED, same version exists in internal repository
merida2 OS X 10.11.6 El Capitan / x86_64  OK  OK  OK  OK 
Package 80/1703HostnameOS / ArchINSTALLBUILDCHECKBUILD BIN
artMS 1.1.12
David Jimenez-Morales
Last Commit: f3e0ba8
Last Changed Date: 2019-04-07 19:46:14 -0400
malbec2 Linux (Ubuntu 18.04.2 LTS) / x86_64  OK  OK  OK YES, new version is higher than in internal repository
tokay2 Windows Server 2012 R2 Standard / x64  OK  OK  OK  OK YES, new version is higher than in internal repository
celaya2 OS X 10.11.6 El Capitan / x86_64  OK  OK  OK  OK YES, new version is higher than in internal repository
merida2 OS X 10.11.6 El Capitan / x86_64  OK  OK  OK  OK 
Package 81/1703HostnameOS / ArchINSTALLBUILDCHECKBUILD BIN
ASAFE 1.9.0
Qian Zhang
Last Commit: b2bd117
Last Changed Date: 2018-10-30 11:54:36 -0400
malbec2 Linux (Ubuntu 18.04.2 LTS) / x86_64  OK  OK  OK UNNEEDED, same version exists in internal repository
tokay2 Windows Server 2012 R2 Standard / x64  OK  OK  OK  OK UNNEEDED, same version exists in internal repository
celaya2 OS X 10.11.6 El Capitan / x86_64  OK  OK  OK  OK UNNEEDED, same version exists in internal repository
merida2 OS X 10.11.6 El Capitan / x86_64  OK  OK  OK  OK 
Package 82/1703HostnameOS / ArchINSTALLBUILDCHECKBUILD BIN
ASEB 1.27.0
Likun Wang
Last Commit: fbc98b9
Last Changed Date: 2018-10-30 11:54:30 -0400
malbec2 Linux (Ubuntu 18.04.2 LTS) / x86_64  OK  OK  OK UNNEEDED, same version exists in internal repository
tokay2 Windows Server 2012 R2 Standard / x64  OK  OK  OK  OK UNNEEDED, same version exists in internal repository
celaya2 OS X 10.11.6 El Capitan / x86_64  OK  OK  OK  OK UNNEEDED, same version exists in internal repository
merida2 OS X 10.11.6 El Capitan / x86_64  OK  OK  OK  OK 
Package 83/1703HostnameOS / ArchINSTALLBUILDCHECKBUILD BIN
ASGSCA 1.17.0
Hela Romdhani
Last Commit: d0492d2
Last Changed Date: 2018-10-30 11:54:33 -0400
malbec2 Linux (Ubuntu 18.04.2 LTS) / x86_64  OK  OK  OK UNNEEDED, same version exists in internal repository
tokay2 Windows Server 2012 R2 Standard / x64  OK  OK  OK  OK UNNEEDED, same version exists in internal repository
celaya2 OS X 10.11.6 El Capitan / x86_64  OK  OK  OK  OK UNNEEDED, same version exists in internal repository
merida2 OS X 10.11.6 El Capitan / x86_64  OK  OK  OK  OK 
Package 84/1703HostnameOS / ArchINSTALLBUILDCHECKBUILD BIN
ASICS 1.3.0
Gaëlle Lefort
Last Commit: 8515da3
Last Changed Date: 2018-10-30 11:54:39 -0400
malbec2 Linux (Ubuntu 18.04.2 LTS) / x86_64  OK  OK  OK UNNEEDED, same version exists in internal repository
tokay2 Windows Server 2012 R2 Standard / x64  OK  OK  OK  OK UNNEEDED, same version exists in internal repository
celaya2 OS X 10.11.6 El Capitan / x86_64  OK  OK  OK  OK UNNEEDED, same version exists in internal repository
merida2 OS X 10.11.6 El Capitan / x86_64  OK  OK  OK  OK 
Package 85/1703HostnameOS / ArchINSTALLBUILDCHECKBUILD BIN
ASpli 1.9.1
Estefania Mancini
Last Commit: 8c8d62f
Last Changed Date: 2019-01-04 13:13:06 -0400
malbec2 Linux (Ubuntu 18.04.2 LTS) / x86_64  OK  OK  OK UNNEEDED, same version exists in internal repository
tokay2 Windows Server 2012 R2 Standard / x64  OK  OK  OK  OK UNNEEDED, same version exists in internal repository
celaya2 OS X 10.11.6 El Capitan / x86_64  OK  OK  OK  OK UNNEEDED, same version exists in internal repository
merida2 OS X 10.11.6 El Capitan / x86_64  OK  OK  OK  OK 
Package 86/1703HostnameOS / ArchINSTALLBUILDCHECKBUILD BIN
AssessORF 1.1.6
Deepank Korandla
Last Commit: 641d801
Last Changed Date: 2019-04-07 21:56:40 -0400
malbec2 Linux (Ubuntu 18.04.2 LTS) / x86_64  OK  OK  OK YES, new version is higher than in internal repository
tokay2 Windows Server 2012 R2 Standard / x64  OK  OK  OK  OK YES, new version is higher than in internal repository
celaya2 OS X 10.11.6 El Capitan / x86_64  OK  OK  OK  OK YES, new version is higher than in internal repository
merida2 OS X 10.11.6 El Capitan / x86_64  OK  OK  OK  OK 
Package 87/1703HostnameOS / ArchINSTALLBUILDCHECKBUILD BIN
ASSET 2.1.0
Samsiddhi Bhattacharjee
Last Commit: 36d17d7
Last Changed Date: 2018-10-30 11:54:31 -0400
malbec2 Linux (Ubuntu 18.04.2 LTS) / x86_64  OK  OK  WARNINGS UNNEEDED, same version exists in internal repository
tokay2 Windows Server 2012 R2 Standard / x64  OK  OK  WARNINGS  OK UNNEEDED, same version exists in internal repository
celaya2 OS X 10.11.6 El Capitan / x86_64  OK  OK  WARNINGS  OK UNNEEDED, same version exists in internal repository
merida2 OS X 10.11.6 El Capitan / x86_64  OK  OK  WARNINGS  OK 
Package 88/1703HostnameOS / ArchINSTALLBUILDCHECKBUILD BIN
ASSIGN 1.19.1
Ying Shen , W. Evan Johnson
Last Commit: fea0672
Last Changed Date: 2019-03-26 22:27:52 -0400
malbec2 Linux (Ubuntu 18.04.2 LTS) / x86_64  OK  OK  OK UNNEEDED, same version exists in internal repository
tokay2 Windows Server 2012 R2 Standard / x64  OK  OK  OK  OK UNNEEDED, same version exists in internal repository
celaya2 OS X 10.11.6 El Capitan / x86_64  OK  OK  OK  OK UNNEEDED, same version exists in internal repository
merida2 OS X 10.11.6 El Capitan / x86_64  OK  OK  OK  OK 
Package 89/1703HostnameOS / ArchINSTALLBUILDCHECKBUILD BIN
ATACseqQC 1.7.8
Jianhong Ou
Last Commit: e7620f3
Last Changed Date: 2019-02-01 15:36:43 -0400
malbec2 Linux (Ubuntu 18.04.2 LTS) / x86_64  OK  OK  OK UNNEEDED, same version exists in internal repository
tokay2 Windows Server 2012 R2 Standard / x64  OK  OK  OK  OK UNNEEDED, same version exists in internal repository
celaya2 OS X 10.11.6 El Capitan / x86_64  OK  OK  OK  OK UNNEEDED, same version exists in internal repository
merida2 OS X 10.11.6 El Capitan / x86_64  OK  OK  OK  OK 
Package 90/1703HostnameOS / ArchINSTALLBUILDCHECKBUILD BIN
atSNP 0.99.21
Sunyoung Shin
Last Commit: ad43b8c
Last Changed Date: 2019-02-24 23:55:20 -0400
malbec2 Linux (Ubuntu 18.04.2 LTS) / x86_64  OK  ERROR  skipped 
tokay2 Windows Server 2012 R2 Standard / x64  OK  ERROR  skipped  skipped 
celaya2 OS X 10.11.6 El Capitan / x86_64  OK  ERROR  skipped  skipped 
merida2 OS X 10.11.6 El Capitan / x86_64  OK  ERROR  skipped  skipped 
Package 91/1703HostnameOS / ArchINSTALLBUILDCHECKBUILD BIN
attract 1.35.1
Samuel Zimmerman
Last Commit: eecec2e
Last Changed Date: 2019-01-04 13:19:11 -0400
malbec2 Linux (Ubuntu 18.04.2 LTS) / x86_64  OK  OK  OK UNNEEDED, same version exists in internal repository
tokay2 Windows Server 2012 R2 Standard / x64  OK  OK  OK  OK UNNEEDED, same version exists in internal repository
celaya2 OS X 10.11.6 El Capitan / x86_64  OK  OK  OK  OK UNNEEDED, same version exists in internal repository
merida2 OS X 10.11.6 El Capitan / x86_64  OK  OK  OK  OK 
Package 92/1703HostnameOS / ArchINSTALLBUILDCHECKBUILD BIN
AUCell 1.5.5
Sara Aibar
Last Commit: 33773fc
Last Changed Date: 2019-01-31 07:30:28 -0400
malbec2 Linux (Ubuntu 18.04.2 LTS) / x86_64  OK  OK  OK UNNEEDED, same version exists in internal repository
tokay2 Windows Server 2012 R2 Standard / x64  OK  OK  OK  OK UNNEEDED, same version exists in internal repository
celaya2 OS X 10.11.6 El Capitan / x86_64  OK  OK  OK  OK UNNEEDED, same version exists in internal repository
merida2 OS X 10.11.6 El Capitan / x86_64  OK  OK  OK  OK 
B
ABCDEFGHIJKLMNOPQRSTUVWXYZ
Package 93/1703HostnameOS / ArchINSTALLBUILDCHECKBUILD BIN
BaalChIP 1.9.1
Ines de Santiago
Last Commit: ad3ee38
Last Changed Date: 2019-03-21 07:18:15 -0400
malbec2 Linux (Ubuntu 18.04.2 LTS) / x86_64  OK  OK  WARNINGS UNNEEDED, same version exists in internal repository
tokay2 Windows Server 2012 R2 Standard / x64  OK  OK  WARNINGS  OK UNNEEDED, same version exists in internal repository
celaya2 OS X 10.11.6 El Capitan / x86_64  OK  OK  WARNINGS  OK UNNEEDED, same version exists in internal repository
merida2 OS X 10.11.6 El Capitan / x86_64  OK  OK  WARNINGS  OK 
Package 94/1703HostnameOS / ArchINSTALLBUILDCHECKBUILD BIN
BAC 1.43.0
Raphael Gottardo
Last Commit: 4861ad8
Last Changed Date: 2018-10-30 11:54:27 -0400
malbec2 Linux (Ubuntu 18.04.2 LTS) / x86_64  OK  OK  OK UNNEEDED, same version exists in internal repository
tokay2 Windows Server 2012 R2 Standard / x64  OK  OK  OK  OK UNNEEDED, same version exists in internal repository
celaya2 OS X 10.11.6 El Capitan / x86_64  OK  OK  OK  OK UNNEEDED, same version exists in internal repository
merida2 OS X 10.11.6 El Capitan / x86_64  OK  OK  OK  OK 
Package 95/1703HostnameOS / ArchINSTALLBUILDCHECKBUILD BIN
bacon 1.11.1
Maarten van Iterson
Last Commit: a98e287
Last Changed Date: 2019-01-04 13:19:21 -0400
malbec2 Linux (Ubuntu 18.04.2 LTS) / x86_64  OK  OK  OK UNNEEDED, same version exists in internal repository
tokay2 Windows Server 2012 R2 Standard / x64  OK  OK  OK  OK UNNEEDED, same version exists in internal repository
celaya2 OS X 10.11.6 El Capitan / x86_64  OK  OK  OK  OK UNNEEDED, same version exists in internal repository
merida2 OS X 10.11.6 El Capitan / x86_64  OK  OK  OK  OK 
Package 96/1703HostnameOS / ArchINSTALLBUILDCHECKBUILD BIN
BADER 1.21.1
Andreas Neudecker
Last Commit: 53c35a3
Last Changed Date: 2019-01-04 13:19:26 -0400
malbec2 Linux (Ubuntu 18.04.2 LTS) / x86_64  OK  OK  OK UNNEEDED, same version exists in internal repository
tokay2 Windows Server 2012 R2 Standard / x64  OK  OK  OK  OK UNNEEDED, same version exists in internal repository
celaya2 OS X 10.11.6 El Capitan / x86_64  OK  OK  OK  OK UNNEEDED, same version exists in internal repository
merida2 OS X 10.11.6 El Capitan / x86_64  OK  OK  OK  OK 
Package 97/1703HostnameOS / ArchINSTALLBUILDCHECKBUILD BIN
BadRegionFinder 1.11.0
Sarah Sandmann
Last Commit: adc3539
Last Changed Date: 2018-10-30 11:54:35 -0400
malbec2 Linux (Ubuntu 18.04.2 LTS) / x86_64  OK  OK  OK UNNEEDED, same version exists in internal repository
tokay2 Windows Server 2012 R2 Standard / x64  OK  OK  OK  OK UNNEEDED, same version exists in internal repository
celaya2 OS X 10.11.6 El Capitan / x86_64  OK  OK  OK  OK UNNEEDED, same version exists in internal repository
merida2 OS X 10.11.6 El Capitan / x86_64  OK  OK  OK  OK 
Package 98/1703HostnameOS / ArchINSTALLBUILDCHECKBUILD BIN
BAGS 2.23.0
Alejandro Quiroz-Zarate
Last Commit: 94b371b
Last Changed Date: 2018-10-30 11:54:30 -0400
malbec2 Linux (Ubuntu 18.04.2 LTS) / x86_64  OK  OK  OK UNNEEDED, same version exists in internal repository
tokay2 Windows Server 2012 R2 Standard / x64  OK  OK  OK  OK UNNEEDED, same version exists in internal repository
celaya2 OS X 10.11.6 El Capitan / x86_64  OK  OK  OK  OK UNNEEDED, same version exists in internal repository
merida2 OS X 10.11.6 El Capitan / x86_64  OK  OK  OK  OK 
Package 99/1703HostnameOS / ArchINSTALLBUILDCHECKBUILD BIN
ballgown 2.15.1
Jack Fu
Last Commit: 5977b84
Last Changed Date: 2019-01-04 13:19:31 -0400
malbec2 Linux (Ubuntu 18.04.2 LTS) / x86_64  OK  OK  OK UNNEEDED, same version exists in internal repository
tokay2 Windows Server 2012 R2 Standard / x64  OK  OK  OK  OK UNNEEDED, same version exists in internal repository
celaya2 OS X 10.11.6 El Capitan / x86_64  OK  OK  OK  OK UNNEEDED, same version exists in internal repository
merida2 OS X 10.11.6 El Capitan / x86_64  OK  OK  OK  OK 
Package 100/1703HostnameOS / ArchINSTALLBUILDCHECKBUILD BIN
bamsignals 1.15.0
Alessandro Mammana
Last Commit: 5ad00fa
Last Changed Date: 2018-10-30 11:54:34 -0400
malbec2 Linux (Ubuntu 18.04.2 LTS) / x86_64  OK  OK  OK UNNEEDED, same version exists in internal repository
tokay2 Windows Server 2012 R2 Standard / x64  OK  OK  OK  OK UNNEEDED, same version exists in internal repository
celaya2 OS X 10.11.6 El Capitan / x86_64  OK  OK  OK  OK UNNEEDED, same version exists in internal repository
merida2 OS X 10.11.6 El Capitan / x86_64  OK  OK  OK  OK 
Package 101/1703HostnameOS / ArchINSTALLBUILDCHECKBUILD BIN
banocc 1.7.1
George Weingart
Last Commit: 9e3b78e
Last Changed Date: 2019-01-04 13:19:46 -0400
malbec2 Linux (Ubuntu 18.04.2 LTS) / x86_64  OK  OK  OK UNNEEDED, same version exists in internal repository
tokay2 Windows Server 2012 R2 Standard / x64  OK  ERROR  skipped  skipped 
celaya2 OS X 10.11.6 El Capitan / x86_64  OK  OK  OK  OK UNNEEDED, same version exists in internal repository
merida2 OS X 10.11.6 El Capitan / x86_64  OK  OK  OK  OK 
Package 102/1703HostnameOS / ArchINSTALLBUILDCHECKBUILD BIN
basecallQC 1.7.0
Thomas Carroll
Last Commit: 33f4312
Last Changed Date: 2018-10-30 11:54:37 -0400
malbec2 Linux (Ubuntu 18.04.2 LTS) / x86_64  OK  OK  OK UNNEEDED, same version exists in internal repository
tokay2 Windows Server 2012 R2 Standard / x64  OK  OK  OK  OK UNNEEDED, same version exists in internal repository
celaya2 OS X 10.11.6 El Capitan / x86_64  OK  OK  OK  OK UNNEEDED, same version exists in internal repository
merida2 OS X 10.11.6 El Capitan / x86_64  OK  OK  OK  OK 
Package 103/1703HostnameOS / ArchINSTALLBUILDCHECKBUILD BIN
BaseSpaceR 1.27.0
Jared O'Connell
Last Commit: 79ec240
Last Changed Date: 2018-10-30 11:54:31 -0400
malbec2 Linux (Ubuntu 18.04.2 LTS) / x86_64  OK  OK  OK UNNEEDED, same version exists in internal repository
tokay2 Windows Server 2012 R2 Standard / x64  OK  OK  OK  OK UNNEEDED, same version exists in internal repository
celaya2 OS X 10.11.6 El Capitan / x86_64  OK  OK  OK  OK UNNEEDED, same version exists in internal repository
merida2 OS X 10.11.6 El Capitan / x86_64  OK  OK  OK  OK 
Package 104/1703HostnameOS / ArchINSTALLBUILDCHECKBUILD BIN
Basic4Cseq 1.19.1
Carolin Walter
Last Commit: ba3a2f0
Last Changed Date: 2019-01-04 13:19:51 -0400
malbec2 Linux (Ubuntu 18.04.2 LTS) / x86_64  OK  OK  OK UNNEEDED, same version exists in internal repository
tokay2 Windows Server 2012 R2 Standard / x64  OK  OK  OK  OK UNNEEDED, same version exists in internal repository
celaya2 OS X 10.11.6 El Capitan / x86_64  OK  OK  OK  OK UNNEEDED, same version exists in internal repository
merida2 OS X 10.11.6 El Capitan / x86_64  OK  OK  OK  OK 
Package 105/1703HostnameOS / ArchINSTALLBUILDCHECKBUILD BIN
BASiCS 1.5.26
Catalina Vallejos
Last Commit: 935423f
Last Changed Date: 2019-04-08 13:25:31 -0400
malbec2 Linux (Ubuntu 18.04.2 LTS) / x86_64  OK  OK  OK YES, new version is higher than in internal repository
tokay2 Windows Server 2012 R2 Standard / x64  OK  OK  OK  OK YES, new version is higher than in internal repository
celaya2 OS X 10.11.6 El Capitan / x86_64  OK  OK  OK  OK YES, new version is higher than in internal repository
merida2 OS X 10.11.6 El Capitan / x86_64  OK  OK  OK  OK 
Package 106/1703HostnameOS / ArchINSTALLBUILDCHECKBUILD BIN
BasicSTARRseq 1.11.0
Annika Buerger
Last Commit: 09fa134
Last Changed Date: 2018-10-30 11:54:35 -0400
malbec2 Linux (Ubuntu 18.04.2 LTS) / x86_64  OK  OK  OK UNNEEDED, same version exists in internal repository
tokay2 Windows Server 2012 R2 Standard / x64  OK  OK  OK  OK UNNEEDED, same version exists in internal repository
celaya2 OS X 10.11.6 El Capitan / x86_64  OK  OK  OK  OK UNNEEDED, same version exists in internal repository
merida2 OS X 10.11.6 El Capitan / x86_64  OK  OK  OK  OK 
Package 107/1703HostnameOS / ArchINSTALLBUILDCHECKBUILD BIN
batchelor 0.99.7
Aaron Lun
Last Commit: 4ff6842
Last Changed Date: 2019-03-27 00:58:14 -0400
malbec2 Linux (Ubuntu 18.04.2 LTS) / x86_64  OK  OK  OK UNNEEDED, same version exists in internal repository
tokay2 Windows Server 2012 R2 Standard / x64  OK  OK  OK  OK UNNEEDED, same version exists in internal repository
celaya2 OS X 10.11.6 El Capitan / x86_64  OK  OK  OK  OK UNNEEDED, same version exists in internal repository
merida2 OS X 10.11.6 El Capitan / x86_64  OK  OK  OK  OK 
Package 108/1703HostnameOS / ArchINSTALLBUILDCHECKBUILD BIN
BatchQC 1.11.3
Solaiappan Manimaran
Last Commit: 8ee9568
Last Changed Date: 2019-04-07 17:02:13 -0400
malbec2 Linux (Ubuntu 18.04.2 LTS) / x86_64  OK  OK  OK UNNEEDED, same version exists in internal repository
tokay2 Windows Server 2012 R2 Standard / x64  OK  OK  OK  OK UNNEEDED, same version exists in internal repository
celaya2 OS X 10.11.6 El Capitan / x86_64  OK  OK  OK  OK UNNEEDED, same version exists in internal repository
merida2 OS X 10.11.6 El Capitan / x86_64  OK  OK  OK  OK 
Package 109/1703HostnameOS / ArchINSTALLBUILDCHECKBUILD BIN
BayesKnockdown 1.9.0
William Chad Young
Last Commit: 7e617e8
Last Changed Date: 2018-10-30 11:54:36 -0400
malbec2 Linux (Ubuntu 18.04.2 LTS) / x86_64  OK  OK  OK UNNEEDED, same version exists in internal repository
tokay2 Windows Server 2012 R2 Standard / x64  OK  OK  OK  OK UNNEEDED, same version exists in internal repository
celaya2 OS X 10.11.6 El Capitan / x86_64  OK  OK  OK  OK UNNEEDED, same version exists in internal repository
merida2 OS X 10.11.6 El Capitan / x86_64  OK  OK  OK  OK 
Package 110/1703HostnameOS / ArchINSTALLBUILDCHECKBUILD BIN
BayesPeak 1.35.0
Jonathan Cairns
Last Commit: 0112b88
Last Changed Date: 2018-10-30 11:54:28 -0400
malbec2 Linux (Ubuntu 18.04.2 LTS) / x86_64  OK  OK  OK UNNEEDED, same version exists in internal repository
tokay2 Windows Server 2012 R2 Standard / x64  OK  OK  WARNINGS  OK UNNEEDED, same version exists in internal repository
celaya2 OS X 10.11.6 El Capitan / x86_64  OK  OK  OK  OK UNNEEDED, same version exists in internal repository
merida2 OS X 10.11.6 El Capitan / x86_64  OK  OK  OK  OK 
Package 111/1703HostnameOS / ArchINSTALLBUILDCHECKBUILD BIN
bayNorm 1.1.7
Wenhao Tang
Last Commit: 2975a04
Last Changed Date: 2019-03-26 11:51:26 -0400
malbec2 Linux (Ubuntu 18.04.2 LTS) / x86_64  OK  OK  OK UNNEEDED, same version exists in internal repository
tokay2 Windows Server 2012 R2 Standard / x64  OK  OK  OK  OK UNNEEDED, same version exists in internal repository
celaya2 OS X 10.11.6 El Capitan / x86_64  OK  OK  OK  OK UNNEEDED, same version exists in internal repository
merida2 OS X 10.11.6 El Capitan / x86_64  OK  OK  OK  OK 
Package 112/1703HostnameOS / ArchINSTALLBUILDCHECKBUILD BIN
baySeq 2.17.0
Thomas J. Hardcastle
Last Commit: ed9bc6d
Last Changed Date: 2018-10-30 11:54:28 -0400
malbec2 Linux (Ubuntu 18.04.2 LTS) / x86_64  OK  OK  OK UNNEEDED, same version exists in internal repository
tokay2 Windows Server 2012 R2 Standard / x64  OK  OK  OK  OK UNNEEDED, same version exists in internal repository
celaya2 OS X 10.11.6 El Capitan / x86_64  OK  OK  OK  OK UNNEEDED, same version exists in internal repository
merida2 OS X 10.11.6 El Capitan / x86_64  OK  OK  OK  OK 
Package 113/1703HostnameOS / ArchINSTALLBUILDCHECKBUILD BIN
BBCAnalyzer 1.13.0
Sarah Sandmann
Last Commit: 7a3b101
Last Changed Date: 2018-10-30 11:54:34 -0400
malbec2 Linux (Ubuntu 18.04.2 LTS) / x86_64  OK  OK  OK UNNEEDED, same version exists in internal repository
tokay2 Windows Server 2012 R2 Standard / x64  OK  ERROR  skipped  skipped 
celaya2 OS X 10.11.6 El Capitan / x86_64  OK  OK  OK  OK UNNEEDED, same version exists in internal repository
merida2 OS X 10.11.6 El Capitan / x86_64  OK  OK  OK  OK 
Package 114/1703HostnameOS / ArchINSTALLBUILDCHECKBUILD BIN
BCRANK 1.45.0
Adam Ameur
Last Commit: f440e9e
Last Changed Date: 2018-10-30 11:54:27 -0400
malbec2 Linux (Ubuntu 18.04.2 LTS) / x86_64  OK  OK  OK UNNEEDED, same version exists in internal repository
tokay2 Windows Server 2012 R2 Standard / x64  OK  OK  OK  OK UNNEEDED, same version exists in internal repository
celaya2 OS X 10.11.6 El Capitan / x86_64  OK  OK  OK  OK UNNEEDED, same version exists in internal repository
merida2 OS X 10.11.6 El Capitan / x86_64  OK  OK  OK  OK 
Package 115/1703HostnameOS / ArchINSTALLBUILDCHECKBUILD BIN
bcSeq 1.5.1
Jiaxing Lin
Last Commit: 953a34c
Last Changed Date: 2019-01-04 13:20:01 -0400
malbec2 Linux (Ubuntu 18.04.2 LTS) / x86_64  OK  ERROR  skipped 
tokay2 Windows Server 2012 R2 Standard / x64  OK  ERROR  skipped  skipped 
celaya2 OS X 10.11.6 El Capitan / x86_64  OK  ERROR  skipped  skipped 
merida2 OS X 10.11.6 El Capitan / x86_64  OK  OK  OK  OK 
Package 116/1703HostnameOS / ArchINSTALLBUILDCHECKBUILD BIN
BDMMAcorrect 1.1.1
ZHENWEI DAI
Last Commit: e8d13e3
Last Changed Date: 2019-03-23 17:47:47 -0400
malbec2 Linux (Ubuntu 18.04.2 LTS) / x86_64  OK  OK  OK UNNEEDED, same version exists in internal repository
tokay2 Windows Server 2012 R2 Standard / x64  OK  OK  OK  OK UNNEEDED, same version exists in internal repository
celaya2 OS X 10.11.6 El Capitan / x86_64  OK  OK  OK  OK UNNEEDED, same version exists in internal repository
merida2 OS X 10.11.6 El Capitan / x86_64  OK  OK  OK  OK 
Package 117/1703HostnameOS / ArchINSTALLBUILDCHECKBUILD BIN
beachmat 1.99.8
Aaron Lun
Last Commit: 56cdc92
Last Changed Date: 2019-03-29 21:59:15 -0400
malbec2 Linux (Ubuntu 18.04.2 LTS) / x86_64  OK  OK  OK UNNEEDED, same version exists in internal repository
tokay2 Windows Server 2012 R2 Standard / x64  OK  OK  OK  OK UNNEEDED, same version exists in internal repository
celaya2 OS X 10.11.6 El Capitan / x86_64  OK  OK  OK  OK UNNEEDED, same version exists in internal repository
merida2 OS X 10.11.6 El Capitan / x86_64  OK  OK  OK  OK 
Package 118/1703HostnameOS / ArchINSTALLBUILDCHECKBUILD BIN
beadarray 2.33.2
Mark Dunning
Last Commit: ad3d461
Last Changed Date: 2019-01-28 07:09:18 -0400
malbec2 Linux (Ubuntu 18.04.2 LTS) / x86_64  OK  OK  OK UNNEEDED, same version exists in internal repository
tokay2 Windows Server 2012 R2 Standard / x64  OK  OK  OK  OK UNNEEDED, same version exists in internal repository
celaya2 OS X 10.11.6 El Capitan / x86_64  OK  OK  OK  OK UNNEEDED, same version exists in internal repository
merida2 OS X 10.11.6 El Capitan / x86_64  OK  OK  OK  OK 
Package 119/1703HostnameOS / ArchINSTALLBUILDCHECKBUILD BIN
beadarraySNP 1.49.0
Jan Oosting
Last Commit: d45cc40
Last Changed Date: 2018-10-30 11:54:27 -0400
malbec2 Linux (Ubuntu 18.04.2 LTS) / x86_64  OK  OK  OK UNNEEDED, same version exists in internal repository
tokay2 Windows Server 2012 R2 Standard / x64  OK  OK  OK  OK UNNEEDED, same version exists in internal repository
celaya2 OS X 10.11.6 El Capitan / x86_64  OK  OK  OK  OK UNNEEDED, same version exists in internal repository
merida2 OS X 10.11.6 El Capitan / x86_64  OK  OK  OK  OK 
Package 120/1703HostnameOS / ArchINSTALLBUILDCHECKBUILD BIN
BeadDataPackR 1.35.0
Mike Smith
Last Commit: b7056f2
Last Changed Date: 2018-10-30 11:54:28 -0400
malbec2 Linux (Ubuntu 18.04.2 LTS) / x86_64  OK  OK  OK UNNEEDED, same version exists in internal repository
tokay2 Windows Server 2012 R2 Standard / x64  OK  OK  OK  OK UNNEEDED, same version exists in internal repository
celaya2 OS X 10.11.6 El Capitan / x86_64  OK  OK  OK  OK UNNEEDED, same version exists in internal repository
merida2 OS X 10.11.6 El Capitan / x86_64  OK  OK  OK  OK 
Package 121/1703HostnameOS / ArchINSTALLBUILDCHECKBUILD BIN
BEARscc 1.3.1
Benjamin Schuster-Boeckler
Last Commit: a3094de
Last Changed Date: 2019-01-04 13:20:12 -0400
malbec2 Linux (Ubuntu 18.04.2 LTS) / x86_64  OK  OK  WARNINGS UNNEEDED, same version exists in internal repository
tokay2 Windows Server 2012 R2 Standard / x64  OK  OK  WARNINGS  OK UNNEEDED, same version exists in internal repository
celaya2 OS X 10.11.6 El Capitan / x86_64  OK  OK  WARNINGS  OK UNNEEDED, same version exists in internal repository
merida2 OS X 10.11.6 El Capitan / x86_64  OK  OK  OK  OK 
Package 122/1703HostnameOS / ArchINSTALLBUILDCHECKBUILD BIN
BEAT 1.21.1
Kemal Akman
Last Commit: 6fd405d
Last Changed Date: 2019-01-04 13:20:22 -0400
malbec2 Linux (Ubuntu 18.04.2 LTS) / x86_64  OK  OK  OK UNNEEDED, same version exists in internal repository
tokay2 Windows Server 2012 R2 Standard / x64  OK  OK  OK  OK UNNEEDED, same version exists in internal repository
celaya2 OS X 10.11.6 El Capitan / x86_64  OK  OK  OK  OK UNNEEDED, same version exists in internal repository
merida2 OS X 10.11.6 El Capitan / x86_64  OK  OK  OK  OK 
Package 123/1703HostnameOS / ArchINSTALLBUILDCHECKBUILD BIN
BEclear 1.99.2
David Rasp
Last Commit: 2c45dec
Last Changed Date: 2019-04-08 14:15:21 -0400
malbec2 Linux (Ubuntu 18.04.2 LTS) / x86_64  ERROR  ERROR  skipped 
tokay2 Windows Server 2012 R2 Standard / x64  ERROR  ERROR  skipped  skipped 
celaya2 OS X 10.11.6 El Capitan / x86_64  ERROR  ERROR  skipped  skipped 
merida2 OS X 10.11.6 El Capitan / x86_64  ERROR  ERROR  skipped  skipped 
Package 124/1703HostnameOS / ArchINSTALLBUILDCHECKBUILD BIN
bgafun 1.45.0
Iain Wallace
Last Commit: c6bcffd
Last Changed Date: 2018-10-30 11:54:27 -0400
malbec2 Linux (Ubuntu 18.04.2 LTS) / x86_64  OK  OK  OK UNNEEDED, same version exists in internal repository
tokay2 Windows Server 2012 R2 Standard / x64  OK  OK  OK  OK UNNEEDED, same version exists in internal repository
celaya2 OS X 10.11.6 El Capitan / x86_64  OK  OK  OK  OK UNNEEDED, same version exists in internal repository
merida2 OS X 10.11.6 El Capitan / x86_64  OK  OK  OK  OK 
Package 125/1703HostnameOS / ArchINSTALLBUILDCHECKBUILD BIN
BgeeDB 2.9.0
Julien Wollbrett , Julien Roux , Andrea Komljenovic , Frederic Bastian
Last Commit: ba68c04
Last Changed Date: 2018-10-30 11:54:36 -0400
malbec2 Linux (Ubuntu 18.04.2 LTS) / x86_64  OK  OK  OK UNNEEDED, same version exists in internal repository
tokay2 Windows Server 2012 R2 Standard / x64  OK  OK  OK  OK UNNEEDED, same version exists in internal repository
celaya2 OS X 10.11.6 El Capitan / x86_64  OK  OK  OK  OK UNNEEDED, same version exists in internal repository
merida2 OS X 10.11.6 El Capitan / x86_64  OK  OK  OK  OK 
Package 126/1703HostnameOS / ArchINSTALLBUILDCHECKBUILD BIN
BGmix 1.43.0
Alex Lewin
Last Commit: e4824c6
Last Changed Date: 2018-10-30 11:54:27 -0400
malbec2 Linux (Ubuntu 18.04.2 LTS) / x86_64  OK  OK  WARNINGS UNNEEDED, same version exists in internal repository
tokay2 Windows Server 2012 R2 Standard / x64 ...NOT SUPPORTED...
celaya2 OS X 10.11.6 El Capitan / x86_64  OK  OK  OK  OK UNNEEDED, same version exists in internal repository
merida2 OS X 10.11.6 El Capitan / x86_64  OK  OK  OK  OK 
Package 127/1703HostnameOS / ArchINSTALLBUILDCHECKBUILD BIN
bgx 1.49.4
Ernest Turro
Last Commit: 8e441b2
Last Changed Date: 2019-04-08 08:18:56 -0400
malbec2 Linux (Ubuntu 18.04.2 LTS) / x86_64  ERROR  ERROR  skipped 
tokay2 Windows Server 2012 R2 Standard / x64  OK  OK  OK  OK YES, new version is higher than in internal repository
celaya2 OS X 10.11.6 El Capitan / x86_64  OK  OK  OK  OK YES, new version is higher than in internal repository
merida2 OS X 10.11.6 El Capitan / x86_64  OK  OK  OK  OK 
Package 128/1703HostnameOS / ArchINSTALLBUILDCHECKBUILD BIN
BHC 1.35.0
Rich Savage
Last Commit: 72f0953
Last Changed Date: 2018-10-30 11:54:29 -0400
malbec2 Linux (Ubuntu 18.04.2 LTS) / x86_64  OK  OK  OK UNNEEDED, same version exists in internal repository
tokay2 Windows Server 2012 R2 Standard / x64  OK  OK  OK  OK UNNEEDED, same version exists in internal repository
celaya2 OS X 10.11.6 El Capitan / x86_64  OK  OK  OK  OK UNNEEDED, same version exists in internal repository
merida2 OS X 10.11.6 El Capitan / x86_64  OK  OK  OK  OK 
Package 129/1703HostnameOS / ArchINSTALLBUILDCHECKBUILD BIN
BicARE 1.41.0
Pierre Gestraud
Last Commit: c5f3669
Last Changed Date: 2018-10-30 11:54:28 -0400
malbec2 Linux (Ubuntu 18.04.2 LTS) / x86_64  OK  OK  OK UNNEEDED, same version exists in internal repository
tokay2 Windows Server 2012 R2 Standard / x64  OK  OK  OK  OK UNNEEDED, same version exists in internal repository
celaya2 OS X 10.11.6 El Capitan / x86_64  OK  OK  OK  OK UNNEEDED, same version exists in internal repository
merida2 OS X 10.11.6 El Capitan / x86_64  OK  OK  OK  OK 
Package 130/1703HostnameOS / ArchINSTALLBUILDCHECKBUILD BIN
BiFET 1.3.1
Ahrim Youn
Last Commit: 4fefda2
Last Changed Date: 2019-01-04 13:20:31 -0400
malbec2 Linux (Ubuntu 18.04.2 LTS) / x86_64  OK  OK  OK UNNEEDED, same version exists in internal repository
tokay2 Windows Server 2012 R2 Standard / x64  OK  OK  OK  OK UNNEEDED, same version exists in internal repository
celaya2 OS X 10.11.6 El Capitan / x86_64  OK  OK  OK  OK UNNEEDED, same version exists in internal repository
merida2 OS X 10.11.6 El Capitan / x86_64  OK  OK  OK  OK 
Package 131/1703HostnameOS / ArchINSTALLBUILDCHECKBUILD BIN
BiGGR 1.19.0
Anand K. Gavai
Last Commit: fcab01b
Last Changed Date: 2018-10-30 11:54:31 -0400
malbec2 Linux (Ubuntu 18.04.2 LTS) / x86_64  ERROR  ERROR  skipped 
tokay2 Windows Server 2012 R2 Standard / x64  ERROR  ERROR  skipped  skipped 
celaya2 OS X 10.11.6 El Capitan / x86_64  ERROR  ERROR  skipped  skipped 
merida2 OS X 10.11.6 El Capitan / x86_64  ERROR  ERROR  skipped  skipped 
Package 132/1703HostnameOS / ArchINSTALLBUILDCHECKBUILD BIN
bigmelon 1.9.0
Tyler J. Gorrie-Stone
Last Commit: 8a24a4c
Last Changed Date: 2018-10-30 11:54:36 -0400
malbec2 Linux (Ubuntu 18.04.2 LTS) / x86_64  OK  OK  OK UNNEEDED, same version exists in internal repository
tokay2 Windows Server 2012 R2 Standard / x64  OK  OK  WARNINGS  OK UNNEEDED, same version exists in internal repository
celaya2 OS X 10.11.6 El Capitan / x86_64  OK  OK  OK  OK UNNEEDED, same version exists in internal repository
merida2 OS X 10.11.6 El Capitan / x86_64  OK  OK  OK  OK 
Package 133/1703HostnameOS / ArchINSTALLBUILDCHECKBUILD BIN
bigmemoryExtras 1.31.0
Peter M. Haverty
Last Commit: 9fb8d58
Last Changed Date: 2018-10-30 11:54:30 -0400
malbec2 Linux (Ubuntu 18.04.2 LTS) / x86_64  OK  OK  WARNINGS UNNEEDED, same version exists in internal repository
tokay2 Windows Server 2012 R2 Standard / x64 ...NOT SUPPORTED...
celaya2 OS X 10.11.6 El Capitan / x86_64  OK  OK  WARNINGS  OK UNNEEDED, same version exists in internal repository
merida2 OS X 10.11.6 El Capitan / x86_64  OK  OK  WARNINGS  OK 
Package 134/1703HostnameOS / ArchINSTALLBUILDCHECKBUILD BIN
bigPint 0.99.8
Lindsay Rutter
Last Commit: b0e7163
Last Changed Date: 2019-02-20 10:25:16 -0400
malbec2 Linux (Ubuntu 18.04.2 LTS) / x86_64  OK  OK  OK UNNEEDED, same version exists in internal repository
tokay2 Windows Server 2012 R2 Standard / x64  OK  OK  OK  OK UNNEEDED, same version exists in internal repository
celaya2 OS X 10.11.6 El Capitan / x86_64  OK  OK  OK  OK UNNEEDED, same version exists in internal repository
merida2 OS X 10.11.6 El Capitan / x86_64  OK  OK  OK  OK 
Package 135/1703HostnameOS / ArchINSTALLBUILDCHECKBUILD BIN
bioassayR 1.21.1
Tyler Backman
Last Commit: 8d59dff
Last Changed Date: 2019-01-04 13:20:36 -0400
malbec2 Linux (Ubuntu 18.04.2 LTS) / x86_64  OK  OK  OK UNNEEDED, same version exists in internal repository
tokay2 Windows Server 2012 R2 Standard / x64  OK  OK  OK  OK UNNEEDED, same version exists in internal repository
celaya2 OS X 10.11.6 El Capitan / x86_64  OK  OK  OK  OK UNNEEDED, same version exists in internal repository
merida2 OS X 10.11.6 El Capitan / x86_64  OK  OK  OK  OK 
Package 136/1703HostnameOS / ArchINSTALLBUILDCHECKBUILD BIN
Biobase 2.43.1
Bioconductor Package Maintainer
Last Commit: 528dca2
Last Changed Date: 2019-01-10 15:26:44 -0400
malbec2 Linux (Ubuntu 18.04.2 LTS) / x86_64  OK  OK  WARNINGS UNNEEDED, same version exists in internal repository
tokay2 Windows Server 2012 R2 Standard / x64  OK  OK  WARNINGS  OK UNNEEDED, same version exists in internal repository
celaya2 OS X 10.11.6 El Capitan / x86_64  OK  OK  WARNINGS  OK UNNEEDED, same version exists in internal repository
merida2 OS X 10.11.6 El Capitan / x86_64  OK  OK  OK  OK 
Package 137/1703HostnameOS / ArchINSTALLBUILDCHECKBUILD BIN
biobroom 1.15.0
John D. Storey and Andrew J. Bass
Last Commit: 6316471
Last Changed Date: 2018-10-30 11:54:35 -0400
malbec2 Linux (Ubuntu 18.04.2 LTS) / x86_64  OK  OK  OK UNNEEDED, same version exists in internal repository
tokay2 Windows Server 2012 R2 Standard / x64  OK  OK  WARNINGS  OK UNNEEDED, same version exists in internal repository
celaya2 OS X 10.11.6 El Capitan / x86_64  OK  OK  OK  OK UNNEEDED, same version exists in internal repository
merida2 OS X 10.11.6 El Capitan / x86_64  OK  OK  OK  OK 
Package 138/1703HostnameOS / ArchINSTALLBUILDCHECKBUILD BIN
bioCancer 1.11.0
Karim Mezhoud
Last Commit: 6afbdcc
Last Changed Date: 2019-02-12 15:25:45 -0400
malbec2 Linux (Ubuntu 18.04.2 LTS) / x86_64  OK  OK  OK UNNEEDED, same version exists in internal repository
tokay2 Windows Server 2012 R2 Standard / x64  OK  OK  OK  OK UNNEEDED, same version exists in internal repository
celaya2 OS X 10.11.6 El Capitan / x86_64  OK  OK  OK  OK UNNEEDED, same version exists in internal repository
merida2 OS X 10.11.6 El Capitan / x86_64  OK  OK  OK  OK 
Package 139/1703HostnameOS / ArchINSTALLBUILDCHECKBUILD BIN
BiocCaseStudies 1.45.0
Bioconductor Package Maintainer
Last Commit: 01725ac
Last Changed Date: 2018-10-30 11:54:27 -0400
malbec2 Linux (Ubuntu 18.04.2 LTS) / x86_64  OK  OK  OK UNNEEDED, same version exists in internal repository
tokay2 Windows Server 2012 R2 Standard / x64  OK  OK  OK  OK UNNEEDED, same version exists in internal repository
celaya2 OS X 10.11.6 El Capitan / x86_64  OK  OK  OK  OK UNNEEDED, same version exists in internal repository
merida2 OS X 10.11.6 El Capitan / x86_64  OK  OK  OK  OK 
Package 140/1703HostnameOS / ArchINSTALLBUILDCHECKBUILD BIN
BiocCheck 1.19.33
Bioconductor Package Maintainer
Last Commit: 6a487e4
Last Changed Date: 2019-03-25 12:19:01 -0400
malbec2 Linux (Ubuntu 18.04.2 LTS) / x86_64  OK  OK  OK UNNEEDED, same version exists in internal repository
tokay2 Windows Server 2012 R2 Standard / x64  OK  OK  OK  OK UNNEEDED, same version exists in internal repository
celaya2 OS X 10.11.6 El Capitan / x86_64  OK  OK  OK  OK UNNEEDED, same version exists in internal repository
merida2 OS X 10.11.6 El Capitan / x86_64  OK  OK  OK  OK 
Package 141/1703HostnameOS / ArchINSTALLBUILDCHECKBUILD BIN
BiocFileCache 1.7.7
Lori Shepherd
Last Commit: 8068cde
Last Changed Date: 2019-04-06 10:00:10 -0400
malbec2 Linux (Ubuntu 18.04.2 LTS) / x86_64  OK  OK  ERROR 
tokay2 Windows Server 2012 R2 Standard / x64  OK  OK  OK  OK UNNEEDED, same version exists in internal repository
celaya2 OS X 10.11.6 El Capitan / x86_64  OK  OK  OK  OK UNNEEDED, same version exists in internal repository
merida2 OS X 10.11.6 El Capitan / x86_64  OK  OK  OK  OK 
Package 142/1703HostnameOS / ArchINSTALLBUILDCHECKBUILD BIN
BiocGenerics 0.29.2
Bioconductor Package Maintainer
Last Commit: 6487557
Last Changed Date: 2019-03-04 21:14:56 -0400
malbec2 Linux (Ubuntu 18.04.2 LTS) / x86_64  OK  OK  WARNINGS UNNEEDED, same version exists in internal repository
tokay2 Windows Server 2012 R2 Standard / x64  OK  OK  WARNINGS  OK UNNEEDED, same version exists in internal repository
celaya2 OS X 10.11.6 El Capitan / x86_64  OK  OK  WARNINGS  OK UNNEEDED, same version exists in internal repository
merida2 OS X 10.11.6 El Capitan / x86_64  OK  OK  WARNINGS  OK 
Package 143/1703HostnameOS / ArchINSTALLBUILDCHECKBUILD BIN
biocGraph 1.45.0
Florian Hahne
Last Commit: a026016
Last Changed Date: 2018-10-30 11:54:27 -0400
malbec2 Linux (Ubuntu 18.04.2 LTS) / x86_64  OK  OK  OK UNNEEDED, same version exists in internal repository
tokay2 Windows Server 2012 R2 Standard / x64  OK  OK  OK  OK UNNEEDED, same version exists in internal repository
celaya2 OS X 10.11.6 El Capitan / x86_64  OK  OK  OK  OK UNNEEDED, same version exists in internal repository
merida2 OS X 10.11.6 El Capitan / x86_64  OK  OK  OK  OK 
Package 144/1703HostnameOS / ArchINSTALLBUILDCHECKBUILD BIN
BiocNeighbors 1.1.12
Aaron Lun
Last Commit: 94fa697
Last Changed Date: 2019-02-12 06:18:56 -0400
malbec2 Linux (Ubuntu 18.04.2 LTS) / x86_64  OK  OK  OK UNNEEDED, same version exists in internal repository
tokay2 Windows Server 2012 R2 Standard / x64  OK  OK  OK  OK UNNEEDED, same version exists in internal repository
celaya2 OS X 10.11.6 El Capitan / x86_64  OK  OK  OK  OK UNNEEDED, same version exists in internal repository
merida2 OS X 10.11.6 El Capitan / x86_64  OK  OK  OK  OK 
Package 145/1703HostnameOS / ArchINSTALLBUILDCHECKBUILD BIN
BiocOncoTK 1.3.6
VJ Carey
Last Commit: 1d6a75a
Last Changed Date: 2019-03-11 23:02:29 -0400
malbec2 Linux (Ubuntu 18.04.2 LTS) / x86_64  OK  OK  OK UNNEEDED, same version exists in internal repository
tokay2 Windows Server 2012 R2 Standard / x64  OK  OK  WARNINGS  OK UNNEEDED, same version exists in internal repository
celaya2 OS X 10.11.6 El Capitan / x86_64  OK  OK  OK  OK UNNEEDED, same version exists in internal repository
merida2 OS X 10.11.6 El Capitan / x86_64  OK  OK  OK  OK 
Package 146/1703HostnameOS / ArchINSTALLBUILDCHECKBUILD BIN
BioCor 1.7.0
Lluís Revilla Sancho
Last Commit: e8187f6
Last Changed Date: 2019-01-13 08:35:12 -0400
malbec2 Linux (Ubuntu 18.04.2 LTS) / x86_64  OK  OK  OK UNNEEDED, same version exists in internal repository
tokay2 Windows Server 2012 R2 Standard / x64  OK  OK  OK  OK UNNEEDED, same version exists in internal repository
celaya2 OS X 10.11.6 El Capitan / x86_64  OK  OK  OK  OK UNNEEDED, same version exists in internal repository
merida2 OS X 10.11.6 El Capitan / x86_64  OK  OK  OK  OK 
Package 147/1703HostnameOS / ArchINSTALLBUILDCHECKBUILD BIN
BiocParallel 1.17.18
Bioconductor Package Maintainer
Last Commit: 3bc700d
Last Changed Date: 2019-03-23 18:00:55 -0400
malbec2 Linux (Ubuntu 18.04.2 LTS) / x86_64  OK  OK  OK UNNEEDED, same version exists in internal repository
tokay2 Windows Server 2012 R2 Standard / x64  OK  OK  ERROR  OK 
celaya2 OS X 10.11.6 El Capitan / x86_64  OK  OK  OK  OK UNNEEDED, same version exists in internal repository
merida2 OS X 10.11.6 El Capitan / x86_64  OK  OK  OK  OK 
Package 148/1703HostnameOS / ArchINSTALLBUILDCHECKBUILD BIN
BiocPkgTools 1.1.8
Sean Davis
Last Commit: ddde9b2
Last Changed Date: 2019-03-22 12:30:32 -0400
malbec2 Linux (Ubuntu 18.04.2 LTS) / x86_64  OK  OK  OK UNNEEDED, same version exists in internal repository
tokay2 Windows Server 2012 R2 Standard / x64  OK  OK  OK  OK UNNEEDED, same version exists in internal repository
celaya2 OS X 10.11.6 El Capitan / x86_64  OK  OK  OK  OK UNNEEDED, same version exists in internal repository
merida2 OS X 10.11.6 El Capitan / x86_64  OK  OK  OK  OK 
Package 149/1703HostnameOS / ArchINSTALLBUILDCHECKBUILD BIN
BiocSingular 0.99.14
Aaron Lun
Last Commit: 2b91ce4
Last Changed Date: 2019-03-23 22:18:14 -0400
malbec2 Linux (Ubuntu 18.04.2 LTS) / x86_64  OK  OK  OK UNNEEDED, same version exists in internal repository
tokay2 Windows Server 2012 R2 Standard / x64  OK  ERROR  skipped  skipped 
celaya2 OS X 10.11.6 El Capitan / x86_64  OK  OK  OK  OK UNNEEDED, same version exists in internal repository
merida2 OS X 10.11.6 El Capitan / x86_64  OK  OK  OK  OK 
Package 150/1703HostnameOS / ArchINSTALLBUILDCHECKBUILD BIN
BiocSklearn 1.5.2
VJ Carey
Last Commit: 6224ec5
Last Changed Date: 2019-04-02 15:26:34 -0400
malbec2 Linux (Ubuntu 18.04.2 LTS) / x86_64  OK  OK  OK UNNEEDED, same version exists in internal repository
tokay2 Windows Server 2012 R2 Standard / x64  OK  OK  OK  OK UNNEEDED, same version exists in internal repository
celaya2 OS X 10.11.6 El Capitan / x86_64  OK  OK  OK  OK UNNEEDED, same version exists in internal repository
merida2 OS X 10.11.6 El Capitan / x86_64  OK  OK  OK  OK 
Package 151/1703HostnameOS / ArchINSTALLBUILDCHECKBUILD BIN
BiocStyle 2.11.0
Bioconductor Package Maintainer
Last Commit: d733c43
Last Changed Date: 2018-10-30 11:54:31 -0400
malbec2 Linux (Ubuntu 18.04.2 LTS) / x86_64  OK  OK  OK UNNEEDED, same version exists in internal repository
tokay2 Windows Server 2012 R2 Standard / x64  OK  OK  OK  OK UNNEEDED, same version exists in internal repository
celaya2 OS X 10.11.6 El Capitan / x86_64  OK  OK  OK  OK UNNEEDED, same version exists in internal repository
merida2 OS X 10.11.6 El Capitan / x86_64  OK  OK  OK  OK 
Package 152/1703HostnameOS / ArchINSTALLBUILDCHECKBUILD BIN
BiocVersion 3.9.0
Bioconductor Package Maintainer
Last Commit: 1adac61
Last Changed Date: 2018-10-30 13:48:21 -0400
malbec2 Linux (Ubuntu 18.04.2 LTS) / x86_64  OK  OK  WARNINGS UNNEEDED, same version exists in internal repository
tokay2 Windows Server 2012 R2 Standard / x64  OK  OK  WARNINGS  OK UNNEEDED, same version exists in internal repository
celaya2 OS X 10.11.6 El Capitan / x86_64  OK  OK  WARNINGS  OK UNNEEDED, same version exists in internal repository
merida2 OS X 10.11.6 El Capitan / x86_64  OK  OK  WARNINGS  OK 
Package 153/1703HostnameOS / ArchINSTALLBUILDCHECKBUILD BIN
biocViews 1.51.15
Bioconductor Package Maintainer
Last Commit: f0226e2
Last Changed Date: 2019-04-04 11:13:07 -0400
malbec2 Linux (Ubuntu 18.04.2 LTS) / x86_64  OK  OK  WARNINGS UNNEEDED, same version exists in internal repository
tokay2 Windows Server 2012 R2 Standard / x64  OK  OK  WARNINGS  OK UNNEEDED, same version exists in internal repository
celaya2 OS X 10.11.6 El Capitan / x86_64  OK  OK  WARNINGS  OK UNNEEDED, same version exists in internal repository
merida2 OS X 10.11.6 El Capitan / x86_64  OK  OK  WARNINGS  OK 
Package 154/1703HostnameOS / ArchINSTALLBUILDCHECKBUILD BIN
BiocWorkflowTools 1.9.3
Mike Smith
Last Commit: 2ab76d5
Last Changed Date: 2019-03-11 06:13:26 -0400
malbec2 Linux (Ubuntu 18.04.2 LTS) / x86_64  OK  OK  WARNINGS UNNEEDED, same version exists in internal repository
tokay2 Windows Server 2012 R2 Standard / x64  OK  OK  WARNINGS  OK UNNEEDED, same version exists in internal repository
celaya2 OS X 10.11.6 El Capitan / x86_64  OK  OK  WARNINGS  OK UNNEEDED, same version exists in internal repository
merida2 OS X 10.11.6 El Capitan / x86_64  OK  OK  WARNINGS  OK 
Package 155/1703HostnameOS / ArchINSTALLBUILDCHECKBUILD BIN
bioDist 1.55.0
Bioconductor Package Maintainer
Last Commit: f8d2f01
Last Changed Date: 2018-10-30 11:54:26 -0400
malbec2 Linux (Ubuntu 18.04.2 LTS) / x86_64  OK  OK  OK UNNEEDED, same version exists in internal repository
tokay2 Windows Server 2012 R2 Standard / x64  OK  OK  OK  OK UNNEEDED, same version exists in internal repository
celaya2 OS X 10.11.6 El Capitan / x86_64  OK  OK  OK  OK UNNEEDED, same version exists in internal repository
merida2 OS X 10.11.6 El Capitan / x86_64  OK  OK  OK  OK 
Package 156/1703HostnameOS / ArchINSTALLBUILDCHECKBUILD BIN
biomaRt 2.39.2
Mike Smith
Last Commit: 4b2f4b1
Last Changed Date: 2018-11-07 10:14:45 -0400
malbec2 Linux (Ubuntu 18.04.2 LTS) / x86_64  OK  OK  ERROR 
tokay2 Windows Server 2012 R2 Standard / x64  OK  OK  OK  OK UNNEEDED, same version exists in internal repository
celaya2 OS X 10.11.6 El Capitan / x86_64  OK  OK  OK  OK UNNEEDED, same version exists in internal repository
merida2 OS X 10.11.6 El Capitan / x86_64  OK  OK  ERROR  OK 
Package 157/1703HostnameOS / ArchINSTALLBUILDCHECKBUILD BIN
biomformat 1.11.1
Paul J. McMurdie
Last Commit: c0b3e1e
Last Changed Date: 2019-01-04 13:20:41 -0400
malbec2 Linux (Ubuntu 18.04.2 LTS) / x86_64  OK  OK  OK UNNEEDED, same version exists in internal repository
tokay2 Windows Server 2012 R2 Standard / x64  OK  OK  WARNINGS  OK UNNEEDED, same version exists in internal repository
celaya2 OS X 10.11.6 El Capitan / x86_64  OK  OK  OK  OK UNNEEDED, same version exists in internal repository
merida2 OS X 10.11.6 El Capitan / x86_64  OK  OK  OK  OK 
Package 158/1703HostnameOS / ArchINSTALLBUILDCHECKBUILD BIN
BioMM 0.99.11
Junfang Chen
Last Commit: c097a39
Last Changed Date: 2019-02-14 05:21:17 -0400
malbec2 Linux (Ubuntu 18.04.2 LTS) / x86_64  OK  OK  OK UNNEEDED, same version exists in internal repository
tokay2 Windows Server 2012 R2 Standard / x64  OK  OK  OK  OK UNNEEDED, same version exists in internal repository
celaya2 OS X 10.11.6 El Capitan / x86_64  OK  OK  OK  OK UNNEEDED, same version exists in internal repository
merida2 OS X 10.11.6 El Capitan / x86_64  OK  OK  OK  OK 
Package 159/1703HostnameOS / ArchINSTALLBUILDCHECKBUILD BIN
BioMVCClass 1.51.0
Elizabeth Whalen
Last Commit: f55b930
Last Changed Date: 2018-10-30 11:54:27 -0400
malbec2 Linux (Ubuntu 18.04.2 LTS) / x86_64  OK  OK  OK UNNEEDED, same version exists in internal repository
tokay2 Windows Server 2012 R2 Standard / x64  OK  OK  OK  OK UNNEEDED, same version exists in internal repository
celaya2 OS X 10.11.6 El Capitan / x86_64  OK  OK  OK  OK UNNEEDED, same version exists in internal repository
merida2 OS X 10.11.6 El Capitan / x86_64  OK  OK  OK  OK 
Package 160/1703HostnameOS / ArchINSTALLBUILDCHECKBUILD BIN
biomvRCNS 1.23.0
Yang Du
Last Commit: 77742bc
Last Changed Date: 2018-10-30 11:54:31 -0400
malbec2 Linux (Ubuntu 18.04.2 LTS) / x86_64  OK  OK  OK UNNEEDED, same version exists in internal repository
tokay2 Windows Server 2012 R2 Standard / x64  OK  OK  OK  OK UNNEEDED, same version exists in internal repository
celaya2 OS X 10.11.6 El Capitan / x86_64  OK  OK  OK  OK UNNEEDED, same version exists in internal repository
merida2 OS X 10.11.6 El Capitan / x86_64  OK  OK  OK  OK 
Package 161/1703HostnameOS / ArchINSTALLBUILDCHECKBUILD BIN
BioNet 1.43.0
Marcus Dittrich
Last Commit: 8ab9902
Last Changed Date: 2018-10-30 11:54:29 -0400
malbec2 Linux (Ubuntu 18.04.2 LTS) / x86_64  OK  OK  OK UNNEEDED, same version exists in internal repository
tokay2 Windows Server 2012 R2 Standard / x64  OK  OK  OK  OK UNNEEDED, same version exists in internal repository
celaya2 OS X 10.11.6 El Capitan / x86_64  OK  OK  OK  OK UNNEEDED, same version exists in internal repository
merida2 OS X 10.11.6 El Capitan / x86_64  OK  OK  OK  OK 
Package 162/1703HostnameOS / ArchINSTALLBUILDCHECKBUILD BIN
BioNetStat 1.3.2
Vinicius Jardim
Last Commit: 4a24252
Last Changed Date: 2018-12-17 04:52:45 -0400
malbec2 Linux (Ubuntu 18.04.2 LTS) / x86_64  OK  OK  OK UNNEEDED, same version exists in internal repository
tokay2 Windows Server 2012 R2 Standard / x64  OK  OK  OK  OK UNNEEDED, same version exists in internal repository
celaya2 OS X 10.11.6 El Capitan / x86_64  OK  OK  OK  OK UNNEEDED, same version exists in internal repository
merida2 OS X 10.11.6 El Capitan / x86_64  OK  OK  OK  OK 
Package 163/1703HostnameOS / ArchINSTALLBUILDCHECKBUILD BIN
BioQC 1.11.1
Jitao David Zhang
Last Commit: 2ebe9fc
Last Changed Date: 2019-01-07 07:44:18 -0400
malbec2 Linux (Ubuntu 18.04.2 LTS) / x86_64  OK  OK  WARNINGS UNNEEDED, same version exists in internal repository
tokay2 Windows Server 2012 R2 Standard / x64  OK  OK  WARNINGS  OK UNNEEDED, same version exists in internal repository
celaya2 OS X 10.11.6 El Capitan / x86_64  OK  OK  WARNINGS  OK UNNEEDED, same version exists in internal repository
merida2 OS X 10.11.6 El Capitan / x86_64  OK  OK  WARNINGS  OK 
Package 164/1703HostnameOS / ArchINSTALLBUILDCHECKBUILD BIN
BioSeqClass 1.41.0
Li Hong
Last Commit: 9267813
Last Changed Date: 2018-10-30 11:54:28 -0400
malbec2 Linux (Ubuntu 18.04.2 LTS) / x86_64  OK  OK  OK UNNEEDED, same version exists in internal repository
tokay2 Windows Server 2012 R2 Standard / x64  OK  OK  OK  OK UNNEEDED, same version exists in internal repository
celaya2 OS X 10.11.6 El Capitan / x86_64  OK  OK  OK  OK UNNEEDED, same version exists in internal repository
merida2 OS X 10.11.6 El Capitan / x86_64  OK  OK  OK  OK 
Package 165/1703HostnameOS / ArchINSTALLBUILDCHECKBUILD BIN
biosigner 1.11.26
Philippe Rinaudo , Etienne Thevenot
Last Commit: bbede7f
Last Changed Date: 2019-03-07 12:40:17 -0400
malbec2 Linux (Ubuntu 18.04.2 LTS) / x86_64  OK  OK  OK UNNEEDED, same version exists in internal repository
tokay2 Windows Server 2012 R2 Standard / x64  OK  OK  OK  OK UNNEEDED, same version exists in internal repository
celaya2 OS X 10.11.6 El Capitan / x86_64  OK  OK  OK  OK UNNEEDED, same version exists in internal repository
merida2 OS X 10.11.6 El Capitan / x86_64  OK  OK  OK  OK 
Package 166/1703HostnameOS / ArchINSTALLBUILDCHECKBUILD BIN
Biostrings 2.51.5
H. Pagès
Last Commit: 951902c
Last Changed Date: 2019-03-15 18:47:25 -0400
malbec2 Linux (Ubuntu 18.04.2 LTS) / x86_64  OK  OK  WARNINGS UNNEEDED, same version exists in internal repository
tokay2 Windows Server 2012 R2 Standard / x64  OK  OK  WARNINGS  OK UNNEEDED, same version exists in internal repository
celaya2 OS X 10.11.6 El Capitan / x86_64  OK  OK  WARNINGS  OK UNNEEDED, same version exists in internal repository
merida2 OS X 10.11.6 El Capitan / x86_64  OK  OK  WARNINGS  OK 
Package 167/1703HostnameOS / ArchINSTALLBUILDCHECKBUILD BIN
biosvd 2.19.0
Anneleen Daemen , Matthew Brauer
Last Commit: c95a865
Last Changed Date: 2018-10-30 11:54:32 -0400
malbec2 Linux (Ubuntu 18.04.2 LTS) / x86_64  OK  OK  OK UNNEEDED, same version exists in internal repository
tokay2 Windows Server 2012 R2 Standard / x64  OK  OK  OK  OK UNNEEDED, same version exists in internal repository
celaya2 OS X 10.11.6 El Capitan / x86_64  OK  OK  OK  OK UNNEEDED, same version exists in internal repository
merida2 OS X 10.11.6 El Capitan / x86_64  OK  OK  OK  OK 
Package 168/1703HostnameOS / ArchINSTALLBUILDCHECKBUILD BIN
biotmle 1.7.2
Nima Hejazi
Last Commit: 267b790
Last Changed Date: 2018-12-18 12:41:14 -0400
malbec2 Linux (Ubuntu 18.04.2 LTS) / x86_64  OK  OK  OK UNNEEDED, same version exists in internal repository
tokay2 Windows Server 2012 R2 Standard / x64  OK  OK  OK  OK UNNEEDED, same version exists in internal repository
celaya2 OS X 10.11.6 El Capitan / x86_64  OK  OK  OK  OK UNNEEDED, same version exists in internal repository
merida2 OS X 10.11.6 El Capitan / x86_64  OK  OK  OK  OK 
Package 169/1703HostnameOS / ArchINSTALLBUILDCHECKBUILD BIN
biovizBase 1.31.1
Michael Lawrence
Last Commit: e02ce5f
Last Changed Date: 2018-12-11 14:51:22 -0400
malbec2 Linux (Ubuntu 18.04.2 LTS) / x86_64  OK  OK  WARNINGS UNNEEDED, same version exists in internal repository
tokay2 Windows Server 2012 R2 Standard / x64  OK  OK  WARNINGS  OK UNNEEDED, same version exists in internal repository
celaya2 OS X 10.11.6 El Capitan / x86_64  OK  OK  WARNINGS  OK UNNEEDED, same version exists in internal repository
merida2 OS X 10.11.6 El Capitan / x86_64  OK  OK  WARNINGS  OK 
Package 170/1703HostnameOS / ArchINSTALLBUILDCHECKBUILD BIN
BiRewire 3.15.0
Andrea Gobbi
Last Commit: 5705c02
Last Changed Date: 2018-10-30 11:54:31 -0400
malbec2 Linux (Ubuntu 18.04.2 LTS) / x86_64  OK  OK  WARNINGS UNNEEDED, same version exists in internal repository
tokay2 Windows Server 2012 R2 Standard / x64  OK  OK  WARNINGS  OK UNNEEDED, same version exists in internal repository
celaya2 OS X 10.11.6 El Capitan / x86_64  OK  OK  OK  OK UNNEEDED, same version exists in internal repository
merida2 OS X 10.11.6 El Capitan / x86_64  OK  OK  OK  OK 
Package 171/1703HostnameOS / ArchINSTALLBUILDCHECKBUILD BIN
birta 1.27.0
Benedikt Zacher
Last Commit: c8bf16b
Last Changed Date: 2018-10-30 11:54:30 -0400
malbec2 Linux (Ubuntu 18.04.2 LTS) / x86_64  OK  OK  OK UNNEEDED, same version exists in internal repository
tokay2 Windows Server 2012 R2 Standard / x64  OK  OK  WARNINGS  OK UNNEEDED, same version exists in internal repository
celaya2 OS X 10.11.6 El Capitan / x86_64  OK  OK  OK  OK UNNEEDED, same version exists in internal repository
merida2 OS X 10.11.6 El Capitan / x86_64  OK  OK  OK  OK 
Package 172/1703HostnameOS / ArchINSTALLBUILDCHECKBUILD BIN
birte 1.19.0
Holger Froehlich
Last Commit: 9a0459a
Last Changed Date: 2018-10-30 11:54:34 -0400
malbec2 Linux (Ubuntu 18.04.2 LTS) / x86_64  OK  ERROR  skipped 
tokay2 Windows Server 2012 R2 Standard / x64  OK  OK  WARNINGS  OK UNNEEDED, same version exists in internal repository
celaya2 OS X 10.11.6 El Capitan / x86_64  OK  ERROR  skipped  skipped 
merida2 OS X 10.11.6 El Capitan / x86_64  OK  ERROR  skipped  skipped 
Package 173/1703HostnameOS / ArchINSTALLBUILDCHECKBUILD BIN
BiSeq 1.23.0
Katja Hebestreit
Last Commit: 0c59006
Last Changed Date: 2018-10-30 11:54:31 -0400
malbec2 Linux (Ubuntu 18.04.2 LTS) / x86_64  OK  OK  OK UNNEEDED, same version exists in internal repository
tokay2 Windows Server 2012 R2 Standard / x64  OK  OK  OK  OK UNNEEDED, same version exists in internal repository
celaya2 OS X 10.11.6 El Capitan / x86_64  OK  OK  OK  OK UNNEEDED, same version exists in internal repository
merida2 OS X 10.11.6 El Capitan / x86_64  OK  OK  OK  OK 
Package 174/1703HostnameOS / ArchINSTALLBUILDCHECKBUILD BIN
BitSeq 1.27.2
Antti Honkela , Panagiotis Papastamoulis
Last Commit: be9013e
Last Changed Date: 2019-03-08 14:35:59 -0400
malbec2 Linux (Ubuntu 18.04.2 LTS) / x86_64  OK  OK  WARNINGS UNNEEDED, same version exists in internal repository
tokay2 Windows Server 2012 R2 Standard / x64  OK  OK  WARNINGS  OK UNNEEDED, same version exists in internal repository
celaya2 OS X 10.11.6 El Capitan / x86_64  OK  OK  WARNINGS  OK UNNEEDED, same version exists in internal repository
merida2 OS X 10.11.6 El Capitan / x86_64  OK  OK  WARNINGS  OK 
Package 175/1703HostnameOS / ArchINSTALLBUILDCHECKBUILD BIN
blima 1.17.0
Vojtěch Kulvait
Last Commit: f0ce5fc
Last Changed Date: 2018-10-30 11:54:32 -0400
malbec2 Linux (Ubuntu 18.04.2 LTS) / x86_64  OK  OK  WARNINGS UNNEEDED, same version exists in internal repository
tokay2 Windows Server 2012 R2 Standard / x64  OK  OK  WARNINGS  OK UNNEEDED, same version exists in internal repository
celaya2 OS X 10.11.6 El Capitan / x86_64  OK  OK  WARNINGS  OK UNNEEDED, same version exists in internal repository
merida2 OS X 10.11.6 El Capitan / x86_64  OK  OK  WARNINGS  OK 
Package 176/1703HostnameOS / ArchINSTALLBUILDCHECKBUILD BIN
BLMA 1.7.0
Tin Nguyen
Last Commit: d52e1cb
Last Changed Date: 2018-10-30 11:54:37 -0400
malbec2 Linux (Ubuntu 18.04.2 LTS) / x86_64  OK  OK  OK UNNEEDED, same version exists in internal repository
tokay2 Windows Server 2012 R2 Standard / x64  OK  OK  OK  OK UNNEEDED, same version exists in internal repository
celaya2 OS X 10.11.6 El Capitan / x86_64  OK  OK  OK  OK UNNEEDED, same version exists in internal repository
merida2 OS X 10.11.6 El Capitan / x86_64  OK  OK  OK  OK 
Package 177/1703HostnameOS / ArchINSTALLBUILDCHECKBUILD BIN
bnbc 1.5.0
Kipper Fletez-Brant
Last Commit: 2b16e9e
Last Changed Date: 2018-10-30 11:54:38 -0400
malbec2 Linux (Ubuntu 18.04.2 LTS) / x86_64  OK  OK  OK UNNEEDED, same version exists in internal repository
tokay2 Windows Server 2012 R2 Standard / x64  OK  OK  OK  OK UNNEEDED, same version exists in internal repository
celaya2 OS X 10.11.6 El Capitan / x86_64  OK  OK  OK  OK UNNEEDED, same version exists in internal repository
merida2 OS X 10.11.6 El Capitan / x86_64  OK  OK  OK  OK 
Package 178/1703HostnameOS / ArchINSTALLBUILDCHECKBUILD BIN
BPRMeth 1.9.4
Chantriolnt-Andreas Kapourani
Last Commit: abc23bd
Last Changed Date: 2019-02-16 06:30:29 -0400
malbec2 Linux (Ubuntu 18.04.2 LTS) / x86_64  OK  OK  OK UNNEEDED, same version exists in internal repository
tokay2 Windows Server 2012 R2 Standard / x64  OK  OK  OK  OK UNNEEDED, same version exists in internal repository
celaya2 OS X 10.11.6 El Capitan / x86_64  OK  OK  OK  OK UNNEEDED, same version exists in internal repository
merida2 OS X 10.11.6 El Capitan / x86_64  OK  OK  OK  OK 
Package 179/1703HostnameOS / ArchINSTALLBUILDCHECKBUILD BIN
BRAIN 1.29.1
Piotr Dittwald
Last Commit: 4d69ec5
Last Changed Date: 2019-01-04 13:08:37 -0400
malbec2 Linux (Ubuntu 18.04.2 LTS) / x86_64  OK  OK  WARNINGS UNNEEDED, same version exists in internal repository
tokay2 Windows Server 2012 R2 Standard / x64  OK  OK  WARNINGS  OK UNNEEDED, same version exists in internal repository
celaya2 OS X 10.11.6 El Capitan / x86_64  OK  OK  WARNINGS  OK UNNEEDED, same version exists in internal repository
merida2 OS X 10.11.6 El Capitan / x86_64  OK  OK  WARNINGS  OK 
Package 180/1703HostnameOS / ArchINSTALLBUILDCHECKBUILD BIN
brainImageR 1.1.1
Sara B Linker
Last Commit: e6046d0
Last Changed Date: 2019-01-15 11:38:49 -0400
malbec2 Linux (Ubuntu 18.04.2 LTS) / x86_64  OK  ERROR  skipped 
tokay2 Windows Server 2012 R2 Standard / x64  OK  ERROR  skipped  skipped 
celaya2 OS X 10.11.6 El Capitan / x86_64  OK  ERROR  skipped  skipped 
merida2 OS X 10.11.6 El Capitan / x86_64  OK  ERROR  skipped  skipped 
Package 181/1703HostnameOS / ArchINSTALLBUILDCHECKBUILD BIN
BrainStars 1.27.0
Itoshi NIKAIDO
Last Commit: 240c3cc
Last Changed Date: 2018-10-30 11:54:30 -0400
malbec2 Linux (Ubuntu 18.04.2 LTS) / x86_64  OK  OK  OK UNNEEDED, same version exists in internal repository
tokay2 Windows Server 2012 R2 Standard / x64  OK  OK  OK  OK UNNEEDED, same version exists in internal repository
celaya2 OS X 10.11.6 El Capitan / x86_64  OK  OK  OK  OK UNNEEDED, same version exists in internal repository
merida2 OS X 10.11.6 El Capitan / x86_64  OK  OK  OK  OK 
Package 182/1703HostnameOS / ArchINSTALLBUILDCHECKBUILD BIN
branchpointer 1.9.0
Beth Signal
Last Commit: 63d1418
Last Changed Date: 2018-10-30 11:54:37 -0400
malbec2 Linux (Ubuntu 18.04.2 LTS) / x86_64  OK  OK  OK UNNEEDED, same version exists in internal repository
tokay2 Windows Server 2012 R2 Standard / x64  OK  OK  OK  OK UNNEEDED, same version exists in internal repository
celaya2 OS X 10.11.6 El Capitan / x86_64  OK  ERROR  skipped  skipped 
merida2 OS X 10.11.6 El Capitan / x86_64  OK  OK  OK  OK 
Package 183/1703HostnameOS / ArchINSTALLBUILDCHECKBUILD BIN
breakpointR 1.1.2
David Porubsky
Last Commit: 1861eb2
Last Changed Date: 2019-04-02 12:53:51 -0400
malbec2 Linux (Ubuntu 18.04.2 LTS) / x86_64  OK  OK  OK UNNEEDED, same version exists in internal repository
tokay2 Windows Server 2012 R2 Standard / x64  OK  OK  OK  OK UNNEEDED, same version exists in internal repository
celaya2 OS X 10.11.6 El Capitan / x86_64  OK  OK  OK  OK UNNEEDED, same version exists in internal repository
merida2 OS X 10.11.6 El Capitan / x86_64  OK  OK  OK  OK 
Package 184/1703HostnameOS / ArchINSTALLBUILDCHECKBUILD BIN
bridge 1.47.0
Raphael Gottardo
Last Commit: 6254483
Last Changed Date: 2018-10-30 11:54:26 -0400
malbec2 Linux (Ubuntu 18.04.2 LTS) / x86_64  OK  OK  WARNINGS UNNEEDED, same version exists in internal repository
tokay2 Windows Server 2012 R2 Standard / x64  OK  OK  WARNINGS  OK UNNEEDED, same version exists in internal repository
celaya2 OS X 10.11.6 El Capitan / x86_64  OK  OK  OK  OK UNNEEDED, same version exists in internal repository
merida2 OS X 10.11.6 El Capitan / x86_64  OK  OK  OK  OK 
Package 185/1703HostnameOS / ArchINSTALLBUILDCHECKBUILD BIN
BridgeDbR 1.17.5
Egon Willighagen
Last Commit: 7b22a84
Last Changed Date: 2019-04-07 10:46:37 -0400
malbec2 Linux (Ubuntu 18.04.2 LTS) / x86_64  OK  OK  OK UNNEEDED, same version exists in internal repository
tokay2 Windows Server 2012 R2 Standard / x64  OK  OK  OK  OK UNNEEDED, same version exists in internal repository
celaya2 OS X 10.11.6 El Capitan / x86_64  OK  OK  OK  OK UNNEEDED, same version exists in internal repository
merida2 OS X 10.11.6 El Capitan / x86_64  OK  OK  OK  OK 
Package 186/1703HostnameOS / ArchINSTALLBUILDCHECKBUILD BIN
BrowserViz 2.5.13
Paul Shannon
Last Commit: adf4d77
Last Changed Date: 2019-04-01 14:54:46 -0400
malbec2 Linux (Ubuntu 18.04.2 LTS) / x86_64  OK  OK  OK UNNEEDED, same version exists in internal repository
tokay2 Windows Server 2012 R2 Standard / x64  OK  OK  OK  OK UNNEEDED, same version exists in internal repository
celaya2 OS X 10.11.6 El Capitan / x86_64  OK  OK  OK  OK UNNEEDED, same version exists in internal repository
merida2 OS X 10.11.6 El Capitan / x86_64  OK  OK  OK  OK 
Package 187/1703HostnameOS / ArchINSTALLBUILDCHECKBUILD BIN
BSgenome 1.51.0
H. Pagès
Last Commit: ab035b9
Last Changed Date: 2018-10-30 11:54:27 -0400
malbec2 Linux (Ubuntu 18.04.2 LTS) / x86_64  OK  OK  WARNINGS UNNEEDED, same version exists in internal repository
tokay2 Windows Server 2012 R2 Standard / x64  OK  OK  WARNINGS  OK UNNEEDED, same version exists in internal repository
celaya2 OS X 10.11.6 El Capitan / x86_64  OK  OK  WARNINGS  OK UNNEEDED, same version exists in internal repository
merida2 OS X 10.11.6 El Capitan / x86_64  OK  OK  WARNINGS  OK 
Package 188/1703HostnameOS / ArchINSTALLBUILDCHECKBUILD BIN
bsseq 1.19.3
Kasper Daniel Hansen
Last Commit: d9114c7
Last Changed Date: 2019-01-31 17:38:18 -0400
malbec2 Linux (Ubuntu 18.04.2 LTS) / x86_64  OK  OK  ERROR 
tokay2 Windows Server 2012 R2 Standard / x64  OK  OK  ERROR  OK 
celaya2 OS X 10.11.6 El Capitan / x86_64  OK  OK  ERROR  OK 
merida2 OS X 10.11.6 El Capitan / x86_64  OK  OK  ERROR  OK 
Package 189/1703HostnameOS / ArchINSTALLBUILDCHECKBUILD BIN
BubbleTree 2.13.3
Todd Creasy , Wei Zhu
Last Commit: 90efc88
Last Changed Date: 2019-01-04 10:51:02 -0400
malbec2 Linux (Ubuntu 18.04.2 LTS) / x86_64  OK  OK  OK UNNEEDED, same version exists in internal repository
tokay2 Windows Server 2012 R2 Standard / x64  OK  OK  OK  OK UNNEEDED, same version exists in internal repository
celaya2 OS X 10.11.6 El Capitan / x86_64  OK  OK  OK  OK UNNEEDED, same version exists in internal repository
merida2 OS X 10.11.6 El Capitan / x86_64  OK  OK  OK  OK 
Package 190/1703HostnameOS / ArchINSTALLBUILDCHECKBUILD BIN
BufferedMatrix 1.47.0
Ben Bolstad
Last Commit: eca2e36
Last Changed Date: 2018-10-30 11:54:27 -0400
malbec2 Linux (Ubuntu 18.04.2 LTS) / x86_64  OK  OK  OK UNNEEDED, same version exists in internal repository
tokay2 Windows Server 2012 R2 Standard / x64  OK  OK  OK  OK UNNEEDED, same version exists in internal repository
celaya2 OS X 10.11.6 El Capitan / x86_64  OK  OK  OK  OK UNNEEDED, same version exists in internal repository
merida2 OS X 10.11.6 El Capitan / x86_64  OK  OK  OK  OK 
Package 191/1703HostnameOS / ArchINSTALLBUILDCHECKBUILD BIN
BufferedMatrixMethods 1.47.0
Ben Bolstad
Last Commit: 2798185
Last Changed Date: 2018-10-30 11:54:27 -0400
malbec2 Linux (Ubuntu 18.04.2 LTS) / x86_64  OK  OK  OK UNNEEDED, same version exists in internal repository
tokay2 Windows Server 2012 R2 Standard / x64  OK  OK  OK  OK UNNEEDED, same version exists in internal repository
celaya2 OS X 10.11.6 El Capitan / x86_64  OK  OK  OK  OK UNNEEDED, same version exists in internal repository
merida2 OS X 10.11.6 El Capitan / x86_64  OK  OK  OK  OK 
Package 192/1703HostnameOS / ArchINSTALLBUILDCHECKBUILD BIN
BUMHMM 1.7.1
Alina Selega
Last Commit: 22f4e5f
Last Changed Date: 2019-01-04 13:20:53 -0400
malbec2 Linux (Ubuntu 18.04.2 LTS) / x86_64  OK  OK  OK UNNEEDED, same version exists in internal repository
tokay2 Windows Server 2012 R2 Standard / x64  OK  OK  WARNINGS  OK UNNEEDED, same version exists in internal repository
celaya2 OS X 10.11.6 El Capitan / x86_64  OK  OK  OK  OK UNNEEDED, same version exists in internal repository
merida2 OS X 10.11.6 El Capitan / x86_64  OK  OK  OK  OK 
Package 193/1703HostnameOS / ArchINSTALLBUILDCHECKBUILD BIN
bumphunter 1.25.4
Rafael A. Irizarry
Last Commit: ebf505e
Last Changed Date: 2019-04-03 17:29:15 -0400
malbec2 Linux (Ubuntu 18.04.2 LTS) / x86_64  OK  OK  OK UNNEEDED, same version exists in internal repository
tokay2 Windows Server 2012 R2 Standard / x64  OK  OK  WARNINGS  OK UNNEEDED, same version exists in internal repository
celaya2 OS X 10.11.6 El Capitan / x86_64  OK  OK  OK  OK UNNEEDED, same version exists in internal repository
merida2 OS X 10.11.6 El Capitan / x86_64  OK  OK  ERROR  OK 
Package 194/1703HostnameOS / ArchINSTALLBUILDCHECKBUILD BIN
BUS 1.39.0
Yuanhua Liu
Last Commit: ff56127
Last Changed Date: 2018-10-30 11:54:28 -0400
malbec2 Linux (Ubuntu 18.04.2 LTS) / x86_64  OK  OK  OK UNNEEDED, same version exists in internal repository
tokay2 Windows Server 2012 R2 Standard / x64  OK  OK  OK  OK UNNEEDED, same version exists in internal repository
celaya2 OS X 10.11.6 El Capitan / x86_64  OK  OK  OK  OK UNNEEDED, same version exists in internal repository
merida2 OS X 10.11.6 El Capitan / x86_64  OK  OK  OK  OK 
Package 195/1703HostnameOS / ArchINSTALLBUILDCHECKBUILD BIN
BUScorrect 1.1.0
Xiangyu Luo
Last Commit: b417e88
Last Changed Date: 2018-10-30 11:54:39 -0400
malbec2 Linux (Ubuntu 18.04.2 LTS) / x86_64  OK  OK  OK UNNEEDED, same version exists in internal repository
tokay2 Windows Server 2012 R2 Standard / x64  OK  OK  OK  OK UNNEEDED, same version exists in internal repository
celaya2 OS X 10.11.6 El Capitan / x86_64  OK  OK  OK  OK UNNEEDED, same version exists in internal repository
merida2 OS X 10.11.6 El Capitan / x86_64  OK  OK  OK  OK 
C
ABCDEFGHIJKLMNOPQRSTUVWXYZ
Package 196/1703HostnameOS / ArchINSTALLBUILDCHECKBUILD BIN
CAFE 1.19.0
Sander Bollen
Last Commit: 6fde661
Last Changed Date: 2018-10-30 11:54:32 -0400
malbec2 Linux (Ubuntu 18.04.2 LTS) / x86_64  OK  OK  WARNINGS UNNEEDED, same version exists in internal repository
tokay2 Windows Server 2012 R2 Standard / x64  OK  OK  WARNINGS  OK UNNEEDED, same version exists in internal repository
celaya2 OS X 10.11.6 El Capitan / x86_64  OK  OK  WARNINGS  OK UNNEEDED, same version exists in internal repository
merida2 OS X 10.11.6 El Capitan / x86_64  OK  OK  WARNINGS  OK 
Package 197/1703HostnameOS / ArchINSTALLBUILDCHECKBUILD BIN
CAGEfightR 1.3.0
Malte Thodberg
Last Commit: 58a8416
Last Changed Date: 2019-03-13 07:53:54 -0400
malbec2 Linux (Ubuntu 18.04.2 LTS) / x86_64  OK  OK  OK UNNEEDED, same version exists in internal repository
tokay2 Windows Server 2012 R2 Standard / x64  OK  OK  OK  OK UNNEEDED, same version exists in internal repository
celaya2 OS X 10.11.6 El Capitan / x86_64  OK  OK  OK  OK UNNEEDED, same version exists in internal repository
merida2 OS X 10.11.6 El Capitan / x86_64  OK  OK  OK  OK 
Package 198/1703HostnameOS / ArchINSTALLBUILDCHECKBUILD BIN
CAGEr 1.25.1
Vanja Haberle , Charles Plessy
Last Commit: d93551e
Last Changed Date: 2018-12-12 00:42:09 -0400
malbec2 Linux (Ubuntu 18.04.2 LTS) / x86_64  OK  OK  OK UNNEEDED, same version exists in internal repository
tokay2 Windows Server 2012 R2 Standard / x64  OK  OK  WARNINGS  OK UNNEEDED, same version exists in internal repository
celaya2 OS X 10.11.6 El Capitan / x86_64  OK  OK  OK  OK UNNEEDED, same version exists in internal repository
merida2 OS X 10.11.6 El Capitan / x86_64  OK  OK  OK  OK 
Package 199/1703HostnameOS / ArchINSTALLBUILDCHECKBUILD BIN
CALIB 1.49.0
Hui Zhao
Last Commit: 5a7a01c
Last Changed Date: 2018-10-30 11:54:27 -0400
malbec2 Linux (Ubuntu 18.04.2 LTS) / x86_64  OK  OK  WARNINGS UNNEEDED, same version exists in internal repository
tokay2 Windows Server 2012 R2 Standard / x64  OK  OK  OK  OK UNNEEDED, same version exists in internal repository
celaya2 OS X 10.11.6 El Capitan / x86_64  OK  OK  WARNINGS  OK UNNEEDED, same version exists in internal repository
merida2 OS X 10.11.6 El Capitan / x86_64  OK  OK  WARNINGS  OK 
Package 200/1703HostnameOS / ArchINSTALLBUILDCHECKBUILD BIN
CAMERA 1.39.2
Steffen Neumann
Last Commit: 292b5c1
Last Changed Date: 2019-01-29 17:12:04 -0400
malbec2 Linux (Ubuntu 18.04.2 LTS) / x86_64  OK  OK  OK UNNEEDED, same version exists in internal repository
tokay2 Windows Server 2012 R2 Standard / x64  OK  OK  OK  OK UNNEEDED, same version exists in internal repository
celaya2 OS X 10.11.6 El Capitan / x86_64  OK  OK  OK  OK UNNEEDED, same version exists in internal repository
merida2 OS X 10.11.6 El Capitan / x86_64  OK  OK  OK  OK 
Package 201/1703HostnameOS / ArchINSTALLBUILDCHECKBUILD BIN
CAMTHC 1.1.3
Lulu Chen
Last Commit: 8564b7a
Last Changed Date: 2019-02-05 17:25:26 -0400
malbec2 Linux (Ubuntu 18.04.2 LTS) / x86_64  OK  OK  OK UNNEEDED, same version exists in internal repository
tokay2 Windows Server 2012 R2 Standard / x64  OK  OK  OK  OK UNNEEDED, same version exists in internal repository
celaya2 OS X 10.11.6 El Capitan / x86_64  OK  OK  OK  OK UNNEEDED, same version exists in internal repository
merida2 OS X 10.11.6 El Capitan / x86_64  OK  OK  OK  OK 
Package 202/1703HostnameOS / ArchINSTALLBUILDCHECKBUILD BIN
canceR 1.17.1
Karim Mezhoud
Last Commit: d0e4002
Last Changed Date: 2019-02-21 17:03:40 -0400
malbec2 Linux (Ubuntu 18.04.2 LTS) / x86_64  OK  OK  WARNINGS UNNEEDED, same version exists in internal repository
tokay2 Windows Server 2012 R2 Standard / x64  OK  OK  WARNINGS  OK UNNEEDED, same version exists in internal repository
celaya2 OS X 10.11.6 El Capitan / x86_64  OK  OK  WARNINGS  OK UNNEEDED, same version exists in internal repository
merida2 OS X 10.11.6 El Capitan / x86_64  OK  OK  OK  OK 
Package 203/1703HostnameOS / ArchINSTALLBUILDCHECKBUILD BIN
cancerclass 1.27.0
Daniel Kosztyla
Last Commit: 33e0f34
Last Changed Date: 2018-10-30 11:54:30 -0400
malbec2 Linux (Ubuntu 18.04.2 LTS) / x86_64  OK  OK  OK UNNEEDED, same version exists in internal repository
tokay2 Windows Server 2012 R2 Standard / x64  OK  OK  OK  OK UNNEEDED, same version exists in internal repository
celaya2 OS X 10.11.6 El Capitan / x86_64  OK  OK  WARNINGS  OK UNNEEDED, same version exists in internal repository
merida2 OS X 10.11.6 El Capitan / x86_64  OK  OK  WARNINGS  OK 
Package 204/1703HostnameOS / ArchINSTALLBUILDCHECKBUILD BIN
CancerInSilico 2.3.1
Thomas D. Sherman
Last Commit: 29bab0f
Last Changed Date: 2019-01-04 13:20:58 -0400
malbec2 Linux (Ubuntu 18.04.2 LTS) / x86_64  OK  OK  WARNINGS UNNEEDED, same version exists in internal repository
tokay2 Windows Server 2012 R2 Standard / x64  OK  OK  WARNINGS  OK UNNEEDED, same version exists in internal repository
celaya2 OS X 10.11.6 El Capitan / x86_64  OK  OK  WARNINGS  OK UNNEEDED, same version exists in internal repository
merida2 OS X 10.11.6 El Capitan / x86_64  OK  OK  WARNINGS  OK 
Package 205/1703HostnameOS / ArchINSTALLBUILDCHECKBUILD BIN
CancerMutationAnalysis 1.25.0
Simina M. Boca
Last Commit: 75ea9c0
Last Changed Date: 2018-10-30 11:54:30 -0400
malbec2 Linux (Ubuntu 18.04.2 LTS) / x86_64  OK  OK  OK UNNEEDED, same version exists in internal repository
tokay2 Windows Server 2012 R2 Standard / x64  OK  OK  OK  OK UNNEEDED, same version exists in internal repository
celaya2 OS X 10.11.6 El Capitan / x86_64  OK  OK  OK  OK UNNEEDED, same version exists in internal repository
merida2 OS X 10.11.6 El Capitan / x86_64  OK  OK  OK  OK 
Package 206/1703HostnameOS / ArchINSTALLBUILDCHECKBUILD BIN
CancerSubtypes 1.9.0
Taosheng Xu
Last Commit: 0e61488
Last Changed Date: 2018-10-30 11:54:36 -0400
malbec2 Linux (Ubuntu 18.04.2 LTS) / x86_64  OK  OK  OK UNNEEDED, same version exists in internal repository
tokay2 Windows Server 2012 R2 Standard / x64  OK  OK  OK  OK UNNEEDED, same version exists in internal repository
celaya2 OS X 10.11.6 El Capitan / x86_64  OK  OK  OK  OK UNNEEDED, same version exists in internal repository
merida2 OS X 10.11.6 El Capitan / x86_64  OK  OK  OK  OK 
Package 207/1703HostnameOS / ArchINSTALLBUILDCHECKBUILD BIN
CAnD 1.15.0
Caitlin McHugh
Last Commit: 3e09bdc
Last Changed Date: 2018-10-30 11:54:34 -0400
malbec2 Linux (Ubuntu 18.04.2 LTS) / x86_64  OK  OK  OK UNNEEDED, same version exists in internal repository
tokay2 Windows Server 2012 R2 Standard / x64  OK  OK  OK  OK UNNEEDED, same version exists in internal repository
celaya2 OS X 10.11.6 El Capitan / x86_64  OK  OK  OK  OK UNNEEDED, same version exists in internal repository
merida2 OS X 10.11.6 El Capitan / x86_64  OK  OK  OK  OK 
Package 208/1703HostnameOS / ArchINSTALLBUILDCHECKBUILD BIN
caOmicsV 1.13.1
Henry Zhang
Last Commit: bc9f50a
Last Changed Date: 2019-01-04 13:08:48 -0400
malbec2 Linux (Ubuntu 18.04.2 LTS) / x86_64  OK  OK  OK UNNEEDED, same version exists in internal repository
tokay2 Windows Server 2012 R2 Standard / x64  OK  OK  OK  OK UNNEEDED, same version exists in internal repository
celaya2 OS X 10.11.6 El Capitan / x86_64  OK  OK  OK  OK UNNEEDED, same version exists in internal repository
merida2 OS X 10.11.6 El Capitan / x86_64  OK  OK  OK  OK 
Package 209/1703HostnameOS / ArchINSTALLBUILDCHECKBUILD BIN
Cardinal 2.1.6
Kylie A. Bemis
Last Commit: 9c8dd9a
Last Changed Date: 2019-02-21 16:21:08 -0400
malbec2 Linux (Ubuntu 18.04.2 LTS) / x86_64  OK  ERROR  skipped 
tokay2 Windows Server 2012 R2 Standard / x64  OK  ERROR  skipped  skipped 
celaya2 OS X 10.11.6 El Capitan / x86_64  OK  ERROR  skipped  skipped 
merida2 OS X 10.11.6 El Capitan / x86_64  OK  ERROR  skipped  skipped 
Package 210/1703HostnameOS / ArchINSTALLBUILDCHECKBUILD BIN
casper 2.17.1
David Rossell
Last Commit: fd2e59a
Last Changed Date: 2019-01-04 13:21:12 -0400
malbec2 Linux (Ubuntu 18.04.2 LTS) / x86_64  OK  OK  WARNINGS UNNEEDED, same version exists in internal repository
tokay2 Windows Server 2012 R2 Standard / x64  OK  OK  WARNINGS  OK UNNEEDED, same version exists in internal repository
celaya2 OS X 10.11.6 El Capitan / x86_64  OK  OK  WARNINGS  OK UNNEEDED, same version exists in internal repository
merida2 OS X 10.11.6 El Capitan / x86_64  OK  OK  WARNINGS  OK 
Package 211/1703HostnameOS / ArchINSTALLBUILDCHECKBUILD BIN
CATALYST 1.7.7
Helena L. Crowell
Last Commit: 3376967
Last Changed Date: 2019-03-26 08:04:22 -0400
malbec2 Linux (Ubuntu 18.04.2 LTS) / x86_64  OK  OK  ERROR 
tokay2 Windows Server 2012 R2 Standard / x64  OK  OK  ERROR  OK 
celaya2 OS X 10.11.6 El Capitan / x86_64  OK  OK  ERROR  OK 
merida2 OS X 10.11.6 El Capitan / x86_64  OK  OK  ERROR  OK 
Package 212/1703HostnameOS / ArchINSTALLBUILDCHECKBUILD BIN
Category 2.49.1
Bioconductor Package Maintainer
Last Commit: b847a88
Last Changed Date: 2019-03-07 15:18:45 -0400
malbec2 Linux (Ubuntu 18.04.2 LTS) / x86_64  OK  OK  OK UNNEEDED, same version exists in internal repository
tokay2 Windows Server 2012 R2 Standard / x64  OK  OK  OK  OK UNNEEDED, same version exists in internal repository
celaya2 OS X 10.11.6 El Capitan / x86_64  OK  OK  OK  OK UNNEEDED, same version exists in internal repository
merida2 OS X 10.11.6 El Capitan / x86_64  OK  OK  OK  OK 
Package 213/1703HostnameOS / ArchINSTALLBUILDCHECKBUILD BIN
categoryCompare 1.27.0
Robert M. Flight
Last Commit: 344c525
Last Changed Date: 2018-10-30 11:54:30 -0400
malbec2 Linux (Ubuntu 18.04.2 LTS) / x86_64  OK  OK  OK UNNEEDED, same version exists in internal repository
tokay2 Windows Server 2012 R2 Standard / x64  OK  OK  OK  OK UNNEEDED, same version exists in internal repository
celaya2 OS X 10.11.6 El Capitan / x86_64  OK  OK  OK  OK UNNEEDED, same version exists in internal repository
merida2 OS X 10.11.6 El Capitan / x86_64  OK  OK  OK  OK 
Package 214/1703HostnameOS / ArchINSTALLBUILDCHECKBUILD BIN
CausalR 1.15.1
Glyn Bradley , Steven Barrett
Last Commit: c2ba57a
Last Changed Date: 2019-01-04 13:21:59 -0400
malbec2 Linux (Ubuntu 18.04.2 LTS) / x86_64  OK  OK  OK UNNEEDED, same version exists in internal repository
tokay2 Windows Server 2012 R2 Standard / x64  OK  OK  OK  OK UNNEEDED, same version exists in internal repository
celaya2 OS X 10.11.6 El Capitan / x86_64  OK  OK  OK  OK UNNEEDED, same version exists in internal repository
merida2 OS X 10.11.6 El Capitan / x86_64  OK  OK  OK  OK 
Package 215/1703HostnameOS / ArchINSTALLBUILDCHECKBUILD BIN
cbaf 1.5.3
Arman Shahrisa
Last Commit: c7b59ae
Last Changed Date: 2019-03-08 15:35:58 -0400
malbec2 Linux (Ubuntu 18.04.2 LTS) / x86_64  OK  OK  OK UNNEEDED, same version exists in internal repository
tokay2 Windows Server 2012 R2 Standard / x64  OK  OK  OK  OK UNNEEDED, same version exists in internal repository
celaya2 OS X 10.11.6 El Capitan / x86_64  OK  OK  OK  OK UNNEEDED, same version exists in internal repository
merida2 OS X 10.11.6 El Capitan / x86_64  OK  OK  OK  OK 
Package 216/1703HostnameOS / ArchINSTALLBUILDCHECKBUILD BIN
ccfindR 1.3.0
Jun Woo
Last Commit: f4e1273
Last Changed Date: 2019-01-03 12:13:54 -0400
malbec2 Linux (Ubuntu 18.04.2 LTS) / x86_64  OK  OK  OK UNNEEDED, same version exists in internal repository
tokay2 Windows Server 2012 R2 Standard / x64  OK  OK  OK  OK UNNEEDED, same version exists in internal repository
celaya2 OS X 10.11.6 El Capitan / x86_64  OK  OK  OK  OK UNNEEDED, same version exists in internal repository
merida2 OS X 10.11.6 El Capitan / x86_64  OK  OK  OK  OK 
Package 217/1703HostnameOS / ArchINSTALLBUILDCHECKBUILD BIN
ccmap 1.9.0
Alex Pickering
Last Commit: d0e7e31
Last Changed Date: 2018-10-30 11:54:36 -0400
malbec2 Linux (Ubuntu 18.04.2 LTS) / x86_64  OK  OK  OK UNNEEDED, same version exists in internal repository
tokay2 Windows Server 2012 R2 Standard / x64  OK  OK  OK  OK UNNEEDED, same version exists in internal repository
celaya2 OS X 10.11.6 El Capitan / x86_64  OK  OK  OK  OK UNNEEDED, same version exists in internal repository
merida2 OS X 10.11.6 El Capitan / x86_64  OK  OK  OK  OK 
Package 218/1703HostnameOS / ArchINSTALLBUILDCHECKBUILD BIN
CCPROMISE 1.9.0
Xueyuan Cao
Last Commit: b601f2b
Last Changed Date: 2018-10-30 11:54:37 -0400
malbec2 Linux (Ubuntu 18.04.2 LTS) / x86_64  OK  OK  WARNINGS UNNEEDED, same version exists in internal repository
tokay2 Windows Server 2012 R2 Standard / x64  OK  OK  WARNINGS  OK UNNEEDED, same version exists in internal repository
celaya2 OS X 10.11.6 El Capitan / x86_64  OK  OK  WARNINGS  OK UNNEEDED, same version exists in internal repository
merida2 OS X 10.11.6 El Capitan / x86_64  OK  OK  WARNINGS  OK 
Package 219/1703HostnameOS / ArchINSTALLBUILDCHECKBUILD BIN
ccrepe 1.19.1
Emma Schwager ,Craig Bielski, George Weingart
Last Commit: 0239e28
Last Changed Date: 2019-01-04 13:24:15 -0400
malbec2 Linux (Ubuntu 18.04.2 LTS) / x86_64  OK  OK  OK UNNEEDED, same version exists in internal repository
tokay2 Windows Server 2012 R2 Standard / x64  OK  OK  OK  OK UNNEEDED, same version exists in internal repository
celaya2 OS X 10.11.6 El Capitan / x86_64  OK  OK  OK  OK UNNEEDED, same version exists in internal repository
merida2 OS X 10.11.6 El Capitan / x86_64  OK  OK  OK  OK 
Package 220/1703HostnameOS / ArchINSTALLBUILDCHECKBUILD BIN
celaref 1.1.5
Sarah Williams
Last Commit: 0515a2e
Last Changed Date: 2019-04-03 01:24:48 -0400
malbec2 Linux (Ubuntu 18.04.2 LTS) / x86_64  OK  OK  OK UNNEEDED, same version exists in internal repository
tokay2 Windows Server 2012 R2 Standard / x64  OK  OK  OK  OK UNNEEDED, same version exists in internal repository
celaya2 OS X 10.11.6 El Capitan / x86_64  OK  OK  OK  OK UNNEEDED, same version exists in internal repository
merida2 OS X 10.11.6 El Capitan / x86_64  OK  OK  OK  OK 
Package 221/1703HostnameOS / ArchINSTALLBUILDCHECKBUILD BIN
cellbaseR 1.7.2
Mohammed OE Abdallah
Last Commit: d074bcb7
Last Changed Date: 2019-04-08 15:36:02 -0400
malbec2 Linux (Ubuntu 18.04.2 LTS) / x86_64  OK  OK  OK YES, new version is higher than in internal repository
tokay2 Windows Server 2012 R2 Standard / x64  OK  ERROR  skipped  skipped 
celaya2 OS X 10.11.6 El Capitan / x86_64  OK  ERROR  skipped  skipped 
merida2 OS X 10.11.6 El Capitan / x86_64  OK  ERROR  skipped  skipped 
Package 222/1703HostnameOS / ArchINSTALLBUILDCHECKBUILD BIN
CellBench 0.99.10
Shian Su
Last Commit: 1fb2a72
Last Changed Date: 2019-03-19 01:50:48 -0400
malbec2 Linux (Ubuntu 18.04.2 LTS) / x86_64  OK  OK  OK UNNEEDED, same version exists in internal repository
tokay2 Windows Server 2012 R2 Standard / x64  OK  OK  OK  OK UNNEEDED, same version exists in internal repository
celaya2 OS X 10.11.6 El Capitan / x86_64  OK  OK  OK  OK UNNEEDED, same version exists in internal repository
merida2 OS X 10.11.6 El Capitan / x86_64  OK  OK  OK  OK 
Package 223/1703HostnameOS / ArchINSTALLBUILDCHECKBUILD BIN
cellGrowth 1.27.1
Julien Gagneur
Last Commit: e46d29a
Last Changed Date: 2019-01-04 13:24:39 -0400
malbec2 Linux (Ubuntu 18.04.2 LTS) / x86_64  OK  OK  OK UNNEEDED, same version exists in internal repository
tokay2 Windows Server 2012 R2 Standard / x64  OK  OK  OK  OK UNNEEDED, same version exists in internal repository
celaya2 OS X 10.11.6 El Capitan / x86_64  OK  OK  OK  OK UNNEEDED, same version exists in internal repository
merida2 OS X 10.11.6 El Capitan / x86_64  OK  OK  OK  OK 
Package 224/1703HostnameOS / ArchINSTALLBUILDCHECKBUILD BIN
cellHTS2 2.47.1
Joseph Barry
Last Commit: 8a1a8cf
Last Changed Date: 2019-01-04 13:24:45 -0400
malbec2 Linux (Ubuntu 18.04.2 LTS) / x86_64  OK  OK  WARNINGS UNNEEDED, same version exists in internal repository
tokay2 Windows Server 2012 R2 Standard / x64  OK  OK  WARNINGS  OK UNNEEDED, same version exists in internal repository
celaya2 OS X 10.11.6 El Capitan / x86_64  OK  OK  WARNINGS  OK UNNEEDED, same version exists in internal repository
merida2 OS X 10.11.6 El Capitan / x86_64  OK  OK  WARNINGS  OK 
Package 225/1703HostnameOS / ArchINSTALLBUILDCHECKBUILD BIN
cellity 1.11.1
Tomislav Ilicic
Last Commit: bfd9115
Last Changed Date: 2019-01-04 13:24:55 -0400
malbec2 Linux (Ubuntu 18.04.2 LTS) / x86_64  OK  OK  OK UNNEEDED, same version exists in internal repository
tokay2 Windows Server 2012 R2 Standard / x64  OK  OK  OK  OK UNNEEDED, same version exists in internal repository
celaya2 OS X 10.11.6 El Capitan / x86_64  OK  OK  OK  OK UNNEEDED, same version exists in internal repository
merida2 OS X 10.11.6 El Capitan / x86_64  OK  OK  OK  OK 
Package 226/1703HostnameOS / ArchINSTALLBUILDCHECKBUILD BIN
CellMapper 1.9.0
Brad Nelms
Last Commit: 1dbdab9
Last Changed Date: 2018-10-30 11:54:36 -0400
malbec2 Linux (Ubuntu 18.04.2 LTS) / x86_64  OK