Workflows build report for BioC 3.8

This page was generated on 2018-06-22 12:45:17 -0400 (Fri, 22 Jun 2018).

git log

Snapshot Date: 2018-06-22 07:35:09 -0400 (Fri, 22 Jun 2018)

HostnameOSArch (*)Platform label (**)R versionInstalled pkgs
malbec1Linux (Ubuntu 16.04.1 LTS)x86_64x86_64-linux-gnu3.5.0 Patched (2018-05-03 r74699) -- "Joy in Playing" 3261
tokay1Windows Server 2012 R2 Standardx64mingw32 / x86_64-w64-mingw323.5.0 Patched (2018-05-03 r74699) -- "Joy in Playing" 3103
Click on any hostname to see more info about the system (e.g. compilers)      (*) as reported by 'uname -p', except on Windows and Mac OS X      (**) as reported by 'gcc -v'

Package status is indicated by one of the following glyphs
 TIMEOUT  INSTALL, BUILD or BUILD WEB VIG of package took more than 120 minutes Use the check boxes to show only packages with the selected status types.
 ERROR  INSTALL, BUILD or BUILD WEB VIG of package failed
 OK  INSTALL, BUILD or BUILD WEB VIG of package was OK
 skipped  BUILD WEB VIG of package was skipped because the BUILD step failed
 NA  BUILD or BUILD WEB VIG result is not available because of an anomaly in the Build System
Click on any glyph in the report below to access the detailed results.
Package propagation status is indicated by one of the following LEDs
YES YES: Package was propagated because it didn't previously exist or version was bumped
NO NO: Package was not propagated because of a problem (impossible dependencies, or version lower than what is already propagated)
UNNEEDED UNNEEDED: Package was not propagated because it is already in the repository with this version. A version bump is required in order to propagate it

A crossed-out package name indicates the package is deprecated


SUMMARYOS / ArchINSTALLBUILD
malbec1 Linux (Ubuntu 16.04.1 LTS) / x86_64 
00220
0517
tokay1 Windows Server 2012 R2 Standard / x64 
00200
1415
Package 1/22HostnameOS / ArchINSTALLBUILD
annotation 1.3.0
Bioconductor Package Maintainer
Last Commit: 143b3c3
Last Changed Date: 2018-04-30 10:10:33 -0400
malbec1 Linux (Ubuntu 16.04.1 LTS) / x86_64  OK  OK UNNEEDED, same version exists in internal repository
tokay1 Windows Server 2012 R2 Standard / x64  OK  OK 
Package 2/22HostnameOS / ArchINSTALLBUILD
arrays 1.5.1
Bioconductor Package Maintainer
Last Commit: be7d6d3
Last Changed Date: 2018-06-07 13:44:25 -0400
malbec1 Linux (Ubuntu 16.04.1 LTS) / x86_64  OK  OK UNNEEDED, same version exists in internal repository
tokay1 Windows Server 2012 R2 Standard / x64  OK  OK 
Package 3/22HostnameOS / ArchINSTALLBUILD
BiocMetaWorkflow 1.1.0
Mike Smith
Last Commit: fbcb7bc
Last Changed Date: 2018-04-30 10:10:33 -0400
malbec1 Linux (Ubuntu 16.04.1 LTS) / x86_64  OK  ERROR 
tokay1 Windows Server 2012 R2 Standard / x64  OK  ERROR 
Package 4/22HostnameOS / ArchINSTALLBUILD
chipseqDB 1.3.1
Aaron Lun
Last Commit: 77f30f3
Last Changed Date: 2018-05-23 13:21:52 -0400
malbec1 Linux (Ubuntu 16.04.1 LTS) / x86_64  OK  OK UNNEEDED, same version exists in internal repository
tokay1 Windows Server 2012 R2 Standard / x64 ...NOT SUPPORTED...
Package 5/22HostnameOS / ArchINSTALLBUILD
cytofWorkflow 1.3.0
Malgorzata Nowicka
Last Commit: 696522e
Last Changed Date: 2018-04-30 10:10:33 -0400
malbec1 Linux (Ubuntu 16.04.1 LTS) / x86_64  OK  ERROR 
tokay1 Windows Server 2012 R2 Standard / x64  OK  ERROR 
Package 6/22HostnameOS / ArchINSTALLBUILD
EGSEA123 1.3.0
Matthew Ritchie
Last Commit: 642fbdf
Last Changed Date: 2018-04-30 10:10:33 -0400
malbec1 Linux (Ubuntu 16.04.1 LTS) / x86_64  OK  OK UNNEEDED, same version exists in internal repository
tokay1 Windows Server 2012 R2 Standard / x64  OK  OK 
Package 7/22HostnameOS / ArchINSTALLBUILD
eQTL 1.3.0
Vincent Carey
Last Commit: e71d28f
Last Changed Date: 2018-04-30 10:10:33 -0400
malbec1 Linux (Ubuntu 16.04.1 LTS) / x86_64  OK  OK UNNEEDED, same version exists in internal repository
tokay1 Windows Server 2012 R2 Standard / x64  OK  OK 
Package 8/22HostnameOS / ArchINSTALLBUILD
ExpressionNormalizationWorkflow 1.5.0
Karthikeyan Murugesan
Last Commit: d633e84
Last Changed Date: 2018-04-30 10:10:33 -0400
malbec1 Linux (Ubuntu 16.04.1 LTS) / x86_64  OK  OK UNNEEDED, same version exists in internal repository
tokay1 Windows Server 2012 R2 Standard / x64  OK  OK 
Package 9/22HostnameOS / ArchINSTALLBUILD
generegulation 1.3.0
Bioconductor Package Maintainer
Last Commit: 04f1735
Last Changed Date: 2018-04-30 10:10:33 -0400
malbec1 Linux (Ubuntu 16.04.1 LTS) / x86_64  OK  OK UNNEEDED, same version exists in internal repository
tokay1 Windows Server 2012 R2 Standard / x64  OK  OK 
Package 10/22HostnameOS / ArchINSTALLBUILD
highthroughputassays 1.3.0
Bioconductor Package Maintainer
Last Commit: 219fd01
Last Changed Date: 2018-04-30 10:10:33 -0400
malbec1 Linux (Ubuntu 16.04.1 LTS) / x86_64  OK  OK UNNEEDED, same version exists in internal repository
tokay1 Windows Server 2012 R2 Standard / x64 ...NOT SUPPORTED...
Package 11/22HostnameOS / ArchINSTALLBUILD
liftOver 1.3.0
Bioconductor Package Maintainer
Last Commit: 3536b70
Last Changed Date: 2018-04-30 10:10:33 -0400
malbec1 Linux (Ubuntu 16.04.1 LTS) / x86_64  OK  OK UNNEEDED, same version exists in internal repository
tokay1 Windows Server 2012 R2 Standard / x64  OK  OK 
Package 12/22HostnameOS / ArchINSTALLBUILD
maEndToEnd 1.99.1
Bernd Klaus
Last Commit: 43a4603
Last Changed Date: 2018-06-21 07:05:26 -0400
malbec1 Linux (Ubuntu 16.04.1 LTS) / x86_64  OK  OK YES, new version is higher than in internal repository
tokay1 Windows Server 2012 R2 Standard / x64  OK  OK 
Package 13/22HostnameOS / ArchINSTALLBUILD
methylationArrayAnalysis 1.3.0
Jovana Maksimovic
Last Commit: a93fc35
Last Changed Date: 2018-04-30 10:10:33 -0400
malbec1 Linux (Ubuntu 16.04.1 LTS) / x86_64  OK  OK UNNEEDED, same version exists in internal repository
tokay1 Windows Server 2012 R2 Standard / x64  OK  OK 
Package 14/22HostnameOS / ArchINSTALLBUILD
proteomics 1.3.1
Laurent Gatto
Last Commit: 2b001c7
Last Changed Date: 2018-05-23 08:59:52 -0400
malbec1 Linux (Ubuntu 16.04.1 LTS) / x86_64  OK  OK UNNEEDED, same version exists in internal repository
tokay1 Windows Server 2012 R2 Standard / x64  OK  OK 
Package 15/22HostnameOS / ArchINSTALLBUILD
recountWorkflow 1.3.0
Leonardo Collado-Torres
Last Commit: 5095cf3
Last Changed Date: 2018-04-30 10:10:33 -0400
malbec1 Linux (Ubuntu 16.04.1 LTS) / x86_64  OK  ERROR 
tokay1 Windows Server 2012 R2 Standard / x64  OK  ERROR 
Package 16/22HostnameOS / ArchINSTALLBUILD
RNAseq123 1.3.0
Matthew Ritchie
Last Commit: 79769fa
Last Changed Date: 2018-04-30 10:10:33 -0400
malbec1 Linux (Ubuntu 16.04.1 LTS) / x86_64  OK  OK UNNEEDED, same version exists in internal repository
tokay1 Windows Server 2012 R2 Standard / x64  OK  OK 
Package 17/22HostnameOS / ArchINSTALLBUILD
rnaseqGene 1.3.0
Michael Love
Last Commit: 4941ec0
Last Changed Date: 2018-04-30 10:10:33 -0400
malbec1 Linux (Ubuntu 16.04.1 LTS) / x86_64  OK  OK UNNEEDED, same version exists in internal repository
tokay1 Windows Server 2012 R2 Standard / x64  OK  OK 
Package 18/22HostnameOS / ArchINSTALLBUILD
RnaSeqGeneEdgeRQL 1.3.3
Yunshun Chen , Gordon Smyth
Last Commit: 5691650
Last Changed Date: 2018-05-13 20:12:59 -0400
malbec1 Linux (Ubuntu 16.04.1 LTS) / x86_64  OK  OK UNNEEDED, same version exists in internal repository
tokay1 Windows Server 2012 R2 Standard / x64  OK  OK 
Package 19/22HostnameOS / ArchINSTALLBUILD
sequencing 1.3.0
Martin Morgan
Last Commit: f285ae6
Last Changed Date: 2018-04-30 10:10:33 -0400
malbec1 Linux (Ubuntu 16.04.1 LTS) / x86_64  OK  OK UNNEEDED, same version exists in internal repository
tokay1 Windows Server 2012 R2 Standard / x64  OK  OK 
Package 20/22HostnameOS / ArchINSTALLBUILD
simpleSingleCell 1.3.6
Aaron Lun
Last Commit: a995aec
Last Changed Date: 2018-06-16 14:15:25 -0400
malbec1 Linux (Ubuntu 16.04.1 LTS) / x86_64  OK  ERROR 
tokay1 Windows Server 2012 R2 Standard / x64  OK  TIMEOUT 
Package 21/22HostnameOS / ArchINSTALLBUILD
TCGAWorkflow 1.3.0
Tiago Chedraoui Silva
Last Commit: d7225d8
Last Changed Date: 2018-04-30 10:10:33 -0400
malbec1 Linux (Ubuntu 16.04.1 LTS) / x86_64  OK  ERROR 
tokay1 Windows Server 2012 R2 Standard / x64  OK  ERROR 
Package 22/22HostnameOS / ArchINSTALLBUILD
variants 1.3.0
Bioconductor Package Maintainer
Last Commit: e488c1a
Last Changed Date: 2018-04-30 10:10:33 -0400
malbec1 Linux (Ubuntu 16.04.1 LTS) / x86_64  OK  OK UNNEEDED, same version exists in internal repository
tokay1 Windows Server 2012 R2 Standard / x64  OK  OK