Multiple platform build/check report for BioC 3.8 experimental data

This page was generated on 2018-12-06 13:16:51 -0500 (Thu, 06 Dec 2018).

git log

Snapshot Date: 2018-12-06 07:35:21 -0500 (Thu, 06 Dec 2018)

HostnameOSArch (*)Platform label (**)R versionInstalled pkgs
malbec1Linux (Ubuntu 16.04.1 LTS)x86_64x86_64-linux-gnu3.5.1 Patched (2018-07-12 r74967) -- "Feather Spray" 3421
Click on any hostname to see more info about the system (e.g. compilers)      (*) as reported by 'uname -p', except on Windows and Mac OS X      (**) as reported by 'gcc -v'

Package status is indicated by one of the following glyphs
 TIMEOUT  INSTALL, BUILD, CHECK or BUILD BIN of package took more than 80 minutes Use the check boxes to show only packages with the selected status types.
 ERROR  Bad DESCRIPTION file or INSTALL, BUILD or BUILD BIN of package failed, or CHECK produced errors
 WARNINGS  CHECK of package produced warnings
 OK  INSTALL, BUILD, CHECK or BUILD BIN of package was OK
 skipped  CHECK or BUILD BIN of package was skipped because the BUILD step failed
 NA  BUILD, CHECK or BUILD BIN result is not available because of an anomaly in the Build System
Click on any glyph in the report below to access the detailed results.
Package propagation status is indicated by one of the following LEDs
YES YES: Package was propagated because it didn't previously exist or version was bumped
NO NO: Package was not propagated because of a problem (impossible dependencies, or version lower than what is already propagated)
UNNEEDED UNNEEDED: Package was not propagated because it is already in the repository with this version. A version bump is required in order to propagate it

A crossed-out package name indicates the package is deprecated


SUMMARYOS / ArchINSTALLBUILDCHECKBUILD BIN
malbec1 Linux (Ubuntu 16.04.1 LTS) / x86_64 
003590
06353
0078275
PackageMaintainerINSTALLBUILDCHECKBUILD BIN
1/359ABAData 1.12.0Steffi Grote OK  OK  OK UNNEEDED, same version exists in internal repository
2/359affycompData 1.20.0Harris Jaffee OK  OK  OK UNNEEDED, same version exists in internal repository
3/359affydata 1.30.0Harris Jaffee OK  OK  WARNINGS UNNEEDED, same version exists in internal repository
4/359Affyhgu133A2Expr 1.18.0Zhicheng Ji OK  OK  OK UNNEEDED, same version exists in internal repository
5/359Affyhgu133aExpr 1.20.0Zhicheng Ji OK  OK  OK UNNEEDED, same version exists in internal repository
6/359Affyhgu133Plus2Expr 1.16.0Zhicheng Ji OK  OK  OK UNNEEDED, same version exists in internal repository
7/359AffymetrixDataTestFiles 0.20.0Henrik Bengtsson OK  OK  OK UNNEEDED, same version exists in internal repository
8/359Affymoe4302Expr 1.20.0Zhicheng Ji OK  OK  OK UNNEEDED, same version exists in internal repository
9/359airway 1.2.0Michael Love OK  OK  OK UNNEEDED, same version exists in internal repository
10/359ALL 1.24.0Robert Gentleman OK  OK  OK UNNEEDED, same version exists in internal repository
11/359allenpvc 1.0.0Diogo P. P. Branco OK  ERROR  skipped 
12/359ALLMLL 1.22.0B. M. Bolstad OK  OK  OK UNNEEDED, same version exists in internal repository
13/359alpineData 1.8.0Michael Love OK  ERROR  skipped 
14/359AmpAffyExample 1.22.0Rafael A. Irizarry OK  OK  WARNINGS UNNEEDED, same version exists in internal repository
15/359AneuFinderData 1.10.0Aaron Taudt OK  OK  WARNINGS UNNEEDED, same version exists in internal repository
16/359antiProfilesData 1.18.0Hector Corrada Bravo OK  OK  OK UNNEEDED, same version exists in internal repository
17/359aracne.networks 1.8.0Federico M. Giorgi , Mariano Alvarez OK  OK  WARNINGS UNNEEDED, same version exists in internal repository
18/359ARRmData 1.18.0Jean-Philippe Fortin OK  OK  OK UNNEEDED, same version exists in internal repository
19/359AshkenazimSonChr21 1.12.0Who to complain to OK  OK  OK UNNEEDED, same version exists in internal repository
20/359ASICSdata 1.2.0Gaëlle Lefort OK  OK  OK UNNEEDED, same version exists in internal repository
21/359AssessORFData 1.0.0Deepank Korandla OK  OK  OK UNNEEDED, same version exists in internal repository
22/359bcellViper 1.18.0Mariano Javier Alvarez OK  OK  OK UNNEEDED, same version exists in internal repository
23/359beadarrayExampleData 1.20.0Mark Dunning OK  OK  OK UNNEEDED, same version exists in internal repository
24/359BeadArrayUseCases 1.20.0Mike Smith OK  OK  WARNINGS UNNEEDED, same version exists in internal repository
25/359beta7 1.20.0Jean Yang OK  OK  WARNINGS UNNEEDED, same version exists in internal repository
26/359biotmleData 1.6.0Nima Hejazi OK  OK  OK UNNEEDED, same version exists in internal repository
27/359bladderbatch 1.20.0Jeffrey T. Leek OK  OK  WARNINGS UNNEEDED, same version exists in internal repository
28/359blimaTestingData 1.2.0Vojtech Kulvait OK  OK  OK UNNEEDED, same version exists in internal repository
29/359BloodCancerMultiOmics2017 1.2.0Malgorzata Oles OK  OK  OK UNNEEDED, same version exists in internal repository
30/359brainImageRdata 1.0.0Sara Linker OK  OK  OK UNNEEDED, same version exists in internal repository
31/359breakpointRdata 1.0.0David Porubsky OK  OK  OK UNNEEDED, same version exists in internal repository
32/359breastCancerMAINZ 1.20.0Markus Schroeder , Benjamin Haibe-Kains OK  OK  WARNINGS UNNEEDED, same version exists in internal repository
33/359breastCancerNKI 1.20.0Markus Schroeder , Benjamin Haibe-Kains OK  OK  WARNINGS UNNEEDED, same version exists in internal repository
34/359breastCancerTRANSBIG 1.20.0Markus Schroeder , Benjamin Haibe-Kains OK  OK  WARNINGS UNNEEDED, same version exists in internal repository
35/359breastCancerUNT 1.20.0Markus Schroeder , Benjamin Haibe-Kains OK  OK  WARNINGS UNNEEDED, same version exists in internal repository
36/359breastCancerUPP 1.20.0Markus Schroeder , Benjamin Haibe-Kains OK  OK  WARNINGS UNNEEDED, same version exists in internal repository
37/359breastCancerVDX 1.20.0Markus Schroeder , Benjamin Haibe-Kains OK  OK  WARNINGS UNNEEDED, same version exists in internal repository
38/359brgedata 1.4.0Carlos Ruiz-Arenas OK  OK  WARNINGS UNNEEDED, same version exists in internal repository
39/359bronchialIL13 1.20.0Vince Carey OK  OK  OK UNNEEDED, same version exists in internal repository
40/359bsseqData 0.20.0Kasper Daniel Hansen OK  OK  OK UNNEEDED, same version exists in internal repository
41/359cancerdata 1.20.0Daniel Kosztyla OK  OK  OK UNNEEDED, same version exists in internal repository
42/359CardinalWorkflows 1.14.0Kylie A. Bemis OK  OK  OK UNNEEDED, same version exists in internal repository
43/359ccdata 1.8.0Alex Pickering OK  OK  WARNINGS UNNEEDED, same version exists in internal repository
44/359CCl4 1.20.0Audrey Kauffmann OK  OK  WARNINGS UNNEEDED, same version exists in internal repository
45/359ccTutorial 1.20.0Joern Toedling OK  OK  OK UNNEEDED, same version exists in internal repository
46/359celarefData 1.0.0Sarah Williams OK  OK  OK UNNEEDED, same version exists in internal repository
47/359CellMapperData 1.8.0Brad Nelms OK  OK  OK UNNEEDED, same version exists in internal repository
48/359ceu1kg 0.20.0VJ Carey OK  OK  OK UNNEEDED, same version exists in internal repository
49/359ceu1kgv 0.24.0VJ Carey OK  OK  OK UNNEEDED, same version exists in internal repository
50/359ceuhm3 0.20.0VJ Carey OK  OK  OK UNNEEDED, same version exists in internal repository
51/359cgdv17 0.20.0VJ Carey OK  OK  OK UNNEEDED, same version exists in internal repository
52/359ChAMPdata 2.14.0Yuan Tian OK  OK  OK UNNEEDED, same version exists in internal repository
53/359charmData 1.18.0Martin Aryee OK  OK  WARNINGS UNNEEDED, same version exists in internal repository
54/359ChIC.data 1.2.0Carmen Maria Livi OK  OK  OK UNNEEDED, same version exists in internal repository
55/359ChimpHumanBrainData 1.20.0Sean Davis OK  OK  OK UNNEEDED, same version exists in internal repository
56/359chipenrich.data 2.6.0Raymond G. Cavalcante OK  OK  OK UNNEEDED, same version exists in internal repository
57/359ChIPexoQualExample 1.6.0Rene Welch OK  OK  OK UNNEEDED, same version exists in internal repository
58/359ChIPXpressData 1.20.0George Wu OK  OK  WARNINGS UNNEEDED, same version exists in internal repository
59/359chromstaRData 1.8.0Aaron Taudt OK  OK  OK UNNEEDED, same version exists in internal repository
60/359CLL 1.22.0Robert Gentleman OK  OK  OK UNNEEDED, same version exists in internal repository
61/359CLLmethylation 1.2.0Malgorzata Oles , Andreas Mock OK  OK  OK UNNEEDED, same version exists in internal repository
62/359cMap2data 1.18.0J. Saez-Rodriguez OK  OK  OK UNNEEDED, same version exists in internal repository
63/359cnvGSAdata 1.18.0Joseph Lugo OK  OK  WARNINGS UNNEEDED, same version exists in internal repository
64/359COHCAPanno 1.18.0Charles Warden OK  OK  OK UNNEEDED, same version exists in internal repository
65/359colonCA 1.24.0W Sylvia Merk OK  OK  WARNINGS UNNEEDED, same version exists in internal repository
66/359CONFESSdata 1.10.0Diana LOW OK  OK  OK UNNEEDED, same version exists in internal repository
67/359ConnectivityMap 1.18.0Paul Shannon OK  OK  OK UNNEEDED, same version exists in internal repository
68/359COPDSexualDimorphism.data 1.18.0J Fah Sathirapongsasuti OK  OK  WARNINGS UNNEEDED, same version exists in internal repository
69/359CopyhelpeR 1.14.0Oscar Krijgsman OK  OK  OK UNNEEDED, same version exists in internal repository
70/359CopyNeutralIMA 1.0.0Xavier Pastor Hostench OK  OK  OK UNNEEDED, same version exists in internal repository
71/359COSMIC.67 1.18.0Julian Gehring OK  OK  OK UNNEEDED, same version exists in internal repository
72/359CRCL18 1.2.0Claudio Isella OK  OK  OK UNNEEDED, same version exists in internal repository
73/359curatedBladderData 1.18.0Markus Riester OK  OK  OK UNNEEDED, same version exists in internal repository
74/359curatedBreastData 2.10.0Katie Planey OK  OK  OK UNNEEDED, same version exists in internal repository
75/359curatedCRCData 2.14.0Princy Parsana OK  OK  OK UNNEEDED, same version exists in internal repository
76/359curatedMetagenomicData 1.12.3Lucas Schiffer OK  OK  OK UNNEEDED, same version exists in internal repository
77/359curatedOvarianData 1.20.0Levi Waldron OK  OK  OK UNNEEDED, same version exists in internal repository
78/359curatedTCGAData 1.4.0Marcel Ramos OK  OK  OK UNNEEDED, same version exists in internal repository
79/359DAPARdata 1.12.1Samuel Wieczorek OK  OK  WARNINGS UNNEEDED, same version exists in internal repository
80/359davidTiling 1.22.0Wolfgang Huber OK  OK  WARNINGS UNNEEDED, same version exists in internal repository
81/359derfinderData 2.0.0Leonardo Collado-Torres OK  OK  OK UNNEEDED, same version exists in internal repository
82/359DeSousa2013 1.18.0Xin Wang OK  OK  OK UNNEEDED, same version exists in internal repository
83/359diffloopdata 1.10.0Caleb Lareau OK  OK  OK UNNEEDED, same version exists in internal repository
84/359diggitdata 1.14.0Mariano Javier Alvarez OK  OK  OK UNNEEDED, same version exists in internal repository
85/359DLBCL 1.22.0Marcus Dittrich OK  OK  WARNINGS UNNEEDED, same version exists in internal repository
86/359DmelSGI 1.14.0Bernd Fischer OK  OK  OK UNNEEDED, same version exists in internal repository
87/359DMRcatedata 1.18.0Tim Peters OK  OK  WARNINGS UNNEEDED, same version exists in internal repository
88/359DonaPLLP2013 1.20.0Joseph D. Barry OK  OK  OK UNNEEDED, same version exists in internal repository
89/359DREAM4 1.18.0Paul Shannon OK  OK  WARNINGS UNNEEDED, same version exists in internal repository
90/359dressCheck 0.20.0Vincent Carey OK  OK  OK UNNEEDED, same version exists in internal repository
91/359DrugVsDiseasedata 1.18.0J. Saez-Rodriguez OK  OK  OK UNNEEDED, same version exists in internal repository
92/359dsQTL 0.20.0VJ Carey OK  OK  OK UNNEEDED, same version exists in internal repository
93/359DuoClustering2018 1.0.0Angelo Duò OK  OK  OK UNNEEDED, same version exists in internal repository
94/359DvDdata 1.18.0J. Saez-Rodriguez OK  OK  OK UNNEEDED, same version exists in internal repository
95/359dyebiasexamples 1.22.0Philip Lijnzaad OK  OK  WARNINGS UNNEEDED, same version exists in internal repository
96/359EatonEtAlChIPseq 0.20.0Patrick Aboyoun OK  OK  OK UNNEEDED, same version exists in internal repository
97/359ecoliLeucine 1.22.0Laurent Gautier OK  OK  WARNINGS UNNEEDED, same version exists in internal repository
98/359EGSEAdata 1.10.0Monther Alhamdoosh OK  OK  OK UNNEEDED, same version exists in internal repository
99/359ELMER.data 2.6.0Tiago Chedraoui Silva OK  OK  OK UNNEEDED, same version exists in internal repository
100/359estrogen 1.28.0Wolfgang Huber OK  OK  OK UNNEEDED, same version exists in internal repository
101/359etec16s 1.10.0Joseph N. Paulson OK  OK  OK UNNEEDED, same version exists in internal repository
102/359faahKO 1.22.0Colin A. Smith OK  OK  WARNINGS UNNEEDED, same version exists in internal repository
103/359fabiaData 1.20.0Sepp Hochreiter OK  OK  OK UNNEEDED, same version exists in internal repository
104/359facopy.annot 1.2.0David Mosen-Ansorena OK  OK  OK UNNEEDED, same version exists in internal repository
105/359facsDorit 1.24.0Florian Hahne OK  OK  OK UNNEEDED, same version exists in internal repository
106/359FANTOM3and4CAGE 1.18.0Vanja Haberle OK  OK  OK UNNEEDED, same version exists in internal repository
107/359ffpeExampleData 1.20.0Levi Waldron OK  OK  OK UNNEEDED, same version exists in internal repository
108/359fibroEset 1.24.0Sylvia Merk OK  OK  WARNINGS UNNEEDED, same version exists in internal repository
109/359FIs 1.10.0Herbert Braselmann OK  OK  OK UNNEEDED, same version exists in internal repository
110/359fission 1.2.0Michael Love OK  OK  OK UNNEEDED, same version exists in internal repository
111/359Fletcher2013a 1.18.0Mauro Castro OK  OK  OK UNNEEDED, same version exists in internal repository
112/359Fletcher2013b 1.18.0Mauro Castro OK  OK  OK UNNEEDED, same version exists in internal repository
113/359flowFitExampleData 1.18.0Davide Rambaldi OK  OK  OK UNNEEDED, same version exists in internal repository
114/359flowPloidyData 1.8.0Tyler Smith OK  OK  OK UNNEEDED, same version exists in internal repository
115/359flowQBData 1.8.0Josef Spidlen OK  OK  OK UNNEEDED, same version exists in internal repository
116/359FlowSorted.Blood.450k 1.20.0Andrew E Jaffe OK  OK  OK UNNEEDED, same version exists in internal repository
117/359FlowSorted.Blood.EPIC 1.0.0Lucas A. Salas OK  OK  OK UNNEEDED, same version exists in internal repository
118/359FlowSorted.CordBlood.450k 1.10.0Shan V. Andrews OK  OK  OK UNNEEDED, same version exists in internal repository
119/359FlowSorted.CordBloodNorway.450k 1.8.0kristina gervin OK  OK  OK UNNEEDED, same version exists in internal repository
120/359FlowSorted.DLPFC.450k 1.18.0Andrew E Jaffe OK  OK  OK UNNEEDED, same version exists in internal repository
121/359flowWorkspaceData 2.18.0Mike Jiang OK  OK  OK UNNEEDED, same version exists in internal repository
122/359frmaExampleData 1.18.0Matthew N. McCall OK  OK  WARNINGS UNNEEDED, same version exists in internal repository
123/359FunciSNP.data 1.18.0Simon G. Coetzee OK  OK  OK UNNEEDED, same version exists in internal repository
124/359furrowSeg 1.10.0Joseph Barry OK  OK  WARNINGS UNNEEDED, same version exists in internal repository
125/359gageData 2.20.0Weijun Luo OK  OK  OK UNNEEDED, same version exists in internal repository
126/359gaschYHS 1.20.0Vince Carey OK  OK  OK UNNEEDED, same version exists in internal repository
127/359gatingMLData 2.22.0J. Spidlen OK  OK  OK UNNEEDED, same version exists in internal repository
128/359gcspikelite 1.20.0Mark Robinson OK  OK  WARNINGS UNNEEDED, same version exists in internal repository
129/359geneLenDataBase 1.18.0Nadia Davidson , Anthony Hawkins OK  OK  WARNINGS UNNEEDED, same version exists in internal repository
130/359genomationData 1.14.0Vedran Franke OK  OK  OK UNNEEDED, same version exists in internal repository
131/359GeuvadisTranscriptExpr 1.10.0Malgorzata Nowicka OK  OK  OK UNNEEDED, same version exists in internal repository
132/359geuvPack 1.14.0VJ Carey OK  OK  OK UNNEEDED, same version exists in internal repository
133/359geuvStore2 1.12.0VJ Carey OK  OK  WARNINGS UNNEEDED, same version exists in internal repository
134/359GGdata 1.20.0VJ Carey OK  OK  OK UNNEEDED, same version exists in internal repository
135/359GIGSEAdata 1.0.0Shijia Zhu OK  OK  OK UNNEEDED, same version exists in internal repository
136/359golubEsets 1.24.0Vince Carey OK  OK  OK UNNEEDED, same version exists in internal repository
137/359grndata 1.14.0Pau Bellot OK  OK  OK UNNEEDED, same version exists in internal repository
138/359GSBenchMark 1.2.0Bahman Afsari OK  OK  OK UNNEEDED, same version exists in internal repository
139/359GSE62944 1.10.0Bioconductor Package Maintainer OK  OK  OK UNNEEDED, same version exists in internal repository
140/359gskb 1.14.0Valerie Bares OK  OK  OK UNNEEDED, same version exists in internal repository
141/359GSVAdata 1.18.0Robert Castelo OK  OK  OK UNNEEDED, same version exists in internal repository
142/359GWASdata 1.20.0Stephanie Gogarten , Adrienne Stilp OK  OK  OK UNNEEDED, same version exists in internal repository
143/359h5vcData 2.2.0Paul Theodor Pyl OK  OK  OK UNNEEDED, same version exists in internal repository
144/359hapmap100khind 1.24.0Benilton Carvalho OK  OK  OK UNNEEDED, same version exists in internal repository
145/359hapmap100kxba 1.24.0Benilton Carvalho OK  OK  OK UNNEEDED, same version exists in internal repository
146/359hapmap500knsp 1.24.0Benilton Carvalho OK  OK  OK UNNEEDED, same version exists in internal repository
147/359hapmap500ksty 1.24.0Benilton Carvalho OK  OK  OK UNNEEDED, same version exists in internal repository
148/359hapmapsnp5 1.24.0Benilton Carvalho OK  OK  OK UNNEEDED, same version exists in internal repository
149/359hapmapsnp6 1.24.0Benilton Carvalho OK  OK  OK UNNEEDED, same version exists in internal repository
150/359harbChIP 1.20.0VJ Carey OK  OK  OK UNNEEDED, same version exists in internal repository
151/359HarmanData 1.10.0Jason Ross OK  OK  OK UNNEEDED, same version exists in internal repository
152/359HarmonizedTCGAData 1.4.0Tianle Ma OK  OK  OK UNNEEDED, same version exists in internal repository
153/359HD2013SGI 1.22.0Bernd Fischer OK  OK  OK UNNEEDED, same version exists in internal repository
154/359HDCytoData 1.2.1Lukas M. Weber OK  ERROR  skipped 
155/359healthyFlowData 1.20.0Ariful Azad OK  OK  OK UNNEEDED, same version exists in internal repository
156/359HEEBOdata 1.20.0Agnes Paquet OK  OK  WARNINGS UNNEEDED, same version exists in internal repository
157/359HelloRangesData 1.8.0Michael Lawrence OK  OK  OK UNNEEDED, same version exists in internal repository
158/359hgu133abarcodevecs 1.20.0Matthew N. McCall OK  OK  OK UNNEEDED, same version exists in internal repository
159/359hgu133plus2barcodevecs 1.20.0Matthew N. McCall OK  OK  OK UNNEEDED, same version exists in internal repository
160/359hgu133plus2CellScore 1.2.0Nancy Mah OK  OK  OK UNNEEDED, same version exists in internal repository
161/359hgu2beta7 1.22.0Bioconductor Package Maintainer OK  OK  WARNINGS UNNEEDED, same version exists in internal repository
162/359HiCDataHumanIMR90 1.2.0Nicolas Servant OK  OK  OK UNNEEDED, same version exists in internal repository
163/359HiCDataLymphoblast 1.18.0Borbala Mifsud OK  OK  OK UNNEEDED, same version exists in internal repository
164/359Hiiragi2013 1.18.0Andrzej Oles OK  OK  OK UNNEEDED, same version exists in internal repository
165/359HIVcDNAvantWout03 1.22.0Chris Fraley OK  OK  WARNINGS UNNEEDED, same version exists in internal repository
166/359HMP16SData 1.2.0Lucas Schiffer OK  ERROR  skipped 
167/359hmyriB36 1.18.0Vincent Carey OK  OK  OK UNNEEDED, same version exists in internal repository
168/359HSMMSingleCell 1.2.0Cole Trapnell OK  OK  WARNINGS UNNEEDED, same version exists in internal repository
169/359HumanAffyData 1.8.0Brad Nelms OK  ERROR  skipped 
170/359humanStemCell 0.22.0R. Gentleman OK  OK  WARNINGS UNNEEDED, same version exists in internal repository
171/359IHWpaper 1.10.0Nikos Ignatiadis OK  OK  OK UNNEEDED, same version exists in internal repository
172/359Illumina450ProbeVariants.db 1.18.0Tiffany Morris OK  OK  OK UNNEEDED, same version exists in internal repository
173/359IlluminaDataTestFiles 1.20.0Kasper Daniel Hansen OK  OK  OK UNNEEDED, same version exists in internal repository
174/359iontreeData 1.18.0Mingshu Cao OK  OK  WARNINGS UNNEEDED, same version exists in internal repository
175/359ITALICSData 2.20.0Guillem Rigaill OK  OK  WARNINGS UNNEEDED, same version exists in internal repository
176/359Iyer517 1.24.0Vince Carey OK  OK  OK UNNEEDED, same version exists in internal repository
177/359JASPAR2014 1.18.0Ge Tan OK  OK  OK UNNEEDED, same version exists in internal repository
178/359JASPAR2016 1.10.0Ge Tan OK  OK  OK UNNEEDED, same version exists in internal repository
179/359JctSeqData 1.12.0Stephen Hartley OK  OK  OK UNNEEDED, same version exists in internal repository
180/359KEGGandMetacoreDzPathwaysGEO 1.2.0Gaurav Bhatti OK  OK  OK UNNEEDED, same version exists in internal repository
181/359KEGGdzPathwaysGEO 1.20.0Gaurav Bhatti OK  OK  OK UNNEEDED, same version exists in internal repository
182/359kidpack 1.24.0Wolfgang Huber OK  OK  WARNINGS UNNEEDED, same version exists in internal repository
183/359KOdata 1.8.0Shana White OK  OK  OK UNNEEDED, same version exists in internal repository
184/359leeBamViews 1.18.0VJ Carey OK  OK  OK UNNEEDED, same version exists in internal repository
185/359leukemiasEset 1.18.0Sara Aibar OK  OK  OK UNNEEDED, same version exists in internal repository
186/359LiebermanAidenHiC2009 0.20.0Felix Klein OK  OK  WARNINGS UNNEEDED, same version exists in internal repository
187/359ListerEtAlBSseq 1.14.0Kamal Kishore OK  OK  WARNINGS UNNEEDED, same version exists in internal repository
188/359lumiBarnes 1.22.0Pan Du OK  OK  WARNINGS UNNEEDED, same version exists in internal repository
189/359LungCancerACvsSCCGEO 1.18.0Adi Laurentiu Tarca OK  OK  OK UNNEEDED, same version exists in internal repository
190/359LungCancerLines 0.20.0Cory Barr OK  OK  OK UNNEEDED, same version exists in internal repository
191/359lungExpression 0.20.0Robert Scharpf OK  OK  OK UNNEEDED, same version exists in internal repository
192/359lydata 1.8.0Alex Pickering OK  OK  OK UNNEEDED, same version exists in internal repository
193/359M3DExampleData 1.8.0Tallulah Andrews OK  OK  WARNINGS UNNEEDED, same version exists in internal repository
194/359mammaPrintData 1.18.0Luigi Marchionni OK  OK  OK UNNEEDED, same version exists in internal repository
195/359mAPKLData 1.14.0Argiris Sakellariou OK  OK  WARNINGS UNNEEDED, same version exists in internal repository
196/359maqcExpression4plex 1.26.0Benilton Carvalho OK  OK  OK UNNEEDED, same version exists in internal repository
197/359MAQCsubset 1.20.0VJ Carey OK  OK  OK UNNEEDED, same version exists in internal repository
198/359MAQCsubsetAFX 1.20.0Laurent Gatto OK  OK  OK UNNEEDED, same version exists in internal repository
199/359MAQCsubsetILM 1.20.0Laurent Gatto OK  OK  OK UNNEEDED, same version exists in internal repository
200/359mCSEAdata 1.2.0Jordi Martorell Marugán OK  OK  OK UNNEEDED, same version exists in internal repository
201/359mcsurvdata 1.0.0Adria Caballe Mestres OK  OK  OK UNNEEDED, same version exists in internal repository
202/359MEDIPSData 1.18.0Lukas Chavez OK  OK  OK UNNEEDED, same version exists in internal repository
203/359MEEBOdata 1.20.0Agnes Paquet OK  OK  WARNINGS UNNEEDED, same version exists in internal repository
204/359MetaGxBreast 1.2.0Michael Zon OK  OK  OK UNNEEDED, same version exists in internal repository
205/359MetaGxOvarian 1.2.0Michael Zon OK  OK  WARNINGS UNNEEDED, same version exists in internal repository
206/359MetaGxPancreas 1.2.0Michael Zon OK  OK  OK UNNEEDED, same version exists in internal repository
207/359metaMSdata 1.18.0Ron Wehrens OK  OK  OK UNNEEDED, same version exists in internal repository
208/359MethylAidData 1.14.0M. van Iterson OK  OK  OK UNNEEDED, same version exists in internal repository
209/359methyvimData 1.4.0Nima Hejazi OK  OK  OK UNNEEDED, same version exists in internal repository
210/359microRNAome 1.4.0Matthew N. McCall OK  OK  OK UNNEEDED, same version exists in internal repository
211/359MIGSAdata 1.6.0Juan C. Rodriguez OK  OK  OK UNNEEDED, same version exists in internal repository
212/359minfiData 0.28.0Kasper Daniel Hansen OK  OK  OK UNNEEDED, same version exists in internal repository
213/359minfiDataEPIC 1.8.0Kasper Daniel Hansen OK  OK  OK UNNEEDED, same version exists in internal repository
214/359minionSummaryData 1.12.0Mike Smith OK  OK  OK UNNEEDED, same version exists in internal repository
215/359miRcompData 1.12.0Matthew N. McCall OK  OK  OK UNNEEDED, same version exists in internal repository
216/359miRNATarget 1.20.0Y-h. Taguchi OK  OK  OK UNNEEDED, same version exists in internal repository
217/359mitoODEdata 1.18.0Gregoire Pau OK  OK  OK UNNEEDED, same version exists in internal repository
218/359MMDiffBamSubset 1.18.0Gabriele Schweikert OK  OK  OK UNNEEDED, same version exists in internal repository
219/359mosaicsExample 1.20.0Dongjun Chung OK  OK  OK UNNEEDED, same version exists in internal repository
220/359mouse4302barcodevecs 1.20.0Matthew N. McCall OK  OK  OK UNNEEDED, same version exists in internal repository
221/359MSBdata 1.0.0Wolfgang Huber OK  OK  WARNINGS UNNEEDED, same version exists in internal repository
222/359msd16s 1.2.0Joseph N. Paulson OK  OK  OK UNNEEDED, same version exists in internal repository
223/359msdata 0.22.0Steffen Neumann , Laurent Gatto OK  OK  OK UNNEEDED, same version exists in internal repository
224/359msPurityData 1.10.0Thomas N. Lawson OK  OK  OK UNNEEDED, same version exists in internal repository
225/359msqc1 1.10.0Christian Panse OK  OK  OK UNNEEDED, same version exists in internal repository
226/359MSstatsBioData 1.4.0Meena Choi OK  OK  OK UNNEEDED, same version exists in internal repository
227/359mtbls2 1.12.0Steffen Neumann OK  OK  OK UNNEEDED, same version exists in internal repository
228/359MTseekerData 1.0.0Tim Triche, Jr. OK  OK  OK UNNEEDED, same version exists in internal repository
229/359MUGAExampleData 1.2.0Daniel Gatti OK  OK  OK UNNEEDED, same version exists in internal repository
230/359Mulder2012 0.22.0Xin Wang OK  OK  OK UNNEEDED, same version exists in internal repository
231/359mvoutData 1.18.0VJ Carey OK  OK  OK UNNEEDED, same version exists in internal repository
232/359NCIgraphData 1.18.0Laurent Jacob OK  OK  WARNINGS UNNEEDED, same version exists in internal repository
233/359Neve2006 0.20.0VJ Carey OK  OK  OK UNNEEDED, same version exists in internal repository
234/359NGScopyData 1.2.0Xiaobei Zhao OK  OK  OK UNNEEDED, same version exists in internal repository
235/359OMICsPCAdata 1.0.0Subhadeep Das OK  OK  OK UNNEEDED, same version exists in internal repository
236/359OnassisJavaLibs 1.4.2Eugenia Galeota OK  OK  OK UNNEEDED, same version exists in internal repository
237/359parathyroidSE 1.20.0Michael Love OK  OK  OK UNNEEDED, same version exists in internal repository
238/359pasilla 1.10.0Alejandro Reyes OK  OK  OK UNNEEDED, same version exists in internal repository
239/359pasillaBamSubset 0.20.0Hervé Pagès OK  OK  OK UNNEEDED, same version exists in internal repository
240/359PasillaTranscriptExpr 1.10.0Malgorzata Nowicka OK  OK  OK UNNEEDED, same version exists in internal repository
241/359PathNetData 1.18.0Jason B. Smith OK  OK  OK UNNEEDED, same version exists in internal repository
242/359pathprintGEOData 1.12.0Sokratis Kariotis OK  OK  OK UNNEEDED, same version exists in internal repository
243/359pcaGoPromoter.Hs.hg19 1.18.0Morten Hansen OK  OK  OK UNNEEDED, same version exists in internal repository
244/359pcaGoPromoter.Mm.mm9 1.18.0Morten Hansen OK  OK  OK UNNEEDED, same version exists in internal repository
245/359pcaGoPromoter.Rn.rn4 1.18.0Morten Hansen, OK  OK  OK UNNEEDED, same version exists in internal repository
246/359PCHiCdata 1.10.0Paula Freire-Pritchett OK  OK  OK UNNEEDED, same version exists in internal repository
247/359pcxnData 2.4.0Sokratis Kariotis OK  OK  OK UNNEEDED, same version exists in internal repository
248/359pd.atdschip.tiling 0.20.0Kristof De Beuf OK  OK  WARNINGS UNNEEDED, same version exists in internal repository
249/359pepDat 1.2.0Renan Sauteraud OK  OK  OK UNNEEDED, same version exists in internal repository
250/359PepsNMRData 1.0.0Manon Martin OK  OK  OK UNNEEDED, same version exists in internal repository
251/359PGPC 1.10.0Felix Klein OK  ERROR  skipped 
252/359plasFIA 1.10.0Alexis Delabriere OK  OK  OK UNNEEDED, same version exists in internal repository
253/359ppiData 0.20.0Bioconductor Package Maintainer OK  OK  WARNINGS UNNEEDED, same version exists in internal repository
254/359prebsdata 1.18.0Karolis Uziela OK  OK  OK UNNEEDED, same version exists in internal repository
255/359PREDAsampledata 0.22.0Francesco Ferrari OK  OK  OK UNNEEDED, same version exists in internal repository
256/359ProData 1.20.0Xiaochun Li OK  OK  OK UNNEEDED, same version exists in internal repository
257/359pRolocdata 1.20.0Laurent Gatto OK  OK  OK UNNEEDED, same version exists in internal repository
258/359prostateCancerCamcap 1.10.0Mark Dunning OK  OK  OK UNNEEDED, same version exists in internal repository
259/359prostateCancerGrasso 1.10.0Mark Dunning OK  OK  OK UNNEEDED, same version exists in internal repository
260/359prostateCancerStockholm 1.10.0Mark Dunning OK  OK  OK UNNEEDED, same version exists in internal repository
261/359prostateCancerTaylor 1.10.0Mark Dunning OK  OK  OK UNNEEDED, same version exists in internal repository
262/359prostateCancerVarambally 1.10.0Mark Dunning OK  OK  OK UNNEEDED, same version exists in internal repository
263/359PtH2O2lipids 1.8.0James Collins OK  OK  WARNINGS UNNEEDED, same version exists in internal repository
264/359pumadata 2.18.0Richard Pearson OK  OK  OK UNNEEDED, same version exists in internal repository
265/359PWMEnrich.Dmelanogaster.background 4.16.0Robert Stojnic OK  OK  WARNINGS UNNEEDED, same version exists in internal repository
266/359PWMEnrich.Hsapiens.background 4.16.0Robert Stojnic OK  OK  WARNINGS UNNEEDED, same version exists in internal repository
267/359PWMEnrich.Mmusculus.background 4.16.0Robert Stojnic OK  OK  OK UNNEEDED, same version exists in internal repository
268/359QDNAseq.hg19 1.12.0Daoud Sie OK  OK  OK UNNEEDED, same version exists in internal repository
269/359QDNAseq.mm10 1.12.0Daoud Sie OK  OK  OK UNNEEDED, same version exists in internal repository
270/359qPLEXdata 1.0.1Kamal Kishore Developer OK  OK  WARNINGS UNNEEDED, same version exists in internal repository
271/359QUBICdata 1.10.0Yu Zhang OK  OK  OK UNNEEDED, same version exists in internal repository
272/359rcellminerData 2.4.0Augustin Luna , Vinodh Rajapakse OK  OK  WARNINGS UNNEEDED, same version exists in internal repository
273/359RcisTarget.hg19.motifDBs.cisbpOnly.500bp 1.2.0Sara Aibar OK  OK  OK UNNEEDED, same version exists in internal repository
274/359RegParallel 1.0.0Kevin Blighe OK  OK  OK UNNEEDED, same version exists in internal repository
275/359restfulSEData 1.4.0Bioconductor Package Maintainer OK  OK  OK UNNEEDED, same version exists in internal repository
276/359RforProteomics 1.20.0Laurent Gatto OK  OK  WARNINGS UNNEEDED, same version exists in internal repository
277/359RGMQLlib 1.2.0Simone Pallotta OK  OK  OK UNNEEDED, same version exists in internal repository
278/359rheumaticConditionWOLLBOLD 1.20.0Alejandro Quiroz-Zarate OK  OK  OK UNNEEDED, same version exists in internal repository
279/359RIPSeekerData 1.18.0Alejandro Reyes OK  OK  WARNINGS UNNEEDED, same version exists in internal repository
280/359RITANdata 1.6.0Michael Zimmermann OK  OK  OK UNNEEDED, same version exists in internal repository
281/359RMassBankData 1.20.0Michael Stravs, Emma Schymanski OK  OK  OK UNNEEDED, same version exists in internal repository
282/359RNAinteractMAPK 1.20.0Bernd Fischer OK  OK  OK UNNEEDED, same version exists in internal repository
283/359RNAseqData.HNRNPC.bam.chr14 0.20.0Hervé Pagès OK  OK  OK UNNEEDED, same version exists in internal repository
284/359RNASeqRData 1.0.0Kuan-Hao Chao OK  OK  OK UNNEEDED, same version exists in internal repository
285/359RnaSeqSampleSizeData 1.14.0Shilin Zhao OK  OK  OK UNNEEDED, same version exists in internal repository
286/359RnBeads.hg19 1.14.0RnBeadsAnnotationCreator OK  OK  OK UNNEEDED, same version exists in internal repository
287/359RnBeads.hg38 1.14.0RnBeadsAnnotationCreator OK  OK  OK UNNEEDED, same version exists in internal repository
288/359RnBeads.mm10 1.14.0RnBeadsAnnotationCreator OK  OK  OK UNNEEDED, same version exists in internal repository
289/359RnBeads.mm9 1.14.0RnBeadsAnnotationCreator OK  OK  OK UNNEEDED, same version exists in internal repository
290/359RnBeads.rn5 1.14.0RnBeadsAnnotationCreator OK  OK  OK UNNEEDED, same version exists in internal repository
291/359RRBSdata 1.2.0Katja Hebestreit OK  OK  OK UNNEEDED, same version exists in internal repository
292/359rRDPData 1.2.0Michael Hahsler OK  OK  OK UNNEEDED, same version exists in internal repository
293/359RTCGA.clinical 20151101.12.0Marcin Kosinski OK  OK  OK UNNEEDED, same version exists in internal repository
294/359RTCGA.CNV 1.10.0Marcin Kosinski OK  OK  OK UNNEEDED, same version exists in internal repository
295/359RTCGA.methylation 1.10.0Marcin Kosinski OK  OK  OK UNNEEDED, same version exists in internal repository
296/359RTCGA.miRNASeq 1.10.0Marcin Kosinski OK  OK  OK UNNEEDED, same version exists in internal repository
297/359RTCGA.mRNA 1.10.0Marcin Kosinski OK  OK  OK UNNEEDED, same version exists in internal repository
298/359RTCGA.mutations 20151101.12.0Marcin Kosinski OK  OK  OK UNNEEDED, same version exists in internal repository
299/359RTCGA.PANCAN12 1.10.0Marcin Kosinski OK  OK  OK UNNEEDED, same version exists in internal repository
300/359RTCGA.rnaseq 20151101.12.0Marcin Kosinski OK  OK  OK UNNEEDED, same version exists in internal repository
301/359RTCGA.RPPA 1.10.0Marcin Kosinski OK  OK  OK UNNEEDED, same version exists in internal repository
302/359RUVnormalizeData 1.2.0Laurent Jacob OK  OK  OK UNNEEDED, same version exists in internal repository
303/359sampleClassifierData 1.6.0Khadija El Amrani OK  OK  OK UNNEEDED, same version exists in internal repository
304/359SCLCBam 1.14.0Oscar Krijgsman OK  OK  OK UNNEEDED, same version exists in internal repository
305/359scRNAseq 1.8.0Davide Risso OK  OK  OK UNNEEDED, same version exists in internal repository
306/359seq2pathway.data 1.14.0Xinan Holly Yang OK  OK  OK UNNEEDED, same version exists in internal repository
307/359seqc 1.16.0Yang Liao and Wei Shi OK  OK  OK UNNEEDED, same version exists in internal repository
308/359seqCNA.annot 1.18.0David Mosen-Ansorena OK  OK  OK UNNEEDED, same version exists in internal repository
309/359serumStimulation 1.18.0Morten Hansen, OK  OK  OK UNNEEDED, same version exists in internal repository
310/359sesameData 1.0.0Wanding Zhou OK  OK  OK UNNEEDED, same version exists in internal repository
311/359seventyGeneData 1.18.0Luigi Marchionni OK  OK  OK UNNEEDED, same version exists in internal repository
312/359shinyMethylData 1.2.0Jean-Philippe Fortin OK  OK  OK UNNEEDED, same version exists in internal repository
313/359simpIntLists 1.18.0Kircicegi Korkmaz OK  OK  WARNINGS UNNEEDED, same version exists in internal repository
314/359Single.mTEC.Transcriptomes 1.10.0Alejandro Reyes OK  OK  WARNINGS UNNEEDED, same version exists in internal repository
315/359SNAData 1.28.0Denise Scholtens OK  OK  OK UNNEEDED, same version exists in internal repository
316/359SNAGEEdata 1.18.0David Venet OK  OK  OK UNNEEDED, same version exists in internal repository
317/359SNPhoodData 1.12.0Christian Arnold OK  OK  OK UNNEEDED, same version exists in internal repository
318/359SomatiCAData 1.20.0Mengjie Chen OK  OK  WARNINGS UNNEEDED, same version exists in internal repository
319/359SomaticCancerAlterations 1.18.0Julian Gehring OK  OK  OK UNNEEDED, same version exists in internal repository
320/359SpikeIn 1.24.0Rafael A. Irizarry OK  OK  WARNINGS UNNEEDED, same version exists in internal repository
321/359SpikeInSubset 1.22.0Rafael A. Irizarry OK  OK  WARNINGS UNNEEDED, same version exists in internal repository
322/359stemHypoxia 1.18.0Cristobal Fresno OK  OK  OK UNNEEDED, same version exists in internal repository
323/359stjudem 1.22.0Joern Toedling OK  OK  OK UNNEEDED, same version exists in internal repository
324/359SVM2CRMdata 1.14.0Guidantonio Malagoli Tagliazucchi OK  OK  WARNINGS UNNEEDED, same version exists in internal repository
325/359synapterdata 1.20.0Laurent Gatto OK  OK  OK UNNEEDED, same version exists in internal repository
326/359systemPipeRdata 1.10.0Thomas Girke OK  OK  OK UNNEEDED, same version exists in internal repository
327/359TabulaMurisData 1.0.0Charlotte Soneson OK  OK  OK UNNEEDED, same version exists in internal repository
328/359TargetScoreData 1.18.0Yue Li OK  OK  OK UNNEEDED, same version exists in internal repository
329/359TargetSearchData 1.20.0Alvaro Cuadros-Inostroza OK  OK  OK UNNEEDED, same version exists in internal repository
330/359TBX20BamSubset 1.18.0D. Bindreither OK  OK  OK UNNEEDED, same version exists in internal repository
331/359TCGAbiolinksGUI.data 1.2.0Tiago Chedraoui Silva OK  OK  OK UNNEEDED, same version exists in internal repository
332/359TCGAcrcmiRNA 1.2.0Claudio Isella OK  OK  OK UNNEEDED, same version exists in internal repository
333/359TCGAcrcmRNA 1.2.0Claudio Isella OK  OK  OK UNNEEDED, same version exists in internal repository
334/359TCGAMethylation450k 1.18.0Sean Davis OK  OK  OK UNNEEDED, same version exists in internal repository
335/359tcgaWGBSData.hg19 1.0.0Divy Kangeyan OK  OK  OK UNNEEDED, same version exists in internal repository
336/359TCGAWorkflowData 1.6.0Tiago Chedraoui Silva OK  OK  OK UNNEEDED, same version exists in internal repository
337/359TENxBrainData 1.2.0Bioconductor Package Maintainer OK  OK  WARNINGS UNNEEDED, same version exists in internal repository
338/359TENxPBMCData 1.0.0Stephanie Hicks OK  OK  OK UNNEEDED, same version exists in internal repository
339/359TimerQuant 1.12.0Joseph Barry OK  OK  OK UNNEEDED, same version exists in internal repository
340/359tinesath1cdf 1.20.0Tine Casneuf OK  OK  WARNINGS UNNEEDED, same version exists in internal repository
341/359tinesath1probe 1.20.0Tine Casneuf OK  OK  WARNINGS UNNEEDED, same version exists in internal repository
342/359tissueTreg 1.2.0Charles Imbusch OK  OK  OK UNNEEDED, same version exists in internal repository
343/359tofsimsData 1.10.0Lorenz Gerber OK  OK  OK UNNEEDED, same version exists in internal repository
344/359topdownrdata 1.4.0Sebastian Gibb OK  OK  OK UNNEEDED, same version exists in internal repository
345/359tweeDEseqCountData 1.20.0Juan R Gonzalez OK  OK  OK UNNEEDED, same version exists in internal repository
346/359tximportData 1.10.0Michael Love OK  OK  OK UNNEEDED, same version exists in internal repository
347/359VariantToolsData 1.6.0Michael Lawrence OK  OK  WARNINGS UNNEEDED, same version exists in internal repository
348/359vulcandata 1.4.0Federico M. Giorgi OK  OK  OK UNNEEDED, same version exists in internal repository
349/359waveTilingData 1.18.0Kristof De Beuf OK  OK  WARNINGS UNNEEDED, same version exists in internal repository
350/359WES.1KG.WUGSC 1.14.0Yuchao Jiang OK  OK  OK UNNEEDED, same version exists in internal repository
351/359XhybCasneuf 1.20.0Tineke Casneuf OK  OK  WARNINGS UNNEEDED, same version exists in internal repository
352/359yeastCC 1.22.0Sandrine Dudoit OK  OK  WARNINGS UNNEEDED, same version exists in internal repository
353/359yeastExpData 0.28.0R. Gentleman OK  OK  WARNINGS UNNEEDED, same version exists in internal repository
354/359yeastGSData 0.20.0R. Gentleman OK  OK  WARNINGS UNNEEDED, same version exists in internal repository
355/359yeastNagalakshmi 1.18.0Bioconductor Package Maintainer OK  OK  OK UNNEEDED, same version exists in internal repository
356/359yeastRNASeq 0.20.0J. Bullard OK  OK  WARNINGS UNNEEDED, same version exists in internal repository
357/359yri1kgv 0.24.0VJ Carey OK  OK  OK UNNEEDED, same version exists in internal repository
358/359yriMulti 0.12.0VJ Carey OK  OK  WARNINGS UNNEEDED, same version exists in internal repository
359/359zebrafishRNASeq 1.2.0Davide Risso OK  OK  OK UNNEEDED, same version exists in internal repository