Workflows build report for BioC 3.7

This page was generated on 2018-06-22 12:45:17 -0400 (Fri, 22 Jun 2018).

git log

Snapshot Date: 2018-06-22 07:35:07 -0400 (Fri, 22 Jun 2018)

HostnameOSArch (*)Platform label (**)R versionInstalled pkgs
malbec2Linux (Ubuntu 16.04.1 LTS)x86_64x86_64-linux-gnu3.5.0 (2018-04-23) -- "Joy in Playing" 3243
tokay2Windows Server 2012 R2 Standardx64mingw32 / x86_64-w64-mingw323.5.0 Patched (2018-05-03 r74699) -- "Joy in Playing" 3065
Click on any hostname to see more info about the system (e.g. compilers)      (*) as reported by 'uname -p', except on Windows and Mac OS X      (**) as reported by 'gcc -v'

Package status is indicated by one of the following glyphs
 TIMEOUT  INSTALL, BUILD or BUILD WEB VIG of package took more than 120 minutes Use the check boxes to show only packages with the selected status types.
 ERROR  INSTALL, BUILD or BUILD WEB VIG of package failed
 OK  INSTALL, BUILD or BUILD WEB VIG of package was OK
 skipped  BUILD WEB VIG of package was skipped because the BUILD step failed
 NA  BUILD or BUILD WEB VIG result is not available because of an anomaly in the Build System
Click on any glyph in the report below to access the detailed results.
Package propagation status is indicated by one of the following LEDs
YES YES: Package was propagated because it didn't previously exist or version was bumped
NO NO: Package was not propagated because of a problem (impossible dependencies, or version lower than what is already propagated)
UNNEEDED UNNEEDED: Package was not propagated because it is already in the repository with this version. A version bump is required in order to propagate it

A crossed-out package name indicates the package is deprecated


SUMMARYOS / ArchINSTALLBUILD
malbec2 Linux (Ubuntu 16.04.1 LTS) / x86_64 
00210
0516
tokay2 Windows Server 2012 R2 Standard / x64 
00180
0414
Package 1/21HostnameOS / ArchINSTALLBUILD
annotation 1.2.0
Bioconductor Package Maintainer
Last Commit: 74b0e70
Last Changed Date: 2018-04-30 10:07:09 -0400
malbec2 Linux (Ubuntu 16.04.1 LTS) / x86_64  OK  OK UNNEEDED, same version exists in internal repository
tokay2 Windows Server 2012 R2 Standard / x64  OK  OK 
Package 2/21HostnameOS / ArchINSTALLBUILD
arrays 1.4.0
Bioconductor Package Maintainer
Last Commit: 0b23cf3
Last Changed Date: 2018-04-30 10:07:09 -0400
malbec2 Linux (Ubuntu 16.04.1 LTS) / x86_64  OK  OK UNNEEDED, same version exists in internal repository
tokay2 Windows Server 2012 R2 Standard / x64  OK  OK 
Package 3/21HostnameOS / ArchINSTALLBUILD
BiocMetaWorkflow 1.0.0
Mike Smith
Last Commit: a2556bc
Last Changed Date: 2018-04-30 10:07:09 -0400
malbec2 Linux (Ubuntu 16.04.1 LTS) / x86_64  OK  ERROR 
tokay2 Windows Server 2012 R2 Standard / x64  OK  ERROR 
Package 4/21HostnameOS / ArchINSTALLBUILD
chipseqDB 1.2.0
Aaron Lun
Last Commit: 0732991
Last Changed Date: 2018-04-30 10:07:09 -0400
malbec2 Linux (Ubuntu 16.04.1 LTS) / x86_64  OK  OK UNNEEDED, same version exists in internal repository
tokay2 Windows Server 2012 R2 Standard / x64 ...NOT SUPPORTED...
Package 5/21HostnameOS / ArchINSTALLBUILD
cytofWorkflow 1.2.0
Malgorzata Nowicka
Last Commit: e4bd529
Last Changed Date: 2018-04-30 10:07:09 -0400
malbec2 Linux (Ubuntu 16.04.1 LTS) / x86_64  OK  ERROR 
tokay2 Windows Server 2012 R2 Standard / x64  OK  ERROR 
Package 6/21HostnameOS / ArchINSTALLBUILD
EGSEA123 1.2.0
Matthew Ritchie
Last Commit: 824254d
Last Changed Date: 2018-04-30 10:07:09 -0400
malbec2 Linux (Ubuntu 16.04.1 LTS) / x86_64  OK  OK UNNEEDED, same version exists in internal repository
tokay2 Windows Server 2012 R2 Standard / x64  OK  OK 
Package 7/21HostnameOS / ArchINSTALLBUILD
eQTL 1.2.0
Vincent Carey
Last Commit: 76b453a
Last Changed Date: 2018-04-30 10:07:09 -0400
malbec2 Linux (Ubuntu 16.04.1 LTS) / x86_64  OK  OK UNNEEDED, same version exists in internal repository
tokay2 Windows Server 2012 R2 Standard / x64  OK  OK 
Package 8/21HostnameOS / ArchINSTALLBUILD
ExpressionNormalizationWorkflow 1.4.0
Karthikeyan Murugesan
Last Commit: d4865f5
Last Changed Date: 2018-04-30 10:07:09 -0400
malbec2 Linux (Ubuntu 16.04.1 LTS) / x86_64  OK  OK UNNEEDED, same version exists in internal repository
tokay2 Windows Server 2012 R2 Standard / x64  OK  OK 
Package 9/21HostnameOS / ArchINSTALLBUILD
generegulation 1.2.0
Bioconductor Package Maintainer
Last Commit: 9caf044
Last Changed Date: 2018-04-30 10:07:09 -0400
malbec2 Linux (Ubuntu 16.04.1 LTS) / x86_64  OK  OK UNNEEDED, same version exists in internal repository
tokay2 Windows Server 2012 R2 Standard / x64  OK  OK 
Package 10/21HostnameOS / ArchINSTALLBUILD
highthroughputassays 1.2.0
Bioconductor Package Maintainer
Last Commit: d547658
Last Changed Date: 2018-04-30 10:07:09 -0400
malbec2 Linux (Ubuntu 16.04.1 LTS) / x86_64  OK  OK UNNEEDED, same version exists in internal repository
tokay2 Windows Server 2012 R2 Standard / x64 ...NOT SUPPORTED...
Package 11/21HostnameOS / ArchINSTALLBUILD
liftOver 1.2.0
Bioconductor Package Maintainer
Last Commit: 05ae6d7
Last Changed Date: 2018-04-30 10:07:09 -0400
malbec2 Linux (Ubuntu 16.04.1 LTS) / x86_64  OK  OK UNNEEDED, same version exists in internal repository
tokay2 Windows Server 2012 R2 Standard / x64  OK  OK 
Package 12/21HostnameOS / ArchINSTALLBUILD
methylationArrayAnalysis 1.2.0
Jovana Maksimovic
Last Commit: 801bd08
Last Changed Date: 2018-04-30 10:07:09 -0400
malbec2 Linux (Ubuntu 16.04.1 LTS) / x86_64  OK  OK UNNEEDED, same version exists in internal repository
tokay2 Windows Server 2012 R2 Standard / x64  OK  OK 
Package 13/21HostnameOS / ArchINSTALLBUILD
proteomics 1.2.0
Bioconductor Package Maintainer
Last Commit: 7254af0
Last Changed Date: 2018-04-30 10:07:09 -0400
malbec2 Linux (Ubuntu 16.04.1 LTS) / x86_64  OK  OK UNNEEDED, same version exists in internal repository
tokay2 Windows Server 2012 R2 Standard / x64  OK  OK 
Package 14/21HostnameOS / ArchINSTALLBUILD
recountWorkflow 1.2.0
Leonardo Collado-Torres
Last Commit: 8623ed5
Last Changed Date: 2018-04-30 10:07:09 -0400
malbec2 Linux (Ubuntu 16.04.1 LTS) / x86_64  OK  ERROR 
tokay2 Windows Server 2012 R2 Standard / x64  OK  ERROR 
Package 15/21HostnameOS / ArchINSTALLBUILD
RNAseq123 1.2.0
Matthew Ritchie
Last Commit: 662df8f
Last Changed Date: 2018-04-30 10:07:09 -0400
malbec2 Linux (Ubuntu 16.04.1 LTS) / x86_64  OK  OK UNNEEDED, same version exists in internal repository
tokay2 Windows Server 2012 R2 Standard / x64  OK  OK 
Package 16/21HostnameOS / ArchINSTALLBUILD
rnaseqGene 1.2.0
Michael Love
Last Commit: d1689af
Last Changed Date: 2018-04-30 10:07:09 -0400
malbec2 Linux (Ubuntu 16.04.1 LTS) / x86_64  OK  OK UNNEEDED, same version exists in internal repository
tokay2 Windows Server 2012 R2 Standard / x64  OK  OK 
Package 17/21HostnameOS / ArchINSTALLBUILD
RnaSeqGeneEdgeRQL 1.2.3
Yunshun Chen , Gordon Smyth
Last Commit: 6295dd7
Last Changed Date: 2018-05-13 20:19:40 -0400
malbec2 Linux (Ubuntu 16.04.1 LTS) / x86_64  OK  OK UNNEEDED, same version exists in internal repository
tokay2 Windows Server 2012 R2 Standard / x64  OK  OK 
Package 18/21HostnameOS / ArchINSTALLBUILD
sequencing 1.2.0
Martin Morgan
Last Commit: 6320be7
Last Changed Date: 2018-04-30 10:07:09 -0400
malbec2 Linux (Ubuntu 16.04.1 LTS) / x86_64  OK  OK UNNEEDED, same version exists in internal repository
tokay2 Windows Server 2012 R2 Standard / x64  OK  OK 
Package 19/21HostnameOS / ArchINSTALLBUILD
simpleSingleCell 1.2.1
Aaron Lun
Last Commit: f46256b
Last Changed Date: 2018-05-23 11:30:21 -0400
malbec2 Linux (Ubuntu 16.04.1 LTS) / x86_64  OK  ERROR 
tokay2 Windows Server 2012 R2 Standard / x64 ...NOT SUPPORTED...
Package 20/21HostnameOS / ArchINSTALLBUILD
TCGAWorkflow 1.2.0
Tiago Chedraoui Silva
Last Commit: f07f804
Last Changed Date: 2018-04-30 10:07:09 -0400
malbec2 Linux (Ubuntu 16.04.1 LTS) / x86_64  OK  ERROR 
tokay2 Windows Server 2012 R2 Standard / x64  OK  ERROR 
Package 21/21HostnameOS / ArchINSTALLBUILD
variants 1.2.0
Bioconductor Package Maintainer
Last Commit: f99aa58
Last Changed Date: 2018-04-30 10:07:09 -0400
malbec2 Linux (Ubuntu 16.04.1 LTS) / x86_64  OK  OK UNNEEDED, same version exists in internal repository
tokay2 Windows Server 2012 R2 Standard / x64  OK  OK