Long tests report for BioC 3.7

This page was generated on 2017-12-09 16:45:05 -0500 (Sat, 09 Dec 2017).

git log

Snapshot Date: 2017-12-09 07:35:02 -0500 (Sat, 09 Dec 2017)

HostnameOSArch (*)Platform label (**)R versionInstalled pkgs
malbec2Linux (Ubuntu 16.04.1 LTS)x86_64x86_64-linux-gnuR Under development (unstable) (2017-12-05 r73840) -- "Unsuffered Consequences" 1959
merida2OS X 10.11.6 El Capitanx86_64x86_64-apple-darwin15.6.0R Under development (unstable) (2017-12-04 r73829) -- "Unsuffered Consequences" 1885
Click on any hostname to see more info about the system (e.g. compilers)      (*) as reported by 'uname -p', except on Windows and Mac OS X      (**) as reported by 'gcc -v'

Package status is indicated by one of the following glyphs
 TIMEOUT  CHECK of package took more than 360 minutes Use the check boxes to show only packages with the selected status types.
 ERROR  CHECK of package produced errors
 WARNINGS  CHECK of package produced warnings
 OK  CHECK of package was OK
 NA  CHECK result is not available because of an anomaly in the Build System
Click on any glyph in the report below to access the detailed results.

SUMMARYOS / ArchCHECK
malbec2 Linux (Ubuntu 16.04.1 LTS) / x86_64 
0120
merida2 OS X 10.11.6 El Capitan / x86_64 
0120
Package 1/3HostnameOS / ArchCHECK
BiocParallel 1.13.0
Bioconductor Package Maintainer
Last Commit: ff9c9b9
Last Changed Date: 2017-11-02 13:03:13 -0500
malbec2 Linux (Ubuntu 16.04.1 LTS) / x86_64  WARNINGS 
merida2 OS X 10.11.6 El Capitan / x86_64  WARNINGS 
Package 2/3HostnameOS / ArchCHECK
GenomicFeatures 1.31.0
Bioconductor Package Maintainer
Last Commit: 4e6997f
Last Changed Date: 2017-11-02 15:22:23 -0500
malbec2 Linux (Ubuntu 16.04.1 LTS) / x86_64  WARNINGS 
merida2 OS X 10.11.6 El Capitan / x86_64  WARNINGS 
Package 3/3HostnameOS / ArchCHECK
HDF5Array 1.7.1
Hervé Pagès
Last Commit: bd5760c
Last Changed Date: 2017-11-23 17:00:19 -0500
malbec2 Linux (Ubuntu 16.04.1 LTS) / x86_64  ERROR 
merida2 OS X 10.11.6 El Capitan / x86_64  ERROR