Back to Multiple platform build/check report for BioC 3.7
AB[C]DEFGHIJKLMNOPQRSTUVWXYZ

CHECK report for cnvGSA on tokay2

This page was generated on 2018-01-19 07:17:40 -0500 (Fri, 19 Jan 2018).

Package 267/1482HostnameOS / ArchINSTALLBUILDCHECKBUILD BIN
cnvGSA 1.23.0
Joseph Lugo
Snapshot Date: 2018-01-18 17:01:21 -0500 (Thu, 18 Jan 2018)
URL: https://git.bioconductor.org/packages/cnvGSA
Branch: master
Last Commit: aefe8ba
Last Changed Date: 2017-10-30 12:52:17 -0500 (Mon, 30 Oct 2017)
malbec2 Linux (Ubuntu 16.04.1 LTS) / x86_64  OK  OK  OK UNNEEDED, same version exists in internal repository
tokay2 Windows Server 2012 R2 Standard / x64  OK  OK [ OK ] OK UNNEEDED, same version exists in internal repository
merida2 OS X 10.11.6 El Capitan / x86_64  OK  OK  OK  OK UNNEEDED, same version exists in internal repository

Summary

Package: cnvGSA
Version: 1.23.0
Command: rm -rf cnvGSA.buildbin-libdir cnvGSA.Rcheck && mkdir cnvGSA.buildbin-libdir cnvGSA.Rcheck && C:\Users\biocbuild\bbs-3.7-bioc\R\bin\R.exe CMD INSTALL --build --merge-multiarch --library=cnvGSA.buildbin-libdir cnvGSA_1.23.0.tar.gz >cnvGSA.Rcheck\00install.out 2>&1 && cp cnvGSA.Rcheck\00install.out cnvGSA-install.out && C:\Users\biocbuild\bbs-3.7-bioc\R\bin\R.exe CMD check --library=cnvGSA.buildbin-libdir --install="check:cnvGSA-install.out" --force-multiarch --no-vignettes --timings cnvGSA_1.23.0.tar.gz
StartedAt: 2018-01-18 23:03:47 -0500 (Thu, 18 Jan 2018)
EndedAt: 2018-01-18 23:05:30 -0500 (Thu, 18 Jan 2018)
EllapsedTime: 103.2 seconds
RetCode: 0
Status:  OK  
CheckDir: cnvGSA.Rcheck
Warnings: 0

Command output

##############################################################################
##############################################################################
###
### Running command:
###
###   rm -rf cnvGSA.buildbin-libdir cnvGSA.Rcheck && mkdir cnvGSA.buildbin-libdir cnvGSA.Rcheck && C:\Users\biocbuild\bbs-3.7-bioc\R\bin\R.exe CMD INSTALL --build --merge-multiarch --library=cnvGSA.buildbin-libdir cnvGSA_1.23.0.tar.gz >cnvGSA.Rcheck\00install.out 2>&1 && cp cnvGSA.Rcheck\00install.out cnvGSA-install.out  &&  C:\Users\biocbuild\bbs-3.7-bioc\R\bin\R.exe CMD check --library=cnvGSA.buildbin-libdir --install="check:cnvGSA-install.out" --force-multiarch --no-vignettes --timings cnvGSA_1.23.0.tar.gz
###
##############################################################################
##############################################################################


* using log directory 'C:/Users/biocbuild/bbs-3.7-bioc/meat/cnvGSA.Rcheck'
* using R Under development (unstable) (2018-01-02 r74023)
* using platform: x86_64-w64-mingw32 (64-bit)
* using session charset: ISO8859-1
* using option '--no-vignettes'
* checking for file 'cnvGSA/DESCRIPTION' ... OK
* checking extension type ... Package
* this is package 'cnvGSA' version '1.23.0'
* checking package namespace information ... OK
* checking package dependencies ... OK
* checking if this is a source package ... OK
* checking if there is a namespace ... OK
* checking for hidden files and directories ... OK
* checking for portable file names ... OK
* checking whether package 'cnvGSA' can be installed ... OK
* checking installed package size ... OK
* checking package directory ... OK
* checking 'build' directory ... OK
* checking DESCRIPTION meta-information ... OK
* checking top-level files ... OK
* checking for left-over files ... OK
* checking index information ... OK
* checking package subdirectories ... OK
* checking R files for non-ASCII characters ... OK
* checking R files for syntax errors ... OK
* loading checks for arch 'i386'
** checking whether the package can be loaded ... OK
** checking whether the package can be loaded with stated dependencies ... OK
** checking whether the package can be unloaded cleanly ... OK
** checking whether the namespace can be loaded with stated dependencies ... OK
** checking whether the namespace can be unloaded cleanly ... OK
* loading checks for arch 'x64'
** checking whether the package can be loaded ... OK
** checking whether the package can be loaded with stated dependencies ... OK
** checking whether the package can be unloaded cleanly ... OK
** checking whether the namespace can be loaded with stated dependencies ... OK
** checking whether the namespace can be unloaded cleanly ... OK
* checking dependencies in R code ... NOTE
Packages in Depends field not imported from:
  'brglm' 'doParallel' 'foreach' 'splitstackshape'
  These packages need to be imported from (in the NAMESPACE file)
  for when this namespace is loaded but not attached.
* checking S3 generic/method consistency ... OK
* checking replacement functions ... OK
* checking foreign function calls ... OK
* checking R code for possible problems ... NOTE
cnvGSAgsTables: no visible global function definition for 'detectCores'
cnvGSAgsTables: no visible binding for global variable 'SID'
cnvGSAgsTables: no visible binding for global variable 'geneID_TYPE'
cnvGSAgsTables: no visible binding for global variable 'SubjCnvKey'
cnvGSAgsTables: no visible global function definition for
  'registerDoParallel'
cnvGSAgsTables: no visible global function definition for '%dopar%'
cnvGSAgsTables: no visible global function definition for 'foreach'
cnvGSAgsTables: no visible binding for global variable 'i'
cnvGSAgsTables: no visible binding for global variable 'CHR'
cnvGSAgsTables: no visible binding for global variable 'BP1'
cnvGSAgsTables: no visible binding for global variable 'BP2'
cnvGSAgsTables: no visible binding for global variable 'TYPE'
cnvGSAgsTables: no visible binding for global variable 'geneID'
cnvGSAgsTables: no visible binding for global variable 'Symbol'
cnvGSAgsTables: no visible binding for global variable 'Symbol_TYPE'
cnvGSAgsTables: no visible binding for global variable 'GsKey'
cnvGSAlogRegTest: no visible binding for global variable 'GsID'
cnvGSAlogRegTest: no visible binding for global variable 'GsKey'
cnvGSAlogRegTest: no visible binding for global variable 'OlpKL_SID'
cnvGSAlogRegTest : f.testGLM_wrap: no visible binding for global
  variable 'Condition'
cnvGSAlogRegTest : f.testGLM_wrap: no visible global function
  definition for 'detectCores'
cnvGSAlogRegTest : f.testGLM_wrap: no visible global function
  definition for 'registerDoParallel'
cnvGSAlogRegTest : f.testGLM_wrap: no visible global function
  definition for '%dopar%'
cnvGSAlogRegTest : f.testGLM_wrap: no visible global function
  definition for 'foreach'
cnvGSAlogRegTest : f.testGLM_wrap: no visible binding for global
  variable 'i'
cnvGSAlogRegTest : f.testGLM_unit: no visible global function
  definition for 'glm'
cnvGSAlogRegTest : f.testGLM_unit: no visible global function
  definition for 'as.formula'
cnvGSAlogRegTest : f.testGLM_unit: no visible global function
  definition for 'binomial'
cnvGSAlogRegTest : f.testGLM_unit: no visible binding for global
  variable 'logit'
cnvGSAlogRegTest : f.testGLM_unit: no visible global function
  definition for 'anova'
cnvGSAlogRegTest: no visible global function definition for 'p.adjust'
cnvGSAlogRegTest: no visible global function definition for
  'write.table'
f.enrProcess: no visible global function definition for 'write.table'
f.makeViz: no visible global function definition for 'write.table'
f.makeViz: no visible global function definition for 'pdf'
f.makeViz: no visible global function definition for 'par'
f.makeViz: no visible global function definition for 'barplot'
f.makeViz: no visible global function definition for 'dev.off'
f.readConfig: no visible global function definition for 'read.table'
f.readData: no visible global function definition for 'read.table'
f.readData: no visible binding for global variable 'IID'
f.readData: no visible binding for global variable 'FID'
f.readData: no visible binding for global variable 'AFF'
f.readData: no visible binding for global variable 'SID'
f.readData: no visible binding for global variable 'gs_all.ls'
f.readData: no visible binding for global variable 'gsid2name.chv'
f.readData: no visible global function definition for 'GRanges'
f.readData: no visible global function definition for 'Rle'
f.readData: no visible global function definition for 'IRanges'
f.readData: no visible global function definition for 'strand'
f.readData: no visible global function definition for 'start'
f.readData: no visible global function definition for 'ranges'
f.readData: no visible global function definition for 'end'
f.readData: no visible global function definition for 'mcols'
f.readData: no visible binding for global variable 'OlpKL_CNV'
f.readData: no visible global function definition for 'stack'
f.readData: no visible binding for global variable 'geneID_type'
f.readData: no visible binding for global variable 'CnvKey'
f.readData: no visible binding for global variable 'OlpKL_SID'
f.readData: no visible binding for global variable 'geneID_TYPE'
f.readData: no visible binding for global variable 'SubjCnvKey'
f.readData: no visible binding for global variable 'GsKey'
f.readData: no visible binding for global variable 'GsID'
f.readData: no visible binding for global variable 'GsName'
f.readData: no visible global function definition for 'cSplit'
f.readData: no visible binding for global variable 'Symbol'
f.readData: no visible global function definition for 'aggregate'
Undefined global functions or variables:
  %dopar% AFF BP1 BP2 CHR CnvKey Condition FID GRanges GsID GsKey
  GsName IID IRanges OlpKL_CNV OlpKL_SID Rle SID SubjCnvKey Symbol
  Symbol_TYPE TYPE aggregate anova as.formula barplot binomial cSplit
  detectCores dev.off end foreach geneID geneID_TYPE geneID_type glm
  gs_all.ls gsid2name.chv i logit mcols p.adjust par pdf ranges
  read.table registerDoParallel stack start strand write.table
Consider adding
  importFrom("grDevices", "dev.off", "pdf")
  importFrom("graphics", "barplot", "par")
  importFrom("stats", "aggregate", "anova", "as.formula", "binomial",
             "end", "glm", "p.adjust", "start")
  importFrom("utils", "read.table", "stack", "write.table")
to your NAMESPACE file.
* checking Rd files ... OK
* checking Rd metadata ... OK
* checking Rd cross-references ... OK
* checking for missing documentation entries ... OK
* checking for code/documentation mismatches ... OK
* checking Rd \usage sections ... OK
* checking Rd contents ... OK
* checking for unstated dependencies in examples ... OK
* checking installed files from 'inst/doc' ... OK
* checking files in 'vignettes' ... OK
* checking examples ...
** running examples for arch 'i386' ... OK
** running examples for arch 'x64' ... OK
* checking for unstated dependencies in vignettes ... OK
* checking package vignettes in 'inst/doc' ... OK
* checking running R code from vignettes ... SKIPPED
* checking re-building of vignette outputs ... SKIPPED
* checking PDF version of manual ... OK
* DONE

Status: 2 NOTEs
See
  'C:/Users/biocbuild/bbs-3.7-bioc/meat/cnvGSA.Rcheck/00check.log'
for details.



Installation output

cnvGSA.Rcheck/00install.out


install for i386

* installing *source* package 'cnvGSA' ...
** R
** inst
** preparing package for lazy loading
** help
*** installing help indices
  converting help for package 'cnvGSA'
    finding HTML links ... done
    CnvGSAInput-class                       html  
    CnvGSAOutput-class                      html  
    cnvGSA-package                          html  
    cnvGSAIn                                html  
    cnvGSAgsTables                          html  
    cnvGSAlogRegTest                        html  
    f.enrFiles                              html  
    f.makeViz                               html  
    f.readConfig                            html  
** building package indices
** installing vignettes
** testing if installed package can be loaded
In R CMD INSTALL

install for x64

* installing *source* package 'cnvGSA' ...
** testing if installed package can be loaded
* MD5 sums
packaged installation of 'cnvGSA' as cnvGSA_1.23.0.zip
* DONE (cnvGSA)
In R CMD INSTALL
In R CMD INSTALL

Tests output


Example timings

cnvGSA.Rcheck/examples_i386/cnvGSA-Ex.timings

nameusersystemelapsed
CnvGSAInput-class000
CnvGSAOutput-class000
cnvGSAIn0.690.030.84
cnvGSAgsTables0.600.050.70
cnvGSAlogRegTest0.460.020.47
f.enrFiles000
f.makeViz000
f.readConfig0.450.000.46

cnvGSA.Rcheck/examples_x64/cnvGSA-Ex.timings

nameusersystemelapsed
CnvGSAInput-class000
CnvGSAOutput-class000
cnvGSAIn0.430.000.43
cnvGSAgsTables0.360.020.38
cnvGSAlogRegTest0.340.000.34
f.enrFiles000
f.makeViz000
f.readConfig0.370.010.40