Back to Multiple platform build/check report for BioC 3.7
AB[C]DEFGHIJKLMNOPQRSTUVWXYZ

INSTALL report for clipper on merida2

This page was generated on 2018-08-18 10:30:55 -0400 (Sat, 18 Aug 2018).

Package 254/1559HostnameOS / ArchINSTALLBUILDCHECKBUILD BIN
clipper 1.20.1
Paolo Martini
Snapshot Date: 2018-08-17 16:45:10 -0400 (Fri, 17 Aug 2018)
URL: https://git.bioconductor.org/packages/clipper
Branch: RELEASE_3_7
Last Commit: ef0a6fe
Last Changed Date: 2018-05-02 09:56:36 -0400 (Wed, 02 May 2018)
malbec2 Linux (Ubuntu 16.04.1 LTS) / x86_64  OK  OK  OK UNNEEDED, same version exists in internal repository
tokay2 Windows Server 2012 R2 Standard / x64  OK  OK  OK  OK UNNEEDED, same version exists in internal repository
merida2 OS X 10.11.6 El Capitan / x86_64 [ OK ] OK  OK  OK UNNEEDED, same version exists in internal repository

Summary

Package: clipper
Version: 1.20.1
Command: /Library/Frameworks/R.framework/Versions/Current/Resources/bin/R CMD INSTALL clipper
StartedAt: 2018-08-17 18:34:24 -0400 (Fri, 17 Aug 2018)
EndedAt: 2018-08-17 18:34:49 -0400 (Fri, 17 Aug 2018)
EllapsedTime: 25.8 seconds
RetCode: 0
Status:  OK 

Command output

##############################################################################
##############################################################################
###
### Running command:
###
###   /Library/Frameworks/R.framework/Versions/Current/Resources/bin/R CMD INSTALL clipper
###
##############################################################################
##############################################################################


* installing to library ‘/Library/Frameworks/R.framework/Versions/3.5/Resources/library’
* installing *source* package ‘clipper’ ...
** R
** inst
** byte-compile and prepare package for lazy loading
No methods found in package ‘GenomicRanges’ for request: ‘c’ when loading ‘qpgraph’
** help
*** installing help indices
** building package indices
** installing vignettes
** testing if installed package can be loaded
No methods found in package ‘GenomicRanges’ for request: ‘c’ when loading ‘qpgraph’
* DONE (clipper)