Back to Multiple platform build/check report for BioC 3.7
AB[C]DEFGHIJKLMNOPQRSTUVWXYZ

BUILD report for clipper on malbec2

This page was generated on 2018-08-18 10:03:49 -0400 (Sat, 18 Aug 2018).

Package 254/1559HostnameOS / ArchINSTALLBUILDCHECKBUILD BIN
clipper 1.20.1
Paolo Martini
Snapshot Date: 2018-08-17 16:45:10 -0400 (Fri, 17 Aug 2018)
URL: https://git.bioconductor.org/packages/clipper
Branch: RELEASE_3_7
Last Commit: ef0a6fe
Last Changed Date: 2018-05-02 09:56:36 -0400 (Wed, 02 May 2018)
malbec2 Linux (Ubuntu 16.04.1 LTS) / x86_64  OK [ OK ] OK UNNEEDED, same version exists in internal repository
tokay2 Windows Server 2012 R2 Standard / x64  OK  OK  OK  OK UNNEEDED, same version exists in internal repository
merida2 OS X 10.11.6 El Capitan / x86_64  OK  OK  OK  OK UNNEEDED, same version exists in internal repository

Summary

Package: clipper
Version: 1.20.1
Command: /home/biocbuild/bbs-3.7-bioc/R/bin/R CMD build --keep-empty-dirs --no-resave-data clipper
StartedAt: 2018-08-17 19:43:43 -0400 (Fri, 17 Aug 2018)
EndedAt: 2018-08-17 19:44:41 -0400 (Fri, 17 Aug 2018)
EllapsedTime: 57.5 seconds
RetCode: 0
Status:  OK 
PackageFile: clipper_1.20.1.tar.gz
PackageFileSize: 969.9 KiB

Command output

##############################################################################
##############################################################################
###
### Running command:
###
###   /home/biocbuild/bbs-3.7-bioc/R/bin/R CMD build --keep-empty-dirs --no-resave-data clipper
###
##############################################################################
##############################################################################


* checking for file ‘clipper/DESCRIPTION’ ... OK
* preparing ‘clipper’:
* checking DESCRIPTION meta-information ... OK
* installing the package to build vignettes
* creating vignettes ... OK
* checking for LF line-endings in source and make files and shell scripts
* checking for empty or unneeded directories
* building ‘clipper_1.20.1.tar.gz’