Back to Multiple platform build/check report for BioC 3.7
AB[C]DEFGHIJKLMNOPQRSTUVWXYZ

BUILD report for chromstaR on malbec2

This page was generated on 2018-04-21 09:12:58 -0400 (Sat, 21 Apr 2018).

Package 241/1551HostnameOS / ArchINSTALLBUILDCHECKBUILD BIN
chromstaR 1.5.2
Aaron Taudt
Snapshot Date: 2018-04-20 16:45:23 -0400 (Fri, 20 Apr 2018)
URL: https://git.bioconductor.org/packages/chromstaR
Branch: master
Last Commit: 7c69071
Last Changed Date: 2018-04-18 04:06:33 -0400 (Wed, 18 Apr 2018)
malbec2 Linux (Ubuntu 16.04.1 LTS) / x86_64  OK [ OK ] OK UNNEEDED, same version exists in internal repository
tokay2 Windows Server 2012 R2 Standard / x64  OK  OK  OK  OK UNNEEDED, same version exists in internal repository
merida2 OS X 10.11.6 El Capitan / x86_64  OK  OK  OK  OK UNNEEDED, same version exists in internal repository

Summary

Package: chromstaR
Version: 1.5.2
Command: /home/biocbuild/bbs-3.7-bioc/R/bin/R CMD build --keep-empty-dirs --no-resave-data chromstaR
StartedAt: 2018-04-20 20:56:55 -0400 (Fri, 20 Apr 2018)
EndedAt: 2018-04-20 21:01:38 -0400 (Fri, 20 Apr 2018)
EllapsedTime: 283.4 seconds
RetCode: 0
Status:  OK 
PackageFile: chromstaR_1.5.2.tar.gz
PackageFileSize: 6.532 MiB

Command output

##############################################################################
##############################################################################
###
### Running command:
###
###   /home/biocbuild/bbs-3.7-bioc/R/bin/R CMD build --keep-empty-dirs --no-resave-data chromstaR
###
##############################################################################
##############################################################################


* checking for file ‘chromstaR/DESCRIPTION’ ... OK
* preparing ‘chromstaR’:
* checking DESCRIPTION meta-information ... OK
* cleaning src
* installing the package to build vignettes
* creating vignettes ... OK
* cleaning src
* checking for LF line-endings in source and make files and shell scripts
* checking for empty or unneeded directories
* looking to see if a ‘data/datalist’ file should be added
* building ‘chromstaR_1.5.2.tar.gz’