Back to Multiple platform build/check report for BioC 3.7
AB[C]DEFGHIJKLMNOPQRSTUVWXYZ

BUILD report for chromDraw on merida2

This page was generated on 2018-08-18 10:33:51 -0400 (Sat, 18 Aug 2018).

Package 241/1559HostnameOS / ArchINSTALLBUILDCHECKBUILD BIN
chromDraw 2.10.0
Jan Janecka
Snapshot Date: 2018-08-17 16:45:10 -0400 (Fri, 17 Aug 2018)
URL: https://git.bioconductor.org/packages/chromDraw
Branch: RELEASE_3_7
Last Commit: 75b3c75
Last Changed Date: 2018-04-30 10:35:35 -0400 (Mon, 30 Apr 2018)
malbec2 Linux (Ubuntu 16.04.1 LTS) / x86_64  OK  OK  WARNINGS UNNEEDED, same version exists in internal repository
tokay2 Windows Server 2012 R2 Standard / x64  OK  OK  WARNINGS  OK UNNEEDED, same version exists in internal repository
merida2 OS X 10.11.6 El Capitan / x86_64  OK [ OK ] WARNINGS  OK UNNEEDED, same version exists in internal repository

Summary

Package: chromDraw
Version: 2.10.0
Command: /Library/Frameworks/R.framework/Versions/Current/Resources/bin/R CMD build --keep-empty-dirs --no-resave-data chromDraw
StartedAt: 2018-08-17 20:09:29 -0400 (Fri, 17 Aug 2018)
EndedAt: 2018-08-17 20:11:26 -0400 (Fri, 17 Aug 2018)
EllapsedTime: 116.7 seconds
RetCode: 0
Status:  OK 
PackageFile: chromDraw_2.10.0.tar.gz
PackageFileSize: 2.148 MiB

Command output

##############################################################################
##############################################################################
###
### Running command:
###
###   /Library/Frameworks/R.framework/Versions/Current/Resources/bin/R CMD build --keep-empty-dirs --no-resave-data chromDraw
###
##############################################################################
##############################################################################


* checking for file ‘chromDraw/DESCRIPTION’ ... OK
* preparing ‘chromDraw’:
* checking DESCRIPTION meta-information ... OK
* cleaning src
* installing the package to build vignettes
* creating vignettes ... OK
* cleaning src
* checking for LF line-endings in source and make files and shell scripts
* checking for empty or unneeded directories
* building ‘chromDraw_2.10.0.tar.gz’