Back to Multiple platform build/check report for BioC 3.7
AB[C]DEFGHIJKLMNOPQRSTUVWXYZ

BUILD report for chimera on malbec2

This page was generated on 2018-07-19 10:34:52 -0400 (Thu, 19 Jul 2018).

Package 225/1560HostnameOS / ArchINSTALLBUILDCHECKBUILD BIN
chimera 1.22.0
Raffaele A Calogero
Snapshot Date: 2018-07-18 16:45:10 -0400 (Wed, 18 Jul 2018)
URL: https://git.bioconductor.org/packages/chimera
Branch: RELEASE_3_7
Last Commit: a334c3d
Last Changed Date: 2018-04-30 10:35:29 -0400 (Mon, 30 Apr 2018)
malbec2 Linux (Ubuntu 16.04.1 LTS) / x86_64  OK [ OK ] OK UNNEEDED, same version exists in internal repository
tokay2 Windows Server 2012 R2 Standard / x64  OK  OK  OK  OK UNNEEDED, same version exists in internal repository
merida2 OS X 10.11.6 El Capitan / x86_64  OK  OK  OK  OK UNNEEDED, same version exists in internal repository

Summary

Package: chimera
Version: 1.22.0
Command: /home/biocbuild/bbs-3.7-bioc/R/bin/R CMD build --keep-empty-dirs --no-resave-data chimera
StartedAt: 2018-07-18 19:43:12 -0400 (Wed, 18 Jul 2018)
EndedAt: 2018-07-18 19:44:17 -0400 (Wed, 18 Jul 2018)
EllapsedTime: 64.2 seconds
RetCode: 0
Status:  OK 
PackageFile: chimera_1.22.0.tar.gz
PackageFileSize: 2.149 MiB

Command output

##############################################################################
##############################################################################
###
### Running command:
###
###   /home/biocbuild/bbs-3.7-bioc/R/bin/R CMD build --keep-empty-dirs --no-resave-data chimera
###
##############################################################################
##############################################################################


* checking for file ‘chimera/DESCRIPTION’ ... OK
* preparing ‘chimera’:
* checking DESCRIPTION meta-information ... OK
* cleaning src
* installing the package to build vignettes
* creating vignettes ... OK
* cleaning src
* checking for LF line-endings in source and make files and shell scripts
* checking for empty or unneeded directories
* building ‘chimera_1.22.0.tar.gz’